Workbook
Name TU: トータル!$A$345

Sheet 船社①
C2: 船社ごとのWEBサイトは以下の通りです。
B3: NO. | C3: POD | J3: CARRIER | K3: SERVICE | L3: URL | M3: INSTCURTION
B4: 1 | C4: PUSAN, KOREA | J4: NAMSUNG | K4: CJS | L4: https://nsl-japan.co.jp/monthly_schedule/ | M4: "京浜積み"を参照。 | N4: ※1
J5: DONYOUNG | K5: NC1 | L5: https://nsl-japan.co.jp/monthly_schedule/ | M5: "京浜積み"を参照。
B6: 2 | C6: INCHEON, KOREA | J6: DAIEI | K6: 上から4番目 | L6: https://www.daieiship.co.jp/schedule.php | M6: 上から4つ目の段を参照。 | N6: ※2
B7: 3 | C7: DUBAI, JEBEL ALI | J7: ONE | K7: JID | L7: https://jp.one-line.com/ja/schedules/export | M7: 西アジア_中東輸出を参照。
B8: 4 | C8: KEELUNG, TAIWAN | J8: YML | K8: JTC | L8: https://www.yangming.com/en/esolution/schedule/long_term_schedule_download | M8: "ASIA→JTC (S BOUND)"を参照。
B9: 5 | C9: TAICHUNG, TAIWAN | J9: TSL | K9: JTK2 | L9: https://www.tslines.com/jp/scheduledownload | M9: 日本→台湾・香港・韓国を参照。
B10: 6 | C10: KAOHSIUNG, TAIWAN | J10: YML | K10: JTC | L10: https://www.yangming.com/en/esolution/schedule/long_term_schedule_download | M10: "ASIA→JTC (S BOUND)"を参照。
B11: 7 | C11: SHANGHAI, CHINA | J11: JINJANG | K11: SJK1 & SJK2 | L11: https://www.jinjiangshipping.com/schedule.html | M11: SHOW "上海⇔関東・中部
B12: 8 | C12: QINGDAO, CHINA | J12: NAIGAI | K12: 検索 | L12: https://www.ntl-naigai.co.jp/guest/place.html | M12: 中国を選び、受け地を横浜にしてください。 | N12: ※3
B13: 9 | C13: DALIAN, CHINA | J13: FPS | K13: 検索 | L13: https://www.fpsjapan.co.jp/schedule/index.html | M13: "関東", "DALIAN"を参照。
B14: 10 | C14: XINGANG, CHINA | J14: NAIGAI | K14: 検索 | L14: https://www.ntl-naigai.co.jp/guest/place.html | M14: 中国を選び、受け地を横浜にしてください。
B15: 11 | C15: NINGBO, CHINA | J15: NAIGAI | K15: 検索 | L15: https://www.ntl-naigai.co.jp/guest/place.html | M15: 中国を選び、受け地を横浜にしてください。
B16: 12 | C16: XIAMEN, CHINA | J16: NAIGAI | K16: 検索 | L16: https://www.ntl-naigai.co.jp/guest/place.html | M16: 中国を選び、受け地を横浜にしてください。
B17: 13 | C17: HONＧ KONG | J17: ONE | K17: JPH | L17: https://jp.one-line.com/ja/schedules/export | M17: "中国・香港・海峡地・インドネシア"を参照。
J18: OOCL | K18: KTX4 | L18: https://www.oocl.com/jpn/ourservices/eservices/sailingschedule/Pages/nwjpn.aspx | M18: 台湾・中国（福建省）を参照。
B19: 14 | C19: SINGAPORE | J19: ONE | K19: JID | L19: https://jp.one-line.com/ja/schedules/export | M19: "中国・香港・海峡地・インドネシア"を参照。
J20: IAL | K20: NS1 | L20: https://www.interasia.cc/Service/Calendar | M20: "マレ－シア・シンガポール"を参照。
B21: 15 | C21: JAKARTA | J21: ONE | K21: JID | L21: https://jp.one-line.com/ja/schedules/export | M21: SHOW "中国・香港・海峡地・インドネシア"
B22: 16 | C22: PORT KELANG | J22: WHL | K22: NS1 | L22: https://jp.wanhai.com/views/content/ContentPage.xhtml?web_code=whl_jp&file_num=76446&file_num=76446&parent_id=76761&top_file_num=64735 | M22: SHOW "関東/シンガポール・マレーシア
B23: 17 | C23: MANILA NORTH | J23: ONE | K23: JPH | L23: https://jp.one-line.com/ja/schedules/export | M23: SHOW "タイ・ベトナム・韓国・台湾・フィリピン"
B24: 18 | C24: HOCHIMINH | J24: IAL | K24: JCV | L24: https://www.interasia.cc/Service/Calendar | M24: SHOW "ベトナム-カンボジア(プノンペン)向け"
B25: 19 | C25: HAIPHONG | J25: ONE | K25: JVH | L25: https://jp.wanhai.com/views/content/ContentPage.xhtml?web_code=whl_jp&file_num=76446&file_num=76446&parent_id=76761&top_file_num=64735 | M25: SHOW "タイ・ベトナム→ベトナム2輸出(Vietnam2)
B26: 20 | C26: BANGKOK | J26: YML | K26: JTC | L26: https://www.yangming.com/en/esolution/schedule/long_term_schedule_download | M26: "ASIA→JTC (S BOUND)"を参照。
B27: 21 | C27: LAEM CHABANG | J27: YML | K27: JTC | L27: https://www.yangming.com/en/esolution/schedule/long_term_schedule_download | M27: "ASIA→JTC (S BOUND)"を参照。

Sheet 船社②
B3: ※1 京浜（けいひん）を選択してください。
B11: ※2 | C11: PLS SHOW 4th column from top.
B14: ※２ 上から4つ目の本船を参照してください。
B23: ※3 | C23: SHOW "上海⇔関東・中部
B29: ※3 | C29: エリア→受け地→仕向地の順に選択してください。

Sheet 目次
B2: TOKYO/YOKOHAMA発│輸出LCL
B4: 1.韓国 釜山 （ PUSAN ）
B6: 2.韓国 仁川 （ INCHEON ）
B8: 3.ドバイ （ DUBAI, JEBEL ALI ）
B10: 4.台湾 基隆 （ KEELUNG ）
B12: 5.台湾 台中 （ TAICHUNG ）
B14: 6.台湾 高雄 （ KAOHSIUNG ）
B16: 7.香港 （ HONG KONG ）
B18: 8.シンガポール （ SINGAPORE ）
B20: 9.マレーシア ポートケラン （ PORT KELANG ）
B22: 10.インドネシア ジャカルタ （ JAKARTA ）
B24: 11.フィリピン マニラ （ MANILA NORTH ）
... B44: 21.中国 厦門 （ XIAMEN ）

Sheet トータル
B2: CSV出力 | K2: =TODAY() -> 46303
A5: 留意点 | B5: VESSEL | C5: VOY.NO. | D5: 出港日 | E5: 積地・CUT (3CODE) | F5: 積地・CUT日 | G5: CUT2 (3CODE) | H5: CUT2日 | I5: 着日 | J5: 仕向地 | K5: CARRIER | L5: MEMO | M5: MASTER BKG NO.
B6: PUSAN （横浜出港） | F6: ETD -2営業日
B7: SITC SHENZHEN | C7: 2624S | D7: 10/14-14 | E7: YOK | F7: 10/09 | I7: 10/17 | J7: PUS | K7: NAMSUNG
B8: PEGASUS GLORY | C8: 2625W | D8: 10/20-20 | E8: YOK | F8: 10/16 | I8: 10/24 | J8: PUS | K8: NAMSUNG
B9: NO SERVICE | C9: N/A | D9: 10/21-21 | E9: YOK | F9: 10/19 | I9: 10/25 | J9: PUS | K9: NAMSUNG
B10: DONGJIN FORTUNE | C10: 0206N | D10: 10/23-23 | E10: YOK | F10: 10/21 | I10: 10/27 | J10: PUS | K10: NAMSUNG
B11: JI YONG | C11: 1053W | D11: 10/28-28 | E11: YOK | F11: 10/26 | I11: 11/01 | J11: PUS | K11: NAMSUNG
B12: DONGJIN FORTUNE | C12: 0207N | D12: 10/30-30 | E12: YOK | F12: 10/28 | I12: 11/03 | J12: PUS | K12: NAMSUNG
B13: JI YONG | C13: 1054W | D13: 11/04-04 | E13: YOK | F13: 10/30 | I13: 11/08 | J13: PUS | K13: NAMSUNG
B14: DONGJIN FORTUNE | C14: 0208N | D14: 11/06-06 | E14: YOK | F14: 11/04 | I14: 11/10 | J14: PUS | K14: NAMSUNG
B15: JI YONG | C15: 1055W | D15: 11/11-11 | E15: YOK | F15: 11/09 | I15: 11/15 | J15: PUS | K15: NAMSUNG
B16: DONGJIN FORTUNE | C16: 0209N | D16: 11/13-13 | E16: YOK | F16: 11/11 | I16: 11/17 | J16: PUS | K16: NAMSUNG
B17: JI YONG | C17: 1056W | D17: 11/18-18 | E17: YOK | F17: 11/16 | I17: 11/22 | J17: PUS | K17: NAMSUNG
B18: DONGJIN FORTUNE | C18: 0210N | D18: 11/20-20 | E18: YOK | F18: 11/18 | I18: 11/24 | J18: PUS | K18: NAMSUNG
... B21: JI YONG | C21: 1058W | D21: 12/02-02 | E21: YOK | F21: 11/30 | I21: 12/06 | J21: PUS | K21: NAMSUNG
D22: 12/04-04 | E22: YOK | F22: 12/02 | I22: 12/08 | J22: PUS | K22: NAMSUNG
D23: 12/09-09 | E23: YOK | F23: 12/07 | I23: 12/13 | J23: PUS | K23: NAMSUNG
D24: 12/11-11 | E24: YOK | F24: 12/09 | I24: 12/15 | J24: PUS | K24: NAMSUNG
D25: 12/16-16 | E25: YOK | F25: 12/14 | I25: 12/20 | J25: PUS | K25: NAMSUNG
D26: 12/18-18 | E26: YOK | F26: 12/16 | I26: 12/22 | J26: PUS | K26: NAMSUNG
D27: 12/23-23 | E27: YOK | F27: 12/21 | I27: 12/27 | J27: PUS | K27: NAMSUNG
D28: 12/25-25 | E28: YOK | F28: 12/23 | I28: 12/29 | J28: PUS | K28: NAMSUNG
B30: PUSAN （東京出港） | F30: ETD -3営業日
B31: PEGASUS GLORY | C31: 2625W | D31: 10/20-20 | E31: TYO | F31: 10/15 | I31: 10/24 | J31: PUS | K31: NAMSUNG
B32: DONGJIN FORTUNE | C32: 0206N | D32: 10/23-23 | E32: TYO | F32: 10/20 | I32: 10/27 | J32: PUS | K32: NAMSUNG
B33: DONGJIN FORTUNE | C33: 0207N | D33: 10/30-30 | E33: TYO | F33: 10/27 | I33: 11/03 | J33: PUS | K33: NAMSUNG
B34: DONGJIN FORTUNE | C34: 0208N | D34: 11/06-06 | E34: TYO | F34: 11/02 | I34: 11/10 | J34: PUS | K34: NAMSUNG
B35: DONGJIN FORTUNE | C35: 0209N | D35: 11/13-13 | E35: TYO | F35: 11/10 | I35: 11/17 | J35: PUS | K35: NAMSUNG
B36: DONGJIN FORTUNE | C36: 0210N | D36: 11/20-20 | E36: TYO | F36: 11/17 | I36: 11/24 | J36: PUS | K36: NAMSUNG
B37: DONGJIN FORTUNE | C37: 0211N | D37: 11/27-27 | E37: TYO | F37: 11/24 | I37: 12/01 | J37: PUS | K37: NAMSUNG
D38: 12/04-04 | E38: TYO | F38: 12/01 | I38: 12/08 | J38: PUS | K38: NAMSUNG
D39: 12/11-11 | E39: TYO | F39: 12/08 | I39: 12/15 | J39: PUS | K39: NAMSUNG
D40: 12/18-18 | E40: TYO | F40: 12/15 | I40: 12/22 | J40: PUS | K40: NAMSUNG
B41: 同じ船名 | C41: 1ずつ増える | D41: （金） | F41: ETD -2営業日
B42: VICTORY STAR | C42: 2627W | D42: 10/09-09 | E42: YOK | F42: 10/07 | G42: TYO | H42: 10/07 | I42: 10/14 | J42: INH | K42: DAIEI
B43: TY INCHEON | C43: 2627W | D43: 10/16-16 | E43: YOK | F43: 10/14 | G43: TYO | H43: 10/14 | I43: 10/21 | J43: INH | K43: DAIEI
B44: ATLANTIC BRIDGE | C44: 2630W | D44: 10/23-23 | E44: YOK | F44: 10/21 | G44: TYO | H44: 10/21 | I44: 10/28 | J44: INH | K44: DAIEI
B45: VICTORY STAR | C45: 2629W | D45: 10/30-30 | E45: YOK | F45: 10/28 | G45: TYO | H45: 10/28 | I45: 11/04 | J45: INH | K45: DAIEI
B46: TY INCHEON | C46: 2629W | D46: 11/06-06 | E46: YOK | F46: 11/04 | G46: TYO | H46: 11/04 | I46: 11/11 | J46: INH | K46: DAIEI
B47: ATLANTIC BRIDGE | C47: 2632W | D47: 11/13-13 | E47: YOK | F47: 11/11 | G47: TYO | H47: 11/11 | I47: 11/18 | J47: INH | K47: DAIEI
B48: VICTORY STAR | C48: 2631W | D48: 11/20-20 | E48: YOK | F48: 11/18 | G48: TYO | H48: 11/18 | I48: 11/25 | J48: INH | K48: DAIEI
D49: 11/27-27 | E49: YOK | F49: 11/25 | G49: TYO | H49: 11/25 | I49: 12/02 | J49: INH | K49: DAIEI
J50: INH | K50: DAIEI
B51: JBA | D51: （日） | F51: ETD -2営業日 | N51: JBA | O51: VOY | P51: ETD | Q51: 積み地・CUT | R51: CUT日 | S51: ETA
A52: ● | B52: GLORY ZHENDONG | C52: 2640S | D52: 10/05-05 | E52: YOK | F52: 09/30 | I52: 11/21 | J52: JBA | K52: CU LINE | N52: WILLIAM | O52: 0QIO7S1NC | P52: 05/18-19 | Q52: YOK | R52: 05/14 | S52: 06/29 | T52: JBA
B53: NAVIOS CHRYSALIS | C53: 018S | D53: 10/21-23 | E53: YOK | F53: 10/14 | I53: 11/21 | J53: JBA | K53: CU LINE | N53: SHUN LONG | O53: 0QIO9S1NC | P53: 05/25-26 | Q53: YOK | R53: 05/21 | S53: 07/10 | T53: JBA
B54: ATHENS BRIDGE | C54: 1190S | D54: 10/28-30 | E54: YOK | F54: 10/21 | I54: 11/24 | J54: JBA | K54: CU LINE | Q54: YOK | T54: JBA
J55: JBA | K55: ONE | Q55: YOK | T55: JBA
J56: JBA | K56: ONE
J57: JBA
J58: JBA
J59: JBA
J60: JBA
J61: JBA
A66: チェックOK | B66: KLG JTK2 (VOYAGE2飛ばし） | D66: （金） | F66: ETD -2営業日
B67: YM INCEPTION | C67: 251S | D67: 10/23-23 | E67: YOK | F67: 10/21 | G67: TYO | H67: 10/21 | I67: 10/28 | J67: KLG | K67: YML
B68: YM IMMENSE | C68: 412S | D68: 10/30-30 | E68: YOK | F68: 10/28 | G68: TYO | H68: 10/28 | I68: 11/04 | J68: KLG | K68: YML
B69: HORAI BRIDGE | C69: 230S | D69: 11/06-06 | E69: YOK | F69: 11/04 | G69: TYO | H69: 11/04 | I69: 11/11 | J69: KLG | K69: YML
B70: YM IMPROVEMENT | C70: 280S | D70: 11/13-13 | E70: YOK | F70: 11/11 | G70: TYO | H70: 11/11 | I70: 11/18 | J70: KLG | K70: YML
B71: YM INCEPTION | C71: 252S | D71: 11/20-20 | E71: YOK | F71: 11/18 | G71: TYO | H71: 11/18 | I71: 11/25 | J71: KLG | K71: YML
B72: YM IMMENSE | C72: 413S | D72: 11/27-27 | E72: YOK | F72: 11/25 | G72: TYO | H72: 11/25 | I72: 12/02 | J72: KLG | K72: YML
B73: HORAI BRIDGE | C73: 231S | D73: 12/04-04 | E73: YOK | F73: 12/02 | G73: TYO | H73: 12/02 | I73: 12/09 | J73: KLG | K73: YML
B74: YM IMPROVEMENT | C74: 281S | D74: 12/11-11 | E74: YOK | F74: 12/09 | G74: TYO | H74: 12/09 | I74: 12/16 | J74: KLG | K74: YML
B75: YM INCEPTION | C75: 253S | D75: 12/18-18 | E75: YOK | F75: 12/16 | G75: TYO | H75: 12/16 | I75: 12/23 | J75: KLG | K75: YML
B76: YM IMMENSE | C76: 414S | D76: 12/25-25 | E76: YOK | F76: 12/23 | G76: TYO | H76: 12/23 | I76: 12/30 | J76: KLG | K76: YML
D77: 01/01-01 | E77: YOK | F77: 12/30 | G77: TYO | H77: 12/30 | I77: 01/06 | J77: KLG | K77: YML
D78: 01/08-08 | E78: YOK | F78: 01/06 | G78: TYO | H78: 01/06 | I78: 01/13 | J78: KLG | K78: YML
D79: 01/15-15 | E79: YOK | F79: 01/13 | G79: TYO | H79: 01/13 | I79: 01/20 | J79: KLG | K79: YML
D80: 01/22-22 | E80: YOK | F80: 01/20 | G80: TYO | H80: 01/20 | I80: 01/27 | J80: KLG | K80: YML
A81: チェックOK | B81: KHH | D81: （金） | F81: ETD -2営業日
B82: YM INCEPTION | C82: 251S | D82: 10/23-23 | E82: YOK | F82: 10/21 | G82: TYO | H82: 10/21 | I82: 10/29 | J82: KHH | K82: YML
B83: YM IMMENSE | C83: 412S | D83: 10/30-30 | E83: YOK | F83: 10/28 | G83: TYO | H83: 10/28 | I83: 11/05 | J83: KHH | K83: YML
B84: HORAI BRIDGE | C84: 230S | D84: 11/06-06 | E84: YOK | F84: 11/04 | G84: TYO | H84: 11/04 | I84: 11/12 | J84: KHH | K84: YML
B85: YM IMPROVEMENT | C85: 280S | D85: 11/13-13 | E85: YOK | F85: 11/11 | G85: TYO | H85: 11/11 | I85: 11/19 | J85: KHH | K85: YML
B86: YM INCEPTION | C86: 252S | D86: 11/20-20 | E86: YOK | F86: 11/18 | G86: TYO | H86: 11/18 | I86: 11/26 | J86: KHH | K86: YML
B87: YM IMMENSE | C87: 413S | D87: 11/27-27 | E87: YOK | F87: 11/25 | G87: TYO | H87: 11/25 | I87: 12/03 | J87: KHH | K87: YML
B88: HORAI BRIDGE | C88: 231S | D88: 12/04-04 | E88: YOK | F88: 12/02 | G88: TYO | H88: 12/02 | I88: 12/10 | J88: KHH | K88: YML
B89: YM IMPROVEMENT | C89: 281S | D89: 12/11-11 | E89: YOK | F89: 12/09 | G89: TYO | H89: 12/09 | I89: 12/17 | J89: KHH | K89: YML
B90: YM INCEPTION | C90: 253S | D90: 12/18-18 | E90: YOK | F90: 12/16 | G90: TYO | H90: 12/16 | I90: 12/24 | J90: KHH | K90: YML
B91: YM IMMENSE | C91: 414S | D91: 12/25-25 | E91: YOK | F91: 12/23 | G91: TYO | H91: 12/23 | I91: 12/31 | J91: KHH | K91: YML
D92: 01/01-01 | E92: YOK | F92: 12/30 | G92: TYO | H92: 12/30 | I92: 01/07 | J92: KHH | K92: YML
D93: 01/08-08 | E93: YOK | F93: 01/06 | G93: TYO | H93: 01/06 | I93: 01/14 | J93: KHH | K93: YML
D94: 01/15-15 | E94: YOK | F94: 01/13 | G94: TYO | H94: 01/13 | I94: 01/21 | J94: KHH | K94: YML
D95: 01/22-22 | E95: YOK | F95: 01/20 | G95: TYO | H95: 01/20 | I95: 01/28 | J95: KHH | K95: YML
A96: チェックOK | B96: CY CUT: 木 CFS CUT 火 | D96: （金） | F96: ETD -3営業日
B97: TS PENANG | C97: 2635S | D97: 10/06-06 | E97: YOK | F97: 10/01 | G97: TYO | H97: 10/01 | I97: 10/12 | J97: TCG | K97: TSL
B98: NO SERVICE | C98: N/A | D98: 10/13-13 | E98: YOK | F98: 10/07 | G98: TYO | H98: 10/07 | I98: 10/19 | J98: TCG | K98: TSL
B99: TS MAWEI | C99: 2621S | D99: 10/20-20 | E99: YOK | F99: 10/15 | G99: TYO | H99: 10/15 | I99: 10/26 | J99: TCG | K99: TSL
B100: TS HAKATA | C100: 2621S | D100: 10/27-27 | E100: YOK | F100: 10/22 | G100: TYO | H100: 10/22 | I100: 11/02 | J100: TCG | K100: TSL
B101: TS MAWEI | C101: 2622S | D101: 11/03-03 | E101: YOK | F101: 10/29 | G101: TYO | H101: 10/29 | I101: 11/09 | J101: TCG | K101: TSL
B102: TS HAKATA | C102: 2622S | D102: 11/10-10 | E102: YOK | F102: 11/05 | G102: TYO | H102: 11/05 | I102: 11/16 | J102: TCG | K102: TSL
B103: TS MAWEI | C103: 2623S | D103: 11/17-17 | E103: YOK | F103: 11/12 | G103: TYO | H103: 11/12 | I103: 11/23 | J103: TCG | K103: TSL
B104: TS HAKATA | C104: 2623S | D104: 11/24-24 | E104: YOK | F104: 11/18 | G104: TYO | H104: 11/18 | I104: 11/30 | J104: TCG | K104: TSL
D105: 12/01-01 | E105: YOK | F105: 11/26 | G105: TYO | H105: 11/26 | I105: 12/07 | J105: TCG | K105: TSL
D106: 12/08-08 | E106: YOK | F106: 12/03 | G106: TYO | H106: 12/03 | I106: 12/14 | J106: TCG | K106: TSL
D107: 12/15-15 | E107: YOK | F107: 12/10 | G107: TYO | H107: 12/10 | I107: 12/21 | J107: TCG | K107: TSL
D108: 12/22-22 | E108: YOK | F108: 12/17 | G108: TYO | H108: 12/17 | I108: 12/28 | J108: TCG | K108: TSL
D109: 12/29-29 | E109: YOK | F109: 12/24 | G109: TYO | H109: 12/24 | I109: 01/04 | J109: TCG | K109: TSL
B111: ↓以前のSHA向けは非表示にしてあります
...

Sheet 1.PUS(横浜出港)
A1: OCEAN LINKS SAILING-SCHEDULE >>> 関東積み
AD2: 最終更新日： | AE2: =TODAY() -> 46303
A3: 1.韓国 釜山 （ PUSAN ）LCL 横浜積み | O3: 遅延・抜港・港湾地区での混乱等により、予定通り運航できない場合がございます。ご迷惑をおかけしますがご理解の程よろしくお願い致します。
A4: 留意点 | B4: VESSEL | G4: VOY.NO. | J4: YOKOHAMA CUT | M4: ETD YOKOHAMA | P4: ETA PUSAN | S4: CARRIER | W4: 【重要】
A5: ●▲ | B5: =トータル!B7 -> SITC SHENZHEN | G5: =トータル!C7 -> 2624S | J5: =トータル!F7 -> 10/09 | M5: =トータル!D7 -> 10/14-14 | P5: =トータル!I7 -> 10/17 | S5: SITC | W5: BOOKINGご用命時､必ずご一読ください｡
A6: Ｈ▲ | B6: =トータル!B8 -> PEGASUS GLORY | G6: =トータル!C8 -> 2625W | J6: =トータル!F8 -> 10/16 | M6: =トータル!D8 -> 10/20-20 | P6: =トータル!I8 -> 10/24 | S6: =トータル!K8 -> NAMSUNG
A7: × | B7: =トータル!B9 -> NO SERVICE | G7: =トータル!C9 -> N/A | J7: =トータル!F9 -> 10/19 | M7: =トータル!D9 -> 10/21-21 | P7: =トータル!I9 -> 10/25 | S7: =トータル!K9 -> NAMSUNG | W7: 【推奨】
A8: Ｈ | B8: =トータル!B10 -> DONGJIN FORTUNE | G8: =トータル!C10 -> 0206N | J8: =トータル!F10 -> 10/21 | M8: =トータル!D10 -> 10/23-23 | P8: =トータル!I10 -> 10/27 | S8: =トータル!K10 -> NAMSUNG | W8: ONLINE BOOKINGをご活用ください。
B9: =トータル!B11 -> JI YONG | G9: =トータル!C11 -> 1053W | J9: =トータル!F11 -> 10/26 | M9: =トータル!D11 -> 10/28-28 | P9: =トータル!I11 -> 11/01 | S9: =トータル!K11 -> NAMSUNG | W9: ※BOOKING №を即時 発番可能です。
A10: Ｈ | B10: =トータル!B12 -> DONGJIN FORTUNE | G10: =トータル!C12 -> 0207N | J10: =トータル!F12 -> 10/28 | M10: =トータル!D12 -> 10/30-30 | P10: =トータル!I12 -> 11/03 | S10: =トータル!K12 -> NAMSUNG
A11: ● | B11: =トータル!B13 -> JI YONG | G11: =トータル!C13 -> 1054W | J11: =トータル!F13 -> 10/30 | M11: =トータル!D13 -> 11/04-04 | P11: =トータル!I13 -> 11/08 | S11: =トータル!K13 -> NAMSUNG
A12: Ｈ | B12: =トータル!B14 -> DONGJIN FORTUNE | G12: =トータル!C14 -> 0208N | J12: =トータル!F14 -> 11/04 | M12: =トータル!D14 -> 11/06-06 | P12: =トータル!I14 -> 11/10 | S12: =トータル!K14 -> NAMSUNG | W12: 【留意点のご説明】－－－－－－－－－－－－－－－－－－－－－－－－－
B13: =トータル!B15 -> JI YONG | G13: =トータル!C15 -> 1055W | J13: =トータル!F15 -> 11/09 | M13: =トータル!D15 -> 11/11-11 | P13: =トータル!I15 -> 11/15 | S13: =トータル!K15 -> NAMSUNG | W13: ● 祝日の為、CUT日が変更（前倒し）されております。ご注意ください
A14: Ｈ | B14: =トータル!B16 -> DONGJIN FORTUNE | G14: =トータル!C16 -> 0209N | J14: =トータル!F16 -> 11/11 | M14: =トータル!D16 -> 11/13-13 | P14: =トータル!I16 -> 11/17 | S14: =トータル!K16 -> NAMSUNG | W14: × 該当本船は、NO SERVICEとなります。
B15: =トータル!B17 -> JI YONG | G15: =トータル!C17 -> 1056W | J15: =トータル!F17 -> 11/16 | M15: =トータル!D17 -> 11/18-18 | P15: =トータル!I17 -> 11/22 | S15: =トータル!K17 -> NAMSUNG | W15: ▲ 本船名、VOY NO.等が変更されております。ご注意ください。
A16: Ｈ | B16: =トータル!B18 -> DONGJIN FORTUNE | G16: =トータル!C18 -> 0210N | J16: =トータル!F18 -> 11/18 | M16: =トータル!D18 -> 11/20-20 | P16: =トータル!I18 -> 11/24 | S16: =トータル!K18 -> NAMSUNG | W16: H 危険品および国内消防法該当の貨物はこちらの本船でお引き受け可能です。
A17: ● | B17: =トータル!B19 -> JI YONG | G17: =トータル!C19 -> 1057W | J17: =トータル!F19 -> 11/20 | M17: =トータル!D19 -> 11/25-25 | P17: =トータル!I19 -> 11/29 | S17: =トータル!K19 -> NAMSUNG
A18: Ｈ | B18: =トータル!B20 -> DONGJIN FORTUNE | G18: =トータル!C20 -> 0211N | J18: =トータル!F20 -> 11/25 | M18: =トータル!D20 -> 11/27-27 | O18: =トータル!D20 -> 11/27-27 | P18: =トータル!I20 -> 12/01 | R18: =トータル!I20 -> 12/01 | S18: =トータル!K20 -> NAMSUNG
B19: =トータル!B21 -> JI YONG | G19: =トータル!C21 -> 1058W | J19: =トータル!F21 -> 11/30 | M19: =トータル!D21 -> 12/02-02 | O19: =トータル!D21 -> 12/02-02 | P19: =トータル!I21 -> 12/06 | R19: =トータル!I21 -> 12/06 | S19: =トータル!K21 -> NAMSUNG
B20: =トータル!B22 -> 0 | G20: =トータル!C22 -> 0 | J20: =トータル!F22 -> 12/02 | M20: =トータル!H22 -> 0 | O20: =トータル!D22 -> 12/04-04 | R20: =トータル!I22 -> 12/08 | U20: =トータル!K22 -> NAMSUNG
B21: =トータル!B23 -> 0 | G21: =トータル!C23 -> 0 | J21: =トータル!F23 -> 12/07 | M21: =トータル!H23 -> 0 | O21: =トータル!D23 -> 12/09-09 | R21: =トータル!I23 -> 12/13 | U21: =トータル!K23 -> NAMSUNG
B22: =トータル!B24 -> 0 | G22: =トータル!C24 -> 0 | J22: =トータル!F24 -> 12/09 | M22: =トータル!H24 -> 0 | O22: =トータル!D24 -> 12/11-11 | R22: =トータル!I24 -> 12/15 | U22: =トータル!K24 -> NAMSUNG
A24: 横 浜 貨 物 搬 入 先 【予約制度】
A25: 株式会社宇徳 本牧A-6CFS ※『気付 オーシャンリンクス』 神奈川県横浜市中区本牧埠頭 9-1 TEL 045-264-7011/FAX 045-264-8036 保税名称 : 株式会社宇徳 本牧埠頭 A-6CFS 保税蔵置場 NACCS: 2EWT8 DOC送付先：①搬入倉庫送信先 : yok_exp_document@utoc.co.jp ②B/L作成部署送付先 : docs-tokyo@oceanlinks.co.jp ACL 船会社 コード：OCL1（オーシーエルイチ） ACL 通知先コード：4AOCL(ヨンエーオーシーエル） ACL 通知先コード：2RUTK(ニアールユーティーケー） 搬入予約・搬入確認の方法については下記URLよりご確認ください。
A33: 'https://www.utoc.co.jp/business/logistics/warehouse/cfs/
A35: 大阪本社 TEL (06) 6263-5923 / FAX (06) 6263-6104
A36: 東京支店 TEL (03) 5543-2361 / FAX (03) 5543-2363
A37: 横浜営業所 TEL (045) 323-9875 / FAX (045) 323-9876

Sheet 2.PUS(東京出港）
A1: OCEAN LINKS SAILING-SCHEDULE >>> 関東積み
AB2: 最終更新日： | AC2: =TODAY() -> 46303
A3: 2.韓国 釜山 （ PUSAN ）LCL 東京積み | M3: 遅延・抜港・港湾地区での混乱等により、予定通り運航できない場合がございます。ご迷惑をおかけしますがご理解の程よろしくお願い致します。
A4: 留意点 | B4: VESSEL | G4: VOY.NO. | J4: CUT TOKYO | M4: ETD TOKYO | P4: ETA PUSAN | S4: CARRIER | W4: 【重要】
A5: ▲ | B5: =トータル!B31 -> PEGASUS GLORY | G5: =トータル!C31 -> 2625W | J5: =トータル!F31 -> 10/15 | M5: =トータル!D31 -> 10/20-20 | P5: =トータル!I31 -> 10/24 | S5: =トータル!K31 -> NAMSUNG | W5: BOOKINGご用命時､必ずご一読ください｡
B6: =トータル!B32 -> DONGJIN FORTUNE | G6: =トータル!C32 -> 0206N | J6: =トータル!F32 -> 10/20 | M6: =トータル!D32 -> 10/23-23 | P6: =トータル!I32 -> 10/27 | S6: =トータル!K32 -> NAMSUNG
B7: =トータル!B33 -> DONGJIN FORTUNE | G7: =トータル!C33 -> 0207N | J7: =トータル!F33 -> 10/27 | M7: =トータル!D33 -> 10/30-30 | P7: =トータル!I33 -> 11/03 | S7: =トータル!K33 -> NAMSUNG | W7: 【推奨】
A8: ● | B8: =トータル!B34 -> DONGJIN FORTUNE | G8: =トータル!C34 -> 0208N | J8: =トータル!F34 -> 11/02 | M8: =トータル!D34 -> 11/06-06 | P8: =トータル!I34 -> 11/10 | S8: =トータル!K34 -> NAMSUNG | W8: ONLINE BOOKINGをご活用ください。
B9: =トータル!B35 -> DONGJIN FORTUNE | G9: =トータル!C35 -> 0209N | J9: =トータル!F35 -> 11/10 | M9: =トータル!D35 -> 11/13-13 | P9: =トータル!I35 -> 11/17 | S9: =トータル!K35 -> NAMSUNG
B10: =トータル!B36 -> DONGJIN FORTUNE | G10: =トータル!C36 -> 0210N | J10: =トータル!F36 -> 11/17 | M10: =トータル!D36 -> 11/20-20 | P10: =トータル!I36 -> 11/24 | S10: =トータル!K36 -> NAMSUNG | W10: 【留意点のご説明】－－－－－－－－－－－－－－－－－－－－－－－－－
B11: =トータル!B37 -> DONGJIN FORTUNE | G11: =トータル!C37 -> 0211N | J11: =トータル!F37 -> 11/24 | M11: =トータル!D37 -> 11/27-27 | P11: =トータル!I37 -> 12/01 | S11: =トータル!K37 -> NAMSUNG | W11: ● 祝日の為、CUT日が変更（前倒し）されております。ご注意ください
B12: =トータル!B38 -> 0 | G12: =トータル!C38 -> 0 | J12: =トータル!F38 -> 12/01 | M12: =トータル!D38 -> 12/04-04 | P12: =トータル!I38 -> 12/08 | S12: =トータル!K38 -> NAMSUNG | W12: × 該当本船は、NO SERVICEとなります。
W13: ▲ 本船名、VOY NO.等が変更されております。ご注意ください。
A17: 東 京 貨 物 搬 入 先 【搬入事前予約 不要】 | R17: 東京の搬入先が左記へ変更となります。 また本サービスは、東京搬入→東京出港となりますのでご注意ください。 ※危険品、国内消防法該当品について 東京CFSでの国内消防法・危険品に該当する貨物はお引き受け不可。 お船積みをご希望の場合は、横浜CFSへの搬入をお願いいたします。
A18: ヤマト運輸 東京グローバルロジゲート (TGLG) 気付 オーシャンリンクス 住所 ： 〒143-0003 東京都大田区京浜島1-3-3 TEL : 03-3799-1921/FAX : 03-3799-1944 保税CODE : 1FWW2 DOC送付先 (エクセルデータで送信の場合） ①倉庫送信先 : sea-exp-op@kuronekoyamato.co.jp ②B/L作成部署送付先 : docs-tokyo@oceanlinks.co.jp ACL 船会社 コード：OCL1（オーシーエルイチ） ACL 通知先コード：4AOCL(ヨンエーオーシーエル） ACL 通知先コード：1NYGF
A26: 搬入確認の方法：マーク・個数の分かる書類にBKG NO.を記載のうえ、CFSへFAXをお願いいたします。
A28: 大阪本社 TEL (06) 6263-5923 / FAX (06) 6263-6104
A29: 東京支店 TEL (03) 5543-2361 / FAX (03) 5543-2363
A30: 横浜営業所 TEL (045) 323-9875 / FAX (045) 323-9876

Sheet 3.INH
A1: OCEAN LINKS SAILING-SCHEDULE >>> 関東積み
W2: 最終更新日： | X2: =TODAY() -> 46303
A3: 3.韓国 仁川 （ INCHEON ） LCL | I3: 遅延・抜港・港湾地区での混乱等により、予定通り運航できない場合がございます。ご迷惑をおかけしますがご理解の程よろしくお願い致します。
A4: 留意点 | B4: VESSEL | F4: VOY.NO. | H4: YOK ETD | J4: YOK CUT | L4: TYO CUT | N4: INH ETA | P4: CARRIER | S4: 【重要】
A5: =トータル!A42&"" | B5: =トータル!B42 -> VICTORY STAR | F5: =トータル!C42 -> 2627W | H5: =トータル!D42 -> 10/09-09 | J5: =トータル!F42 -> 10/07 | L5: =トータル!H42 -> 10/07 | N5: =トータル!I42 -> 10/14 | P5: =トータル!K42 -> DAIEI | S5: BOOKINGご用命時､必ずご一読ください｡
A6: =トータル!A43&"" | B6: =トータル!B43 -> TY INCHEON | F6: =トータル!C43 -> 2627W | H6: =トータル!D43 -> 10/16-16 | J6: =トータル!F43 -> 10/14 | L6: =トータル!H43 -> 10/14 | N6: =トータル!I43 -> 10/21 | P6: =トータル!K43 -> DAIEI
A7: =トータル!A44&"" | B7: =トータル!B44 -> ATLANTIC BRIDGE | F7: =トータル!C44 -> 2630W | H7: =トータル!D44 -> 10/23-23 | J7: =トータル!F44 -> 10/21 | L7: =トータル!H44 -> 10/21 | N7: =トータル!I44 -> 10/28 | P7: =トータル!K44 -> DAIEI | S7: 【推奨】
A8: =トータル!A45&"" | B8: =トータル!B45 -> VICTORY STAR | F8: =トータル!C45 -> 2629W | H8: =トータル!D45 -> 10/30-30 | J8: =トータル!F45 -> 10/28 | L8: =トータル!H45 -> 10/28 | N8: =トータル!I45 -> 11/04 | P8: =トータル!K45 -> DAIEI | S8: ONLINE BOOKINGをご活用ください。
A9: =トータル!A46&"" | B9: =トータル!B46 -> TY INCHEON | F9: =トータル!C46 -> 2629W | H9: =トータル!D46 -> 11/06-06 | J9: =トータル!F46 -> 11/04 | L9: =トータル!H46 -> 11/04 | N9: =トータル!I46 -> 11/11 | P9: =トータル!K46 -> DAIEI | S9: ※BOOKING №を即時 発番可能です。
A10: =トータル!A47&"" | B10: =トータル!B47 -> ATLANTIC BRIDGE | F10: =トータル!C47 -> 2632W | H10: =トータル!D47 -> 11/13-13 | J10: =トータル!F47 -> 11/11 | L10: =トータル!H47 -> 11/11 | N10: =トータル!I47 -> 11/18 | P10: =トータル!K47 -> DAIEI | S10: 【留意点のご説明】－－－－－－－－－－－－－－－－－－－－－－－－－
A11: =トータル!A48&"" | B11: =トータル!B48 -> VICTORY STAR | F11: =トータル!C48 -> 2631W | H11: =トータル!D48 -> 11/20-20 | J11: =トータル!F48 -> 11/18 | L11: =トータル!H48 -> 11/18 | N11: =トータル!I48 -> 11/25 | P11: =トータル!K48 -> DAIEI | S11: ● 祝日の為、CUT日が変更（前倒し）されております。ご注意ください
A12: =トータル!A49&"" | B12: =トータル!B49 -> 0 | F12: =トータル!C49 -> 0 | H12: =トータル!D49 -> 11/27-27 | J12: =トータル!F49 -> 11/25 | L12: =トータル!H49 -> 11/25 | N12: =トータル!I49 -> 12/02 | P12: =トータル!K49 -> DAIEI | S12: × 該当本船は、NO SERVICEとなります。
S13: ▲ 本船名、VOY NO.等が変更されております。ご注意ください。
A15: 東 京 貨 物 搬 入 先 【予約制度】 | O15: 横 浜 貨 物 搬 入 先 【予約制度】
A16: 株式会社宇徳 東京フレートセンター 気付 オーシャンリンクス 東京都品川区八潮2‐8‐1 TEL 03-3790-1241/FAX 03-3790-0803 保税名称 : UTOC TFC H /W NACCS : 1FWC7 DOC送付先 ①搬入倉庫送信先 tyo_exp_document@utoc.co.jp ②B/L作成部署送付先 docs-tokyo@oceanlinks.co.jp ACL 船会社 コード：OCL1（オーシーエルイチ） ACL 通知先コード：4AOCL(ヨンエーオーシーエル） ACL 通知先コード：1CUTK(イチシーユーティーケー） 搬入予約・搬入確認の方法については下記URLよりご確認ください。 | O16: 株式会社宇徳 本牧A-6CFS 気付 オーシャンリンクス 神奈川県横浜市中区本牧埠頭 9-1 TEL 045-264-7011/FAX 045-264-8036 保税名称 : 株式会社宇徳 本牧埠頭 A-6CFS 保税蔵置場 NACCS: 2EWT8 DOC送付先 ①搬入倉庫送信先 yok_exp_document@utoc.co.jp ②B/L作成部署送付先 docs-tokyo@oceanlinks.co.jp ACL 船会社 コード：OCL1（オーシーエルイチ） ACL 通知先コード：4AOCL(ヨンエーオーシーエル） ACL 通知先コード：2RUTK(ニアールユーティーケー） 搬入予約・搬入確認の方法については下記URLよりご確認ください。
A24: https://www.utoc.co.jp/business/logistics/warehouse/tfc/ | O24: https://www.utoc.co.jp/business/logistics/warehouse/cfs/
A26: 大阪本社 TEL (06) 6263-5923 / FAX (06) 6263-6104
A27: 東京支店 TEL (03) 5543-2361 / FAX (03) 5543-2363
A28: 横浜営業所 TEL (045) 323-9875 / FAX (045) 323-9876
S31: https://www.utoc.co.jp/business/logistics/warehouse/cfs/

Sheet 4.JBA
A1: OCEAN LINKS SAILING-SCHEDULE >>> 関東積み
Y2: 最終更新日： | Z2: =TODAY() -> 46303
A3: 4.ドバイ （ DUBAI, JEBEL ALI ） LCL | K3: 遅延・抜港・港湾地区での混乱等により、予定通り運航できない場合がございます。ご迷惑をおかけしますがご理解の程よろしくお願い致します。
A4: 留意点 | B4: VESSEL | F4: VOY.NO. | H4: YOK CUT | J4: KOBE ETD | N4: DUBAI ETA | P4: CARRIER | S4: 【重要】
A5: ▲ | B5: =トータル!B52 -> GLORY ZHENDONG | F5: =トータル!C52 -> 2640S | H5: =トータル!F52 -> 09/30 | J5: =トータル!D52 -> 10/05-05 | N5: =トータル!I52 -> 11/21 | P5: CU LINE | S5: BOOKINGご用命時､必ずご一読ください｡
B6: =トータル!B53 -> NAVIOS CHRYSALIS | F6: =トータル!C53 -> 018S | H6: =トータル!F53 -> 10/14 | J6: =トータル!D53 -> 10/21-23 | N6: =トータル!I53 -> 11/21 | P6: CU LINE
A7: =トータル!A54&"" | B7: =トータル!B54 -> ATHENS BRIDGE | F7: =トータル!C54 -> 1190S | H7: =トータル!F54 -> 10/21 | J7: =トータル!D54 -> 10/28-30 | N7: =トータル!I54 -> 11/24 | P7: CU LINE | S7: 【推奨】
A8: =トータル!A55&"" | B8: =トータル!B55 -> 0 | F8: =トータル!C55 -> 0 | H8: =トータル!F55 -> 0 | J8: =トータル!D55 -> 0 | N8: =トータル!I55 -> 0 | P8: =トータル!K55 -> ONE | S8: ONLINE BOOKINGをご活用ください。
A9: =トータル!A56&"" | B9: =トータル!B56 -> 0 | F9: =トータル!C56 -> 0 | H9: =トータル!F56 -> 0 | J9: =トータル!D56 -> 0 | N9: =トータル!I56 -> 0 | P9: =トータル!K56 -> ONE | S9: ※BOOKING №を即時 発番可能です。
A10: =トータル!A57&"" | B10: =トータル!B57 -> 0 | F10: =トータル!C57 -> 0 | H10: =トータル!F57 -> 0 | J10: =トータル!D57 -> 0 | N10: =トータル!I57 -> 0 | P10: WAN HAI
B11: =トータル!B58 -> 0 | F11: =トータル!C58 -> 0 | H11: =トータル!F58 -> 0 | J11: =トータル!D58 -> 0 | N11: =トータル!I58 -> 0 | P11: =トータル!K58 -> 0 | S11: 【留意点のご説明】－－－－－－－－－－－－－－－－－－－－－－－－－
B12: =トータル!B59 -> 0 | F12: =トータル!C59 -> 0 | H12: =トータル!F59 -> 0 | J12: =トータル!D59 -> 0 | N12: =トータル!I59 -> 0 | P12: =トータル!K59 -> 0 | S12: ● 祝日の為、CUT日が変更（前倒し）されております。ご注意ください
A13: =トータル!A60&"" | B13: =トータル!B60 -> 0 | F13: =トータル!C60 -> 0 | H13: =トータル!D60 -> 0 | J13: =トータル!F60 -> 0 | N13: =トータル!I60 -> 0 | P13: =トータル!K60 -> 0 | S13: × 該当本船は、NO SERVICEとなります。
S14: ▲ 本船名、VOY NO.等が変更されております。ご注意ください。
A15: ★お知らせ★
A16: ① 8桁のHS CODE ご記載必須に関して
A17: ② 『輸出貨物』経済制裁対象国への輸送に関して
A19: 横浜貨物搬入先 【予約制度】 | R19: バンニング場所
A20: 株式会社宇徳 本牧A-6CFS 気付 オーシャンリンクス | R20: 上組神戸多目的物流センター（KMDC） 〒650-0045 神戸市中央区港島8-14 TEL078-306-3904/FAX 078-306-3922 NACCS NO：3FW50 ご担当：奥田様 DOCK送付先 ①搬入倉庫送信 kmdc_cfs_exp@kamigumi.co.jp ②B/L作成部署送付先 docs@oceanlinks.co.jp ACL 船会社コード：OCL1（オーシーエルイチ） ACL 通知先コード：4AOCL(ヨンエーオーシーエル） ACL 通知先コード：3OKAM（サンオーケーエーエム）
A21: 神奈川県横浜市中区本牧埠頭 9-1 TEL 045-264-7011/FAX 045-264-8036
A22: 保税名称 : 株式会社宇徳 本牧埠頭 A-6CFS 保税蔵置場 NACCS: 2EWT8
A23: DOC送付先：①搬入倉庫送信先 yok_exp_document@utoc.co.jp
C24: ②B/L作成部署送付先 docs-tokyo@oceanlinks.co.jp
A25: ACL 船会社 コード：OCL1（オーシーエルイチ）
A26: ACL 通知先コード：4AOCL(ヨンエーオーシーエル） ACL 通知先コード：2RUTK
A27: 搬入予約・搬入確認の方法については下記URLよりご確認ください。
A28: https://www.utoc.co.jp/business/logistics/warehouse/cfs/
A30: 大阪本社 TEL (06) 6263-5923 / FAX (06) 6263-6104
A31: 東京支店 TEL (03) 5543-2361 / FAX (03) 5543-2363
A32: 横浜営業所 TEL (045) 323-9875 / FAX (045) 323-9876

Sheet 6.KLG
A1: OCEAN LINKS SAILING-SCHEDULE >>> 関東積み
Y2: 最終更新日： | Z2: =TODAY() -> 46303
A3: 6.台湾 基隆 （ KEELUNG ） LCL | J3: 遅延・抜港・港湾地区での混乱等により、予定通り運航できない場合がございます。ご迷惑をおかけしますがご理解の程よろしくお願い致します。
A4: 留意点 | B4: VESSEL | F4: VOY.NO. | H4: YOK ETD | J4: YOK CUT | L4: TYO CUT | N4: KLG ETA | P4: CARRIER | S4: 【重要】
B5: =トータル!B67 -> YM INCEPTION | F5: =トータル!C67 -> 251S | H5: =トータル!D67 -> 10/23-23 | J5: =トータル!F67 -> 10/21 | L5: =トータル!H67 -> 10/21 | N5: =トータル!I67 -> 10/28 | P5: =トータル!K67 -> YML | S5: BOOKINGご用命時､必ずご一読ください｡
B6: =トータル!B68 -> YM IMMENSE | F6: =トータル!C68 -> 412S | H6: =トータル!D68 -> 10/30-30 | J6: =トータル!F68 -> 10/28 | L6: =トータル!H68 -> 10/28 | N6: =トータル!I68 -> 11/04 | P6: =トータル!K68 -> YML
B7: =トータル!B69 -> HORAI BRIDGE | F7: =トータル!C69 -> 230S | H7: =トータル!D69 -> 11/06-06 | J7: =トータル!F69 -> 11/04 | L7: =トータル!H69 -> 11/04 | N7: =トータル!I69 -> 11/11 | P7: =トータル!K69 -> YML | S7: 【推奨】
B8: =トータル!B70 -> YM IMPROVEMENT | F8: =トータル!C70 -> 280S | H8: =トータル!D70 -> 11/13-13 | J8: =トータル!F70 -> 11/11 | L8: =トータル!H70 -> 11/11 | N8: =トータル!I70 -> 11/18 | P8: =トータル!K70 -> YML | S8: ONLINE BOOKINGをご活用ください。
A9: =トータル!A71&"" | B9: =トータル!B71 -> YM INCEPTION | F9: =トータル!C71 -> 252S | H9: =トータル!D71 -> 11/20-20 | J9: =トータル!F71 -> 11/18 | L9: =トータル!H71 -> 11/18 | N9: =トータル!I71 -> 11/25 | P9: =トータル!K71 -> YML | S9: ※BOOKING №を即時 発番可能です。
B10: =トータル!B72 -> YM IMMENSE | F10: =トータル!C72 -> 413S | H10: =トータル!D72 -> 11/27-27 | J10: =トータル!F72 -> 11/25 | L10: =トータル!H72 -> 11/25 | N10: =トータル!I72 -> 12/02 | P10: =トータル!K72 -> YML | S10: 【留意点のご説明】－－－－－－－－－－－－－－－－－－－－－－－－－
B11: =トータル!B73 -> HORAI BRIDGE | F11: =トータル!C73 -> 231S | H11: =トータル!D73 -> 12/04-04 | J11: =トータル!F73 -> 12/02 | L11: =トータル!H73 -> 12/02 | N11: =トータル!I73 -> 12/09 | P11: =トータル!K73 -> YML | S11: ● 祝日の為、CUT日が変更（前倒し）されております。ご注意ください
A12: =トータル!A74&"" | B12: =トータル!B74 -> YM IMPROVEMENT | F12: =トータル!C74 -> 281S | H12: =トータル!D74 -> 12/11-11 | J12: =トータル!F74 -> 12/09 | L12: =トータル!H74 -> 12/09 | N12: =トータル!I74 -> 12/16 | P12: =トータル!K74 -> YML | S12: × 該当本船は、NO SERVICEとなります。
B13: =トータル!B75 -> YM INCEPTION | F13: =トータル!C75 -> 253S | H13: =トータル!D75 -> 12/18-18 | J13: =トータル!F75 -> 12/16 | L13: =トータル!H75 -> 12/16 | N13: =トータル!I75 -> 12/23 | P13: =トータル!K75 -> YML | S13: ▲ 本船名、VOY NO.等が変更されております。ご注意ください。
B14: =トータル!B76 -> YM IMMENSE | F14: =トータル!C76 -> 414S | H14: =トータル!D76 -> 12/25-25 | J14: =トータル!F76 -> 12/23 | L14: =トータル!H76 -> 12/23 | N14: =トータル!I76 -> 12/30 | P14: =トータル!K76 -> YML
A17: 東 京 貨 物 搬 入 先 【予約制度】 | O17: 横 浜 貨 物 搬 入 先 【予約制度】
A18: 株式会社宇徳 東京フレートセンター 気付 オーシャンリンクス 東京都品川区八潮2‐8‐1 TEL 03-3790-1241/FAX 03-3790-0803 保税名称 : UTOC TFC H /W NACCS : 1FWC7 DOC送付先： ①搬入倉庫送信先 tyo_exp_document@utoc.co.jp ②B/L作成部署送付先 docs-tokyo@oceanlinks.co.jp ACL 船会社 コード：OCL1（オーシーエルイチ） ACL 通知先コード：4AOCL(ヨンエーオーシーエル） ACL 通知先コード：1CUTK(イチシーユーティーケー） 搬入予約・搬入確認の方法については下記URLよりご確認ください。 | O18: 株式会社宇徳 本牧A-6CFS 気付 オーシャンリンクス 神奈川県横浜市中区本牧埠頭 9-1 TEL 045-264-7011/FAX 045-264-8036 保税名称 : 株式会社宇徳 本牧埠頭 A-6CFS 保税蔵置場 NACCS: 2EWT8 DOC送付先： ①搬入倉庫送信先 yok_exp_document@utoc.co.jp ②B/L作成部署送付先 docs-tokyo@oceanlinks.co.jp ACL 船会社 コード：OCL1（オーシーエルイチ） ACL 通知先コード：4AOCL(ヨンエーオーシーエル） ACL 通知先コード：2RUTK(ニアールユーティーケー） 搬入予約・搬入確認の方法については下記URLよりご確認ください。
A27: https://www.utoc.co.jp/business/logistics/warehouse/tfc/ | O27: https://www.utoc.co.jp/business/logistics/warehouse/cfs/
A29: 大阪本社 TEL (06) 6263-5923 / FAX (06) 6263-6104
A30: 東京支店 TEL (03) 5543-2361 / FAX (03) 5543-2363
A31: 横浜営業所 TEL (045) 323-9875 / FAX (045) 323-9876

Sheet 7.TCG
A1: OCEAN LINKS SAILING-SCHEDULE >>> 関東積み
Y2: 最終更新日： | Z2: =TODAY() -> 46303
A3: 7.台湾 台中 ( TAICHUNG ) LCL | K3: 遅延・抜港・港湾地区での混乱等により、予定通り運航できない場合がございます。ご迷惑をおかけしますがご理解の程よろしくお願い致します。
A4: 留意点 | B4: VESSEL | F4: VOY.NO. | H4: YOK ETD | J4: YOK CUT | L4: TYO CUT | N4: TCG ETA | P4: CARRIER | S4: 【重要】
A5: ▲ | B5: =トータル!B97 -> TS PENANG | F5: =トータル!C97 -> 2635S | H5: =トータル!D97 -> 10/06-06 | J5: =トータル!F97 -> 10/01 | L5: =トータル!H97 -> 10/01 | N5: =トータル!I97 -> 10/12 | P5: =トータル!K97 -> TSL | S5: BOOKINGご用命時､必ずご一読ください｡
A6: × | B6: =トータル!B98 -> NO SERVICE | F6: =トータル!C98 -> N/A | H6: =トータル!D98 -> 10/13-13 | J6: =トータル!F98 -> 10/07 | L6: =トータル!H98 -> 10/07 | N6: =トータル!I98 -> 10/19 | P6: =トータル!K98 -> TSL
A7: ▲ | B7: =トータル!B99 -> TS MAWEI | F7: =トータル!C99 -> 2621S | H7: =トータル!D99 -> 10/20-20 | J7: =トータル!F99 -> 10/15 | L7: =トータル!H99 -> 10/15 | N7: =トータル!I99 -> 10/26 | P7: =トータル!K99 -> TSL | S7: 【推奨】
A8: =トータル!A100&"" | B8: =トータル!B100 -> TS HAKATA | F8: =トータル!C100 -> 2621S | H8: =トータル!D100 -> 10/27-27 | J8: =トータル!F100 -> 10/22 | L8: =トータル!H100 -> 10/22 | N8: =トータル!I100 -> 11/02 | P8: =トータル!K100 -> TSL | S8: ONLINE BOOKINGをご活用ください。
B9: =トータル!B101 -> TS MAWEI | F9: =トータル!C101 -> 2622S | H9: =トータル!D101 -> 11/03-03 | J9: =トータル!F101 -> 10/29 | L9: =トータル!H101 -> 10/29 | N9: =トータル!I101 -> 11/09 | P9: =トータル!K101 -> TSL | S9: ※BOOKING №を即時 発番可能です。
A10: =トータル!A102&"" | B10: =トータル!B102 -> TS HAKATA | F10: =トータル!C102 -> 2622S | H10: =トータル!D102 -> 11/10-10 | J10: =トータル!F102 -> 11/05 | L10: =トータル!H102 -> 11/05 | N10: =トータル!I102 -> 11/16 | P10: =トータル!K102 -> TSL | S10: 【留意点のご説明】－－－－－－－－－－－－－－－－－－－－－－－－－
B11: =トータル!B103 -> TS MAWEI | F11: =トータル!C103 -> 2623S | H11: =トータル!D103 -> 11/17-17 | J11: =トータル!F103 -> 11/12 | L11: =トータル!H103 -> 11/12 | N11: =トータル!I103 -> 11/23 | P11: =トータル!K103 -> TSL | S11: ● 祝日の為、CUT日が変更（前倒し）されております。ご注意ください
A12: ● | B12: =トータル!B104 -> TS HAKATA | F12: =トータル!C104 -> 2623S | H12: =トータル!D104 -> 11/24-24 | J12: =トータル!F104 -> 11/18 | L12: =トータル!H104 -> 11/18 | N12: =トータル!I104 -> 11/30 | P12: =トータル!K104 -> TSL | S12: × 該当本船は、NO SERVICEとなります。
B13: =トータル!B105 -> 0 | F13: =トータル!C105 -> 0 | H13: =トータル!D105 -> 12/01-01 | J13: =トータル!F105 -> 11/26 | L13: =トータル!H105 -> 11/26 | N13: =トータル!I105 -> 12/07 | P13: =トータル!K105 -> TSL | S13: ▲ 本船名、VOY NO.等が変更されております。ご注意ください。
B14: =トータル!B106 -> 0 | F14: =トータル!C106 -> 0 | H14: =トータル!D106 -> 12/08-08 | J14: =トータル!F106 -> 12/03 | L14: =トータル!H106 -> 12/03 | N14: =トータル!I106 -> 12/14 | P14: =トータル!K106 -> TSL
A17: 東 京 貨 物 搬 入 先 【予約制度】 | P17: 横 浜 貨 物 搬 入 先 【予約制度】
A18: 株式会社宇徳 東京フレートセンター 気付 オーシャンリンクス 東京都品川区八潮2‐8‐1 TEL 03-3790-1241/FAX 03-3790-0803 保税名称 : UTOC TFC H /W NACCS : 1FWC7 DOC送付先 ①搬入倉庫送信先 tyo_exp_document@utoc.co.jp ②B/L作成部署送付先 docs-tokyo@oceanlinks.co.jp ACL 船会社 コード：OCL1（オーシーエルイチ） ACL 通知先コード：4AOCL(ヨンエーオーシーエル） ACL 通知先コード：1CUTK(イチシーユーティーケー） 搬入予約・搬入確認の方法については下記URLよりご確認ください。 | P18: 株式会社宇徳 本牧A-6CFS 気付 オーシャンリンクス 神奈川県横浜市中区本牧埠頭 9-1 TEL 045-264-7011/FAX 045-264-8036 保税名称 : 株式会社宇徳 本牧埠頭 A-6CFS 保税蔵置場 NACCS: 2EWT8 DOC送付先 ①搬入倉庫送信先 yok_exp_document@utoc.co.jｐ ②B/L作成部署送付先 docs-tokyo@oceanlinks.co.jp ACL 船会社 コード：OCL1（オーシーエルイチ） ACL 通知先コード：4AOCL(ヨンエーオーシーエル） ACL 通知先コード：2RUTK(ニアールユーティーケー） 搬入予約・搬入確認の方法については下記URLよりご確認ください。
A26: https://www.utoc.co.jp/business/logistics/warehouse/tfc/ | P26: https://www.utoc.co.jp/business/logistics/warehouse/cfs/
A28: 大阪本社 TEL (06) 6263-5923 / FAX (06) 6263-6104
A29: 東京支店 TEL (03) 5543-2361 / FAX (03) 5543-2363
A30: 横浜営業所 TEL (045) 323-9875 / FAX (045) 323-9876

Sheet 8.KHH
A1: OCEAN LINKS SAILING-SCHEDULE >>> 関東積み
X2: 最終更新日： | Y2: =TODAY() -> 46303
A3: 8.台湾 高雄 （ KAOHSIUNG ） LCL | J3: 遅延・抜港・港湾地区での混乱等により、予定通り運航できない場合がございます。ご迷惑をおかけしますがご理解の程よろしくお願い致します。
A4: 留意点 | B4: VESSEL | F4: VOY.NO. | H4: YOK ETD | J4: YOK CUT | L4: TYO CUT | N4: KHH ETA | P4: CARRIER | S4: 【重要】
B5: =トータル!B82 -> YM INCEPTION | F5: =トータル!C82 -> 251S | H5: =トータル!D82 -> 10/23-23 | J5: =トータル!F82 -> 10/21 | L5: =トータル!H82 -> 10/21 | N5: =トータル!I82 -> 10/29 | P5: =トータル!K82 -> YML | S5: BOOKINGご用命時､必ずご一読ください｡
B6: =トータル!B83 -> YM IMMENSE | F6: =トータル!C83 -> 412S | H6: =トータル!D83 -> 10/30-30 | J6: =トータル!F83 -> 10/28 | L6: =トータル!H83 -> 10/28 | N6: =トータル!I83 -> 11/05 | P6: =トータル!K83 -> YML
B7: =トータル!B84 -> HORAI BRIDGE | F7: =トータル!C84 -> 230S | H7: =トータル!D84 -> 11/06-06 | J7: =トータル!F84 -> 11/04 | L7: =トータル!H84 -> 11/04 | N7: =トータル!I84 -> 11/12 | P7: =トータル!K84 -> YML | S7: 【推奨】
B8: =トータル!B85 -> YM IMPROVEMENT | F8: =トータル!C85 -> 280S | H8: =トータル!D85 -> 11/13-13 | J8: =トータル!F85 -> 11/11 | L8: =トータル!H85 -> 11/11 | N8: =トータル!I85 -> 11/19 | P8: =トータル!K85 -> YML | S8: ONLINE BOOKINGをご活用ください。
A9: =トータル!A86&"" | B9: =トータル!B86 -> YM INCEPTION | F9: =トータル!C86 -> 252S | H9: =トータル!D86 -> 11/20-20 | J9: =トータル!F86 -> 11/18 | L9: =トータル!H86 -> 11/18 | N9: =トータル!I86 -> 11/26 | P9: =トータル!K86 -> YML | S9: ※BOOKING №を即時 発番可能です。
B10: =トータル!B87 -> YM IMMENSE | F10: =トータル!C87 -> 413S | H10: =トータル!D87 -> 11/27-27 | J10: =トータル!F87 -> 11/25 | L10: =トータル!H87 -> 11/25 | N10: =トータル!I87 -> 12/03 | P10: =トータル!K87 -> YML | S10: 【留意点のご説明】－－－－－－－－－－－－－－－－－－－－－－－－－
B11: =トータル!B88 -> HORAI BRIDGE | F11: =トータル!C88 -> 231S | H11: =トータル!D88 -> 12/04-04 | J11: =トータル!F88 -> 12/02 | L11: =トータル!H88 -> 12/02 | N11: =トータル!I88 -> 12/10 | P11: =トータル!K88 -> YML | S11: ● 祝日の為、CUT日が変更（前倒し）されております。ご注意ください
A12: =トータル!A89&"" | B12: =トータル!B89 -> YM IMPROVEMENT | F12: =トータル!C89 -> 281S | H12: =トータル!D89 -> 12/11-11 | J12: =トータル!F89 -> 12/09 | L12: =トータル!H89 -> 12/09 | N12: =トータル!I89 -> 12/17 | P12: =トータル!K89 -> YML | S12: × 該当本船は、NO SERVICEとなります。
A13: =トータル!A90&"" | B13: =トータル!B90 -> YM INCEPTION | F13: =トータル!C90 -> 253S | H13: =トータル!D90 -> 12/18-18 | J13: =トータル!F90 -> 12/16 | L13: =トータル!H90 -> 12/16 | N13: =トータル!I90 -> 12/24 | P13: =トータル!K90 -> YML | S13: ▲ 本船名、VOY NO.等が変更されております。ご注意ください。
B14: =トータル!B91 -> YM IMMENSE | F14: =トータル!C91 -> 414S | H14: =トータル!D76 -> 12/25-25 | J14: =トータル!F91 -> 12/23 | L14: =トータル!H76 -> 12/23 | N14: =トータル!I91 -> 12/31 | P14: YML
A17: 東 京 貨 物 搬 入 先 【予約制度】 | P17: 横 浜 貨 物 搬 入 先 【予約制度】
A18: 株式会社宇徳 東京フレートセンター 気付 オーシャンリンクス 東京都品川区八潮2‐8‐1 TEL 03-3790-1241/FAX 03-3790-0803 保税名称 : UTOC TFC H /W NACCS : 1FWC7 DOC送付先 ①搬入倉庫送信先 tyo_exp_document@utoc.co.jp ②B/L作成部署送付先 docs-tokyo@oceanlinks.co.jp ACL 船会社 コード：OCL1（オーシーエルイチ） ACL 通知先コード：4AOCL(ヨンエーオーシーエル） ACL 通知先コード：1CUTK(イチシーユーティーケー） 搬入予約・搬入確認の方法については下記URLよりご確認ください。 | P18: 株式会社宇徳 本牧A-6CFS 気付 オーシャンリンクス 神奈川県横浜市中区本牧埠頭 9-1 TEL 045-264-7011/FAX 045-264-8036 保税名称 : 株式会社宇徳 本牧埠頭 A-6CFS 保税蔵置場 NACCS: 2EWT8 DOC送付先 ①搬入倉庫送信先yok_exp_document@utoc.co.jp ②B/L作成部署送付先 docs-tokyo@oceanlinks.co.jp ACL 船会社 コード：OCL1（オーシーエルイチ） ACL 通知先コード：4AOCL(ヨンエーオーシーエル） ACL 通知先コード：2RUTK(ニアールユーティーケー） 搬入予約・搬入確認の方法については下記URLよりご確認ください。
A25: https://www.utoc.co.jp/business/logistics/warehouse/tfc/ | P25: https://www.utoc.co.jp/business/logistics/warehouse/cfs/
A27: 大阪本社 TEL (06) 6263-5923 / FAX (06) 6263-6104
A28: 東京支店 TEL (03) 5543-2361 / FAX (03) 5543-2363
A29: 横浜営業所 TEL (045) 323-9875 / FAX (045) 323-9876

Sheet 9.HKG
A1: OCEAN LINKS SAILING-SCHEDULE >>> 関東積み
AG2: 最終更新日： | AH2: =TODAY() -> 46303
A3: 9.香港 （ HONＧ KONG ） LCL | L3: 遅延・抜港・港湾地区での混乱等により、予定通り運航できない場合がございます。ご迷惑をおかけしますがご理解の程よろしくお願い致します。
A4: 留意点 | B4: VESSEL | F4: VOY.NO. | I4: YOK | O4: TYO | U4: HKG ETA | X4: CARRIER | AB4: 【重要】
J5: CUT | M5: ETD | P5: CUT | S5: ETD | AB5: BOOKINGご用命時､必ずご一読ください｡
A6: ▲ | B6: =トータル!B229&"" -> WAN HAI 335 | F6: =トータル!C229&"" -> S018 | I6: =トータル!H229&"" -> 10/01 | L6: 10/03-04 | O6: =トータル!F229&"" -> 10/01 | R6: - | U6: =トータル!I229&"" -> 10/12 | X6: IAL | AB6: 【推奨】
A7: ▲ | B7: =トータル!B230&"" -> WAN HAI 353 | F7: =トータル!C230&"" -> S050 | I7: =トータル!H230&"" -> 10/07 | L7: =トータル!O230 -> 10/09-10 | O7: =トータル!F230&"" -> 10/07 | R7: =トータル!P230 -> - | U7: =トータル!I230&"" -> 10/15 | X7: =トータル!K230&"" -> IAL | AB7: ONLINE BOOKINGをご活用ください。
B8: =トータル!B231&"" -> NAVIOS VERDE | F8: =トータル!C231&"" -> 188S | I8: =トータル!H231&"" -> 10/08 | L8: =トータル!O231 -> - | O8: =トータル!F231&"" -> 10/08 | R8: =トータル!P231 -> 10/10-11 | U8: =トータル!I231&"" -> 10/20 | X8: =トータル!K231&"" -> ONE | AB8: ※BOOKING №を即時 発番可能です。
A9: ▲ | B9: =トータル!B232&"" -> WAN HAI 368 | F9: =トータル!C232&"" -> S041 | I9: =トータル!H232&"" -> 10/14 | L9: =トータル!O232 -> 10/16-17 | O9: =トータル!F232&"" -> 10/14 | R9: =トータル!P232 -> - | U9: =トータル!I232&"" -> 10/22 | X9: =トータル!K232&"" -> IAL
A10: ▲ | B10: =トータル!B233&"" -> NAVIOS CHRYSALIS | F10: =トータル!C233&"" -> 018S | I10: =トータル!H233&"" -> 10/15 | L10: =トータル!O233 -> - | O10: =トータル!F233&"" -> 10/15 | R10: =トータル!P233 -> 10/17-18 | U10: =トータル!I233&"" -> 10/27 | X10: =トータル!K233&"" -> ONE
A11: ▲ | B11: =トータル!B234&"" -> WAN HAI 370 | F11: =トータル!C234&"" -> S033 | I11: =トータル!H234&"" -> 10/21 | L11: =トータル!O234 -> 10/23-24 | O11: =トータル!F234&"" -> 10/21 | R11: =トータル!P234 -> - | U11: =トータル!I234&"" -> 10/29 | X11: =トータル!K234&"" -> IAL
A12: ▲ | B12: =トータル!B235&"" -> ATHENS BRIDGE | F12: =トータル!C235&"" -> 1190S | I12: =トータル!H235&"" -> 10/22 | L12: =トータル!O235 -> - | O12: =トータル!F235 -> 10/22 | R12: =トータル!P235 -> 10/24-25 | U12: =トータル!I235&"" -> 11/03 | X12: =トータル!K235&"" -> ONE
A13: ▲ | B13: =トータル!B236&"" -> INTERASIA TENACITY | F13: =トータル!C236&"" -> S026 | I13: =トータル!H236&"" -> 10/28 | L13: =トータル!O236 -> 10/30-31 | O13: =トータル!F236&"" -> 10/28 | R13: =トータル!P236 -> - | U13: =トータル!I236&"" -> 11/05 | X13: =トータル!K236&"" -> IAL | AB13: ● 祝日の為、CUT日が変更（前倒し）されております。ご注意ください
A14: ▲ | B14: =トータル!B237&"" -> EMMANUEL P | F14: =トータル!C237&"" -> 015S | I14: =トータル!H237&"" -> 10/29 | L14: =トータル!O237 -> - | O14: =トータル!F237 -> 10/29 | R14: =トータル!P237 -> 10/31-01 | U14: =トータル!I237&"" -> 11/10 | X14: =トータル!K237&"" -> ONE | AB14: × 該当本船は、NO SERVICEとなります。
B15: =トータル!B238&"" -> WAN HAI 353 | F15: =トータル!C238&"" -> S051 | I15: =トータル!H238&"" -> 11/04 | L15: =トータル!O238 -> 11/06-07 | O15: =トータル!F238&"" -> 11/04 | R15: =トータル!P238 -> - | U15: =トータル!I238&"" -> 11/12 | X15: =トータル!K238&"" -> IAL | AB15: ▲ 本船名、VOY NO.等が変更されております。ご注意ください。
B16: =トータル!B239&"" -> NAVIOS VERDE | F16: =トータル!C239&"" -> 189S | I16: =トータル!H239&"" -> 11/05 | L16: =トータル!O239 -> - | O16: =トータル!F239 -> 11/05 | R16: =トータル!P239 -> 11/07-08 | U16: =トータル!I239&"" -> 11/17 | X16: =トータル!K239&"" -> ONE
B17: =トータル!B240&"" -> WAN HAI 368 | F17: =トータル!C240&"" -> S042 | I17: =トータル!H240&"" -> 11/11 | L17: =トータル!O240 -> 11/13-14 | O17: =トータル!F240&"" -> 11/11 | R17: =トータル!P240 -> - | U17: =トータル!I240&"" -> 11/20 | X17: =トータル!K240&"" -> IAL
B18: =トータル!B241 -> NAVIOS CHRYSALIS | F18: =トータル!C241 -> 019S | I18: =トータル!H241&"" -> 11/12 | L18: =トータル!O241 -> - | O18: =トータル!F241 -> 11/12 | R18: =トータル!P241 -> 11/14-15 | U18: =トータル!I241&"" -> 11/24 | X18: =トータル!K241&"" -> ONE
B19: =トータル!B242&"" | F19: =トータル!C242&"" | I19: =トータル!H242&"" -> 11/18 | L19: - | O19: =トータル!F242&"" -> 11/18 | R19: =トータル!D242 -> 11/20-21 | U19: =トータル!I242&"" -> 11/27 | X19: =トータル!K242&"" -> IAL
B20: =トータル!B243&"" | F20: =トータル!C243&"" | I20: =トータル!H243&"" -> 11/19 | L20: =トータル!D243 -> 11/21-22 | O20: =トータル!F243 -> 11/19 | R20: - | U20: =トータル!I243&"" -> 12/01 | X20: =トータル!K243&"" -> ONE
A21: =トータル!A244&"" | B21: =トータル!B244&"" | F21: =トータル!C244&"" | I21: =トータル!H244&"" -> 11/25 | L21: =トータル!O244&"" -> 11/27-28 | O21: =トータル!F244&"" -> 11/25 | R21: =トータル!P244&"" | U21: =トータル!I244&"" -> 12/04 | X21: =トータル!K244&"" -> IAL
A23: 東 京 貨 物 搬 入 先 【予約制度】 | T23: 横 浜 貨 物 搬 入 先 【予約制度】
A24: 株式会社宇徳 東京フレートセンター 気付 オーシャンリンクス 東京都品川区八潮2‐8‐1 TEL 03-3790-1241/FAX 03-3790-0803 保税名称 : UTOC TFC H /W NACCS : 1FWC7 DOC送付先 ①搬入倉庫送信先 tyo_exp_document@utoc.co.jp ②B/L作成部署送付先 docs-tokyo@oceanlinks.co.jp ACL 船会社 コード：OCL1（オーシーエルイチ） ACL 通知先コード：4AOCL(ヨンエーオーシーエル） ACL 通知先コード：1CUTK(イチシーユーティーケー） 搬入予約・搬入確認の方法については下記URLよりご確認ください。 | T24: 株式会社宇徳 本牧A-6CFS 気付 オーシャンリンクス 神奈川県横浜市中区本牧埠頭 9-1 TEL 045-264-7011/FAX 045-264-8036 保税名称 : 株式会社宇徳 本牧埠頭 A-6CFS 保税蔵置場 NACCS: 2EWT8 DOC送付先 ①搬入倉庫送信先 yok_exp_document@utoc.co.jp ②B/L作成部署送付先 docs-tokyo@oceanlinks.co.jp ACL 船会社 コード：OCL1（オーシーエルイチ） ACL 通知先コード：4AOCL(ヨンエーオーシーエル） ACL 通知先コード：2RUTK(ニアールユーティーケー） 搬入予約・搬入確認の方法については下記URLよりご確認ください。
A33: https://www.utoc.co.jp/business/logistics/warehouse/tfc/ | T33: https://www.utoc.co.jp/business/logistics/warehouse/cfs/
A36: 大阪本社 TEL (06) 6263-5923 / FAX (06) 6263-6104
A37: 東京支店 TEL (03) 5543-2361 / FAX (03) 5543-2363
A38: 横浜営業所 TEL (045) 323-9875 / FAX (045) 323-9876

Sheet 10.SIN
A1: OCEAN LINKS SAILING-SCHEDULE >>> 関東積み
AH2: 最終更新日： | AI2: =TODAY() -> 46303
A3: 10.シンガポール ( SINGAPORE ) LCL | L3: 遅延・抜港・港湾地区での混乱等により、予定通り運航できない場合がございます。ご迷惑をおかけしますがご理解の程よろしくお願い致します。
A4: 留意点 | B4: VESSEL | F4: VOY.NO. | I4: YOK | O4: TYO | U4: SIN ETA | X4: CARRIER | AB4: 【重要】
J5: CUT | M5: ETD | P5: CUT | S5: ETD | AB5: BOOKINGご用命時､必ずご一読ください｡
A6: ▲ | B6: =トータル!B250 -> WAN HAI 353 | F6: =トータル!C250 -> S050 | I6: =IF(トータル!E250="YOK",トータル!F250,IF(トータル!G250="YOK",トータル!H250,"-")) -> 10/08 | L6: =IF(トータル!E250="YOK",トータル!D250,"-") -> 10/09-10 | O6: 10/08 | R6: =IF(トータル!E250="TYO",トータル!D250,"-") -> - | U6: =トータル!I250 -> 10/20 | X6: =トータル!K250 -> IAL
A7: × | B7: =トータル!B251 -> NO SERVICE | F7: =トータル!C251 -> N/A | I7: =トータル!H251 -> - | L7: =トータル!H251 -> - | O7: - | R7: =トータル!D251 -> 10/10-11 | U7: =トータル!I251 -> 10/22 | X7: =トータル!K251 -> ONE | AB7: 【推奨】
A8: ▲ | B8: =トータル!B252 -> WAN HAI 368 | F8: =トータル!C252 -> S041 | I8: =IF(トータル!E252="YOK",トータル!F252,IF(トータル!G252="YOK",トータル!H252,"-")) -> 10/15 | L8: =IF(トータル!E252="YOK",トータル!D252,"-") -> 10/16-17 | O8: 10/15 | R8: - | U8: =トータル!I252 -> 10/27 | X8: =トータル!K252 -> IAL | AB8: ONLINE BOOKINGをご活用ください。
A9: × | B9: =トータル!B253 -> NO SERVICE | F9: =トータル!C253 -> N/A | I9: - | L9: - | O9: =IF(トータル!E253="TYO",トータル!F253,IF(トータル!G253="TYO",トータル!H253,"-")) -> 10/15 | R9: =トータル!D253 -> 10/17-18 | U9: =トータル!I253 -> 10/29 | X9: =トータル!K253 -> ONE | AB9: ※BOOKING №を即時 発番可能です。
A10: =トータル!A254&"" | B10: =トータル!B254 -> WAN HAI 370 | F10: =トータル!C254 -> S033 | I10: =IF(トータル!E254="YOK",トータル!F254,IF(トータル!G254="YOK",トータル!H254,"-")) -> 10/22 | L10: =IF(トータル!E254="YOK",トータル!D254,"-") -> 10/23-24 | O10: =トータル!H254 -> - | R10: =IF(トータル!E254="TYO",トータル!D254,"-") -> - | U10: =トータル!I254 -> 11/03 | X10: =トータル!K254 -> IAL
A11: ▲ | B11: =トータル!B255 -> BEAR MOUNTAIN BRIDGE | F11: =トータル!C255 -> 139S | I11: =トータル!H255 -> - | L11: =トータル!H256 -> - | O11: =IF(トータル!E255="TYO",トータル!F255,IF(トータル!G255="TYO",トータル!H255,"-")) -> 10/22 | R11: =トータル!D255 -> 10/24-25 | U11: =トータル!I255 -> 11/05 | X11: =トータル!K255 -> ONE | AB11: ☆お知らせ☆
A12: =トータル!A256&"" | B12: =トータル!B256 -> INTERASIA TENACITY | F12: =トータル!C256 -> S026 | I12: =IF(トータル!E256="YOK",トータル!F256,IF(トータル!G256="YOK",トータル!H256,"-")) -> 10/29 | L12: =IF(トータル!E256="YOK",トータル!D256,"-") -> 10/30-31 | O12: =IF(トータル!E256="TYO",トータル!F256,IF(トータル!G256="TYO",トータル!H256,"-")) -> - | R12: =IF(トータル!E256="TYO",トータル!D256,"-") -> - | U12: =トータル!I256 -> 11/10 | X12: =トータル!K256 -> IAL
A13: ▲ | B13: =トータル!B257 -> SPIL KARTINI | F13: =トータル!C257 -> 020S | I13: - | L13: =IF(トータル!E257="YOK",トータル!D257,"-") -> - | O13: =IF(トータル!E257="TYO",トータル!F257,IF(トータル!G257="TYO",トータル!H257,"-")) -> 10/29 | R13: =IF(トータル!E257="TYO",トータル!D257,"-") -> 10/31-01 | U13: =トータル!I257 -> 11/12 | X13: =トータル!K257 -> ONE | AB13: 『輸出貨物』経済制裁対象国への輸送に関して
A14: =トータル!A258&"" | B14: =トータル!B258 -> WAN HAI 353 | F14: =トータル!C258 -> S051 | I14: =IF(トータル!E258="YOK",トータル!F258,IF(トータル!G258="YOK",トータル!H258,"-")) -> 11/05 | L14: =IF(トータル!E258="YOK",トータル!D258,"-") -> 11/06-07 | O14: =IF(トータル!E258="TYO",トータル!F258,IF(トータル!G258="TYO",トータル!H258,"-")) -> - | R14: =IF(トータル!E258="TYO",トータル!D258,"-") -> - | U14: =トータル!I258 -> 11/17 | X14: =トータル!K258 -> IAL
A15: =トータル!A259&"" | B15: =トータル!B259 -> NYK DAEDALUS | F15: =トータル!C259 -> 107S | I15: =IF(トータル!E259="YOK",トータル!F259,IF(トータル!G259="YOK",トータル!H259,"-")) -> - | L15: =IF(トータル!E259="YOK",トータル!D259,"-") -> - | O15: =IF(トータル!E259="TYO",トータル!F259,IF(トータル!G259="TYO",トータル!H259,"-")) -> 11/05 | R15: =IF(トータル!E259="TYO",トータル!D259,"-") -> 11/07-08 | U15: =トータル!I259 -> 11/19 | X15: =トータル!K259 -> ONE | AB15: 【留意点のご説明】－－－－－－－－－－－－－－－－－－－－－－－－－
A16: =トータル!A260&"" | B16: =トータル!B260 -> WAN HAI 368 | F16: =トータル!C260 -> S042 | I16: =IF(トータル!E260="YOK",トータル!F260,IF(トータル!G260="YOK",トータル!H260,"-")) -> 11/12 | L16: =IF(トータル!E260="YOK",トータル!D260,"-") -> 11/13-14 | O16: =IF(トータル!E260="TYO",トータル!F260,IF(トータル!G260="TYO",トータル!H260,"-")) -> - | R16: =IF(トータル!E260="TYO",トータル!D260,"-") -> - | U16: =トータル!I260 -> 11/24 | X16: =トータル!K260 -> IAL | AB16: ● 祝日の為、CUT日が変更（前倒し）されております。ご注意ください
A17: =トータル!A261&"" | B17: =トータル!B261 -> MOL ENDOWMENT | F17: =トータル!C261 -> 107S | I17: =IF(トータル!E261="YOK",トータル!F261,IF(トータル!G261="YOK",トータル!H261,"-")) -> - | L17: =IF(トータル!E261="YOK",トータル!D261,"-") -> - | O17: =IF(トータル!E261="TYO",トータル!F261,IF(トータル!G261="TYO",トータル!H261,"-")) -> 11/12 | R17: =IF(トータル!E261="TYO",トータル!D261,"-") -> 11/14-15 | U17: =トータル!I261 -> 11/26 | X17: =トータル!K261 -> ONE | AB17: × 該当本船は、NO SERVICEとなります。
A18: =トータル!A262&"" | B18: =トータル!B262 -> 0 | F18: =トータル!C262 -> 0 | I18: =IF(トータル!E262="YOK",トータル!F262,IF(トータル!G262="YOK",トータル!H262,"-")) -> 11/19 | L18: =IF(トータル!E262="YOK",トータル!D262,"-") -> 11/20-21 | O18: =IF(トータル!E262="TYO",トータル!F262,IF(トータル!G262="TYO",トータル!H262,"-")) -> - | R18: =IF(トータル!E262="TYO",トータル!D262,"-") -> - | U18: =トータル!I262 -> 12/01 | X18: =トータル!K262 -> IAL | AB18: ▲ 本船名、VOY NO.等が変更されております。ご注意ください。
A19: =トータル!A263&"" | B19: =トータル!B263 -> 0 | F19: =トータル!C263 -> 0 | I19: =IF(トータル!E263="YOK",トータル!F263,IF(トータル!G263="YOK",トータル!H263,"-")) -> - | L19: =IF(トータル!E263="YOK",トータル!D263,"-") -> - | O19: =IF(トータル!E263="TYO",トータル!F263,IF(トータル!G263="TYO",トータル!H263,"-")) -> 11/19 | R19: =IF(トータル!E263="TYO",トータル!D263,"-") -> 11/21-22 | U19: =トータル!I263 -> 12/03 | X19: =トータル!K263 -> ONE
A20: =トータル!A264&"" | B20: =トータル!B264 -> 0 | F20: =トータル!C264 -> 0 | I20: =IF(トータル!E264="YOK",トータル!F264,IF(トータル!G264="YOK",トータル!H264,"-")) -> 11/26 | L20: =IF(トータル!E264="YOK",トータル!D264,"-") -> 11/27-28 | O20: =IF(トータル!E264="TYO",トータル!F264,IF(トータル!G264="TYO",トータル!H264,"-")) -> - | R20: =IF(トータル!E264="TYO",トータル!D264,"-") -> - | U20: =トータル!I264 -> 12/08 | X20: =トータル!K264 -> IAL
A21: =トータル!A265&"" | B21: =トータル!B265 -> 0 | F21: =トータル!C265 -> 0 | I21: =IF(トータル!E265="YOK",トータル!F265,IF(トータル!G265="YOK",トータル!H265,"-")) -> - | L21: =IF(トータル!E265="YOK",トータル!D265,"-") -> - | O21: =IF(トータル!E265="TYO",トータル!F265,IF(トータル!G265="TYO",トータル!H265,"-")) -> 11/26 | R21: =IF(トータル!E265="TYO",トータル!D265,"-") -> 11/28-29 | U21: =トータル!I265 -> 12/10 | X21: =トータル!K265 -> ONE
A22: =トータル!A266&"" | B22: =トータル!B266 -> 0 | F22: =トータル!C266 -> 0 | I22: =IF(トータル!E266="YOK",トータル!F266,IF(トータル!G266="YOK",トータル!H266,"-")) -> 12/03 | L22: =IF(トータル!E266="YOK",トータル!D266,"-") -> 12/04-05 | O22: =IF(トータル!E266="TYO",トータル!F266,IF(トータル!G266="TYO",トータル!H266,"-")) -> - | R22: =IF(トータル!E266="TYO",トータル!D266,"-") -> - | U22: =トータル!I266 -> 12/15 | X22: =トータル!K266 -> IAL
A23: =トータル!A267&"" | B23: =トータル!B267 -> 0 | F23: =トータル!C267 -> 0 | I23: =IF(トータル!E267="YOK",トータル!F267,IF(トータル!G267="YOK",トータル!H267,"-")) -> - | L23: =IF(トータル!E267="YOK",トータル!D267,"-") -> - | O23: =IF(トータル!E267="TYO",トータル!F267,IF(トータル!G267="TYO",トータル!H267,"-")) -> 12/03 | R23: =IF(トータル!E267="TYO",トータル!D267,"-") -> 12/05-06 | U23: =トータル!I267 -> 12/17 | X23: =トータル!K267 -> ONE
A25: 東 京 貨 物 搬 入 先 【予約制度】 | T25: 横 浜 貨 物 搬 入 先 【予約制度】
A26: 株式会社宇徳 東京フレートセンター 気付 オーシャンリンクス 東京都品川区八潮2‐8‐1 TEL 03-3790-1241/FAX 03-3790-0803 保税名称 : UTOC TFC H /W NACCS : 1FWC7 DOC送付先 ①搬入倉庫送信先 tyo_exp_document@utoc.co.jp ②B/L作成部署送付先 docs-tokyo@oceanlinks.co.jp ACL 船会社 コード：OCL1（オーシーエルイチ） ACL 通知先コード：4AOCL(ヨンエーオーシーエル） ACL 通知先コード：1CUTK(イチシーユーティーケー） 搬入予約・搬入確認の方法については下記URLよりご確認ください。 | T26: 株式会社宇徳 本牧A-6CFS 気付 オーシャンリンクス 神奈川県横浜市中区本牧埠頭 9-1 TEL 045-264-7011/FAX 045-264-8036 保税名称 : 株式会社宇徳 本牧埠頭 A-6CFS 保税蔵置場 NACCS: 2EWT8 DOC送付先 ①搬入倉庫送信先 yok_exp_document@utoc.co.jp ②B/L作成部署送付先 docs-tokyo@oceanlinks.co.jp ACL 船会社 コード：OCL1（オーシーエルイチ） ACL 通知先コード：4AOCL(ヨンエーオーシーエル） ACL 通知先コード：2RUTK(ニアールユーティーケー） 搬入予約・搬入確認の方法については下記URLよりご確認ください。
A36: https://www.utoc.co.jp/business/logistics/warehouse/tfc/ | T36: https://www.utoc.co.jp/business/logistics/warehouse/cfs/
A39: 大阪本社 TEL (06) 6263-5923 / FAX (06) 6263-6104
A40: 東京支店 TEL (03) 5543-2361 / FAX (03) 5543-2363
A41: 横浜営業所 TEL (045) 323-9875 / FAX (045) 323-9876

Sheet 11.PKG
A1: OCEAN LINKS SAILING-SCHEDULE >>> 関東積み
Y2: 最終更新日： | Z2: =TODAY() -> 46303
A3: 11.マレーシア ポートケラン （ PORT KELANG ） LCL | J3: 遅延・抜港・港湾地区での混乱等により、予定通り運航できない場合がございます。ご迷惑をおかけしますがご理解の程よろしくお願い致します。
A4: 留意点 | B4: VESSEL | F4: VOY.NO. | H4: YOK ETD | J4: YOK CUT | L4: TYO CUT | N4: PKG ETA | P4: CARRIER | S4: 【重要】
A5: ▲ | B5: =トータル!B286&"" -> WAN HAI 353 | F5: =トータル!C286&"" -> S050 | H5: =トータル!D286&"" -> 10/09-10 | J5: =トータル!F286&"" -> 10/07 | L5: =トータル!H286&"" -> 10/07 | N5: =トータル!I286&"" -> 10/21 | P5: =トータル!K286&"" -> IAL | S5: BOOKINGご用命時､必ずご一読ください｡
A6: ▲ | B6: =トータル!B287&"" -> WAN HAI 368 | F6: =トータル!C287&"" -> S041 | H6: =トータル!D287&"" -> 10/16-17 | J6: =トータル!F287&"" -> 10/14 | L6: =トータル!H287&"" -> 10/14 | N6: =トータル!I287&"" -> 10/28 | P6: =トータル!K287&"" -> IAL
A7: =トータル!A288&"" | B7: =トータル!B288&"" -> WAN HAI 370 | F7: =トータル!C288&"" -> S033 | H7: =トータル!D288&"" -> 10/23-24 | J7: =トータル!F288&"" -> 10/21 | L7: =トータル!H288&"" -> 10/21 | N7: =トータル!I288&"" -> 11/04 | P7: =トータル!K288&"" -> IAL | S7: 【推奨】
B8: =トータル!B289 -> INTERASIA TENACITY | F8: =トータル!C289 -> S026 | H8: =トータル!D289&"" -> 10/30-31 | J8: =トータル!F289&"" -> 10/28 | L8: =トータル!H289&"" -> 10/28 | N8: =トータル!I289&"" -> 11/11 | P8: =トータル!K289&"" -> IAL | S8: ONLINE BOOKINGをご活用ください。
A9: =トータル!A290&"" | B9: =トータル!B290 -> WAN HAI 353 | F9: =トータル!C290 -> S051 | H9: =トータル!D290&"" -> 11/06-07 | J9: =トータル!F290&"" -> 11/04 | L9: =トータル!H290&"" -> 11/04 | N9: =トータル!I290&"" -> 11/18 | P9: =トータル!K290&"" -> IAL | S9: ※BOOKING №を即時 発番可能です。
A10: =トータル!A291&"" | B10: =トータル!B291 -> WAN HAI 368 | F10: =トータル!C291 -> S042 | H10: =トータル!D291&"" -> 11/13-14 | J10: =トータル!F291&"" -> 11/11 | L10: =トータル!H291&"" -> 11/11 | N10: =トータル!I291&"" -> 11/25 | P10: =トータル!K291&"" -> IAL
A11: =トータル!A292&"" | B11: =トータル!B292 -> WAN HAI 370 | F11: =トータル!C292 -> S034 | H11: =トータル!D292&"" -> 11/20-21 | J11: =トータル!F292&"" -> 11/18 | L11: =トータル!H292&"" -> 11/18 | N11: =トータル!I292&"" -> 12/02 | P11: =トータル!K292&"" -> IAL | S11: 【留意点のご説明】－－－－－－－－－－－－－－－－－－－－－－－－－
B12: =トータル!B293&"" -> INTERASIA TENACITY | F12: =トータル!C293&"" -> S027 | H12: =トータル!D293&"" -> 11/27-28 | J12: =トータル!F293&"" -> 11/25 | L12: =トータル!H293&"" -> 11/25 | N12: =トータル!I293&"" -> 12/09 | P12: =トータル!K293&"" -> IAL | S12: ● 祝日の為、CUT日が変更（前倒し）されております。ご注意ください
B13: =トータル!B294&"" | F13: =トータル!C294&"" | H13: =トータル!D294&"" -> 12/04-05 | J13: =トータル!F294&"" -> 12/02 | L13: =トータル!H294&"" -> 12/02 | N13: =トータル!I294&"" -> 12/16 | P13: =トータル!K294&"" -> IAL | S13: × 該当本船は、NO SERVICEとなります。
A14: =トータル!A295&"" | B14: =トータル!B295&"" | F14: =トータル!C295&"" | H14: =トータル!D295&"" -> 12/11-12 | J14: =トータル!F295&"" -> 12/09 | L14: =トータル!H295&"" -> 12/09 | N14: =トータル!I295&"" -> 12/23 | P14: =トータル!K295&"" -> IAL | S14: ▲ 本船名、VOY NO.等が変更されております。ご注意ください。
A18: 東 京 貨 物 搬 入 先 【予約制度 】 | P18: 横 浜 貨 物 搬 入 先 【予約制度】
A19: 株式会社宇徳 東京フレートセンター 気付 オーシャンリンクス 東京都品川区八潮2‐8‐1 TEL 03-3790-1241/FAX 03-3790-0803 保税名称 : UTOC TFC H /W NACCS : 1FWC7 DOC送付先 ①搬入倉庫送信先 tyo_exp_document@utoc.co.jp ②B/L作成部署送付先 docs-tokyo@oceanlinks.co.jp ACL 船会社 コード：OCL1（オーシーエルイチ） ACL 通知先コード：4AOCL(ヨンエーオーシーエル） ACL 通知先コード：1CUTK(イチシーユーティーケー） 搬入予約・搬入確認の方法については下記URLよりご確認ください。 | P19: 株式会社宇徳 本牧A-6CFS 気付 オーシャンリンクス 神奈川県横浜市中区本牧埠頭 9-1 TEL 045-264-7011/FAX 045-264-8036 保税名称 : 株式会社宇徳 本牧埠頭 A-6CFS 保税蔵置場 NACCS: 2EWT8 DOC送付先 ①搬入倉庫送信先 yok_exp_document@utoc.co.jp ②B/L作成部署送付先 docs-tokyo@oceanlinks.co.jp ACL 船会社 コード：OCL1（オーシーエルイチ） ACL 通知先コード：4AOCL(ヨンエーオーシーエル） ACL 通知先コード：2RUTK(ニアールユーティーケー） 搬入予約・搬入確認の方法については下記URLよりご確認ください。
A27: https://www.utoc.co.jp/business/logistics/warehouse/tfc/ | P27: https://www.utoc.co.jp/business/logistics/warehouse/cfs/
A29: 大阪本社 TEL (06) 6263-5923 / FAX (06) 6263-6104
A30: 東京支店 TEL (03) 5543-2361 / FAX (03) 5543-2363
A31: 横浜営業所 TEL (045) 323-9875 / FAX (045) 323-9876

Sheet 12.JKT
A1: OCEAN LINKS SAILING-SCHEDULE >>> 関東積み
Z2: 最終更新日： | AA2: =TODAY() -> 46303
A3: 12.インドネシア ジャカルタ （ JAKARTA ） LCL | L3: 遅延・抜港・港湾地区での混乱等により、予定通り運航できない場合がございます。ご迷惑をおかけしますがご理解の程よろしくお願い致します。
A4: 留意点 | B4: VESSEL | F4: VOY.NO. | H4: YOK ETD | J4: YOK CUT | L4: TYO CUT | N4: JKT ETA | P4: CARRIER | S4: 【重要】
B5: =トータル!B274&"" -> MOL ENDOWMENT | F5: =トータル!C274&"" -> 106S | H5: =トータル!D274&"" -> 10/04-04 | J5: =トータル!F274&"" -> 10/01 | L5: =トータル!H274&"" -> 10/01 | N5: =トータル!I274&"" -> 10/17 | P5: =トータル!K274&"" -> ONE | S5: BOOKINGご用命時､必ずご一読ください｡
B6: =トータル!B275&"" -> NAGOYA TOWER | F6: =トータル!C275&"" -> 033S | H6: =トータル!D275&"" -> 10/11-11 | J6: =トータル!F275&"" -> 10/08 | L6: =トータル!H275&"" -> 10/08 | N6: =トータル!I275&"" -> 10/24 | P6: =トータル!K275&"" -> ONE
B7: =トータル!B276&"" -> BEAR MOUNTAIN BRIDGE | F7: =トータル!C276&"" -> 139S | H7: =トータル!D276&"" -> 10/25-25 | J7: =トータル!F276&"" -> 10/22 | L7: =トータル!H276&"" -> 10/22 | N7: =トータル!I276&"" -> 11/07 | P7: =トータル!K276&"" -> ONE | S7: 【推奨】
A8: ▲ | B8: =トータル!B277&"" -> SPIL KARTINI | F8: =トータル!C277&"" -> 020S | H8: =トータル!D277&"" -> 11/01-01 | J8: =トータル!F277&"" -> 10/29 | L8: =トータル!H277&"" -> 10/29 | N8: =トータル!I277&"" -> 11/14 | P8: =トータル!K277&"" -> ONE | S8: ONLINE BOOKINGをご活用ください。
B9: =トータル!B278&"" -> NYK DAEDALUS | F9: =トータル!C278&"" -> 107S | H9: =トータル!D278&"" -> 11/08-08 | J9: =トータル!F278&"" -> 11/05 | L9: =トータル!H278&"" -> 11/05 | N9: =トータル!I278&"" -> 11/21 | P9: =トータル!K278&"" -> ONE | S9: ※BOOKING №を即時 発番可能です。
B10: =トータル!B279&"" -> MOL ENDOWMENT | F10: =トータル!C279&"" -> 107S | H10: =トータル!D279&"" -> 11/15-15 | J10: =トータル!F279&"" -> 11/12 | L10: =トータル!H279&"" -> 11/12 | N10: =トータル!I279&"" -> 11/28 | P10: =トータル!K279&"" -> ONE
B11: =トータル!B280&"" -> NAGOYA TOWER | F11: =トータル!C280&"" -> 034S | H11: =トータル!D280&"" -> 11/22-22 | J11: =トータル!F280&"" -> 11/19 | L11: =トータル!H280&"" -> 11/19 | N11: =トータル!I280&"" -> 12/05 | P11: =トータル!K280&"" -> ONE | S11: 【留意点のご説明】－－－－－－－－－－－－－－－－－－－－－－－－－
B12: =トータル!B281&"" -> BEAR MOUNTAIN BRIDGE | F12: =トータル!C281&"" -> 140S | H12: =トータル!D281&"" -> 11/29-29 | J12: =トータル!F281&"" -> 11/26 | L12: =トータル!H281&"" -> 11/26 | N12: =トータル!I281&"" -> 12/12 | P12: =トータル!K281&"" -> ONE | S12: ● 祝日の為、CUT日が変更（前倒し）されております。ご注意ください
B13: =トータル!B282&"" | F13: =トータル!C282&"" | H13: =トータル!D282&"" -> 12/06-06 | J13: =トータル!F282&"" -> 12/03 | L13: =トータル!H282&"" -> 12/03 | N13: =トータル!I282&"" -> 12/19 | P13: =トータル!K282&"" -> ONE | S13: × 該当本船は、NO SERVICEとなります。
A14: =トータル!A283&"" | B14: =トータル!B283&"" | F14: =トータル!C283&"" | H14: =トータル!D283&"" -> 12/13-13 | J14: =トータル!F283&"" -> 12/10 | L14: =トータル!H283&"" -> 12/10 | N14: =トータル!I283&"" -> 12/26 | P14: =トータル!K283&"" -> ONE | S14: ▲ 本船名、VOY NO.等が変更されております。ご注意ください。
A18: 東 京 貨 物 搬 入 先 【予約制度 】 | P18: 横 浜 貨 物 搬 入 先 【予約制度】
A19: 株式会社宇徳 東京フレートセンター 気付 オーシャンリンクス 東京都品川区八潮2‐8‐1 TEL 03-3790-1241/FAX 03-3790-0803 保税名称 : UTOC TFC H /W NACCS : 1FWC7 DOC送付先 ①搬入倉庫送信先 tyo_exp_document@utoc.co.jp ②B/L作成部署送付先 docs-tokyo@oceanlinks.co.jp ACL 船会社 コード：OCL1（オーシーエルイチ） ACL 通知先コード：4AOCL(ヨンエーオーシーエル） ACL 通知先コード：1CUTK(イチシーユーティーケー） 搬入予約・搬入確認の方法については下記URLよりご確認ください。 https://www.utoc.co.jp/business/logistics/warehouse/tfc/ | P19: 株式会社宇徳 本牧A-6CFS 気付 オーシャンリンクス 神奈川県横浜市中区本牧埠頭 9-1 TEL 045-264-7011/FAX 045-264-8036 保税名称 : 株式会社宇徳 本牧埠頭 A-6CFS 保税蔵置場 NACCS: 2EWT8 DOC送付先 ①搬入倉庫送信先 yok_exp_document@utoc.co.jp ②B/L作成部署送付先 docs-tokyo@oceanlinks.co.jp ACL 船会社 コード：OCL1（オーシーエルイチ） ACL 通知先コード：4AOCL(ヨンエーオーシーエル） ACL 通知先コード：2RUTK(ニアールユーティーケー） 搬入予約・搬入確認の方法については下記URLよりご確認ください。 https://www.utoc.co.jp/business/logistics/warehouse/cfs/
A29: 大阪本社 TEL (06) 6263-5923 / FAX (06) 6263-6104
A30: 東京支店 TEL (03) 5543-2361 / FAX (03) 5543-2363
A31: 横浜営業所 TEL (045) 323-9875 / FAX (045) 323-9876

Sheet 13.MNL
A1: OCEAN LINKS SAILING-SCHEDULE >>> 関東積み
Z2: 最終更新日： | AA2: =TODAY() -> 46303
A3: 13.フィリピン マニラ （ MANILA NORTH ） LCL | J3: 遅延・抜港・港湾地区での混乱等により、予定通り運航できない場合がございます。ご迷惑をおかけしますがご理解の程よろしくお願い致します。
A4: 留意点 | B4: VESSEL | F4: VOY.NO. | H4: YOK ETD | I4: YOK CUT | K4: TYO CUT | M4: MNL ETA | O4: CARRIER | T4: 【重要】
A5: ▲ | B5: =トータル!B299 -> ACX CRYSTAL | F5: =トータル!C299 -> 0333S | H5: =トータル!D299 -> 10/06-06 | I5: =トータル!F299 -> 10/02 | K5: =トータル!H299 -> 10/02 | M5: =トータル!I299 -> 10/15 | O5: ONE | T5: BOOKINGご用命時､必ずご一読ください｡
A6: × | B6: =トータル!B300 -> NO SERVICE | F6: =トータル!C300 -> --- | H6: =トータル!D300 -> 10/13-13 | I6: =トータル!F300 -> 10/08 | K6: =トータル!H300 -> 10/08 | M6: =トータル!I300 -> 10/22 | O6: ONE
A7: ▲ | B7: =トータル!B301 -> ERASMUS NINJA | F7: =トータル!C301 -> 0019S | H7: =トータル!D301 -> 10/20-20 | I7: =トータル!F301 -> 10/16 | K7: =トータル!H301 -> 10/16 | M7: =トータル!I301 -> 10/29 | O7: ONE | T7: 【推奨】
A8: ▲ | B8: =トータル!B302 -> ONE DANIELLA | F8: =トータル!C302 -> 0013S | H8: =トータル!D302 -> 10/27-27 | I8: =トータル!F302 -> 10/23 | K8: =トータル!H302 -> 10/23 | M8: =トータル!I302 -> 11/05 | O8: ONE | T8: ONLINE BOOKINGをご活用ください。
A9: ▲ | B9: =トータル!B303 -> ACX CRYSTAL | F9: =トータル!C303 -> 0334S | H9: =トータル!D303 -> 11/03-03 | I9: =トータル!F303 -> 10/30 | K9: =トータル!H303 -> 10/30 | M9: =トータル!I303 -> 11/12 | O9: ONE
A10: ▲ | B10: =トータル!B304 -> ERASMUS NINJA | F10: =トータル!C304 -> 0020S | H10: =トータル!D304 -> 11/10-10 | I10: =トータル!F304 -> 11/06 | K10: =トータル!H304 -> 11/06 | M10: =トータル!I304 -> 11/19 | O10: ONE | T10: 【留意点のご説明】－－－－－－－－－－－－－－－－－－－－－－－－－
B11: =トータル!B305 -> ONE DANIELLA | F11: =トータル!C305 -> 0014S | H11: =トータル!D305 -> 11/17-17 | I11: =トータル!F305 -> 11/13 | K11: =トータル!H305 -> 11/13 | M11: =トータル!I305 -> 11/26 | O11: ONE | T11: ● 祝日の為、CUT日が変更（前倒し）されております。ご注意ください
A12: ● | B12: =トータル!B306 -> ACX CRYSTAL | F12: =トータル!C306 -> 0335S | H12: =トータル!D306 -> 11/24-24 | I12: =トータル!F306 -> 11/19 | K12: =トータル!H306 -> 11/19 | M12: =トータル!I306 -> 12/03 | O12: ONE | T12: × 該当本船は、NO SERVICEとなります。
A13: =トータル!A307 -> 0 | B13: =トータル!B307 -> ERASMUS NINJA | F13: =トータル!C307 -> 0021S | H13: =トータル!D307 -> 12/01-01 | I13: =トータル!F307 -> 11/27 | K13: =トータル!H307 -> 11/27 | M13: =トータル!I307 -> 12/10 | O13: =トータル!K307 -> ONE | T13: ▲ 本船名、VOY NO.等が変更されております。ご注意ください。
A17: 東 京 貨 物 搬 入 先 【予約制度】 | Q17: 横 浜 貨 物 搬 入 先 【予約制度】
A18: 株式会社宇徳 東京フレートセンター 気付 オーシャンリンクス 東京都品川区八潮2‐8‐1 TEL 03-3790-1241/FAX 03-3790-0803 保税名称 : UTOC TFC H /W NACCS : 1FWC7 DOC送付先 ①搬入倉庫送信先 tyo_exp_document@utoc.co.jp ②B/L作成部署送付先 docs-tokyo@oceanlinks.co.jp ACL 船会社 コード：OCL1（オーシーエルイチ） ACL 通知先コード：4AOCL(ヨンエーオーシーエル） ACL 通知先コード：1CUTK(イチシーユーティーケー） 搬入予約・搬入確認の方法については下記URLよりご確認ください。 https://www.utoc.co.jp/business/logistics/warehouse/tfc/ | Q18: 株式会社宇徳 本牧A-6CFS 気付 オーシャンリンクス 神奈川県横浜市中区本牧埠頭 9-1 TEL 045-264-7011/FAX 045-264-8036 保税名称 : 株式会社宇徳 本牧埠頭 A-6CFS 保税蔵置場 NACCS: 2EWT8 DOC送付先 ①搬入倉庫送信先 yok_exp_document@utoc.co.jp ②B/L作成部署送付先 docs-tokyo@oceanlinks.co.jp ACL 船会社 コード：OCL1（オーシーエルイチ） ACL 通知先コード：4AOCL(ヨンエーオーシーエル） ACL 通知先コード：2RUTK(ニアールユーティーケー） 搬入予約・搬入確認の方法については下記URLよりご確認ください。 https://www.utoc.co.jp/business/logistics/warehouse/cfs/
A29: 大阪本社 TEL (06) 6263-5923 / FAX (06) 6263-6104
A30: 東京支店 TEL (03) 5543-2361 / FAX (03) 5543-2363
A31: 横浜営業所 TEL (045) 323-9875 / FAX (045) 323-9876

Sheet 14.BKK
A1: OCEAN LINKS SAILING-SCHEDULE >>> 関東積み
W2: 最終更新日： | X2: =TODAY() -> 46303
A3: 14. タイ バンコク （ BANGKOK ） LCL | I3: 遅延・抜港・港湾地区での混乱等により、予定通り運航できない場合がございます。ご迷惑をおかけしますがご理解の程よろしくお願い致します。
A4: 留意点 | B4: VESSEL | E4: VOY.NO. | G4: TYO ETD | I4: TYO CUT | K4: YOK CUT | M4: BKK ETA | O4: CARRIER | R4: 【重要】
B5: =トータル!B358 -> YM INCEPTION | E5: =トータル!C358 -> 251S | G5: =トータル!D358 -> 10/22-22 | I5: =トータル!F358 -> 10/19 | K5: =トータル!H358 -> 10/19 | M5: =トータル!I358 -> 11/04 | O5: =トータル!K358 -> YML | R5: BOOKINGご用命時､必ずご一読ください｡
B6: =トータル!B359 -> YM IMMENSE | E6: =トータル!C359 -> 412S | G6: =トータル!D359 -> 10/29-29 | I6: =トータル!F359 -> 10/26 | K6: =トータル!H359 -> 10/26 | M6: =トータル!I359 -> 11/11 | O6: =トータル!K359 -> YML
A7: ● | B7: =トータル!B360 -> HORAI BRIDGE | E7: =トータル!C360 -> 230S | G7: =トータル!D360 -> 11/05-05 | I7: =トータル!F360 -> 10/30 | K7: =トータル!H360 -> 10/30 | M7: =トータル!I360 -> 11/18 | O7: =トータル!K360 -> YML | R7: 【推奨】
B8: =トータル!B361 -> YM IMPROVEMENT | E8: =トータル!C361 -> 280S | G8: =トータル!D361 -> 11/12-12 | I8: =トータル!F361 -> 11/09 | K8: =トータル!H361 -> 11/09 | M8: =トータル!I361 -> 11/25 | O8: =トータル!K361 -> YML | R8: ONLINE BOOKINGをご活用ください。
B9: =トータル!B362 -> YM INCEPTION | E9: =トータル!C362 -> 252S | G9: =トータル!D362 -> 11/19-19 | I9: =トータル!F362 -> 11/16 | K9: =トータル!H362 -> 11/16 | M9: =トータル!I362 -> 12/02 | O9: =トータル!K362 -> YML | R9: ※BOOKING №を即時 発番可能です。
A10: ● | B10: =トータル!B363 -> YM IMMENSE | E10: =トータル!C363 -> 413S | G10: =トータル!D363 -> 11/26-26 | I10: =トータル!F363 -> 11/20 | K10: =トータル!H363 -> 11/20 | M10: =トータル!I363 -> 12/09 | O10: =トータル!K363 -> YML | R10: 【留意点のご説明】－－－－－－－－－－－－－－－－－－－－－－－－－
B11: =トータル!B364 -> HORAI BRIDGE | E11: =トータル!C364 -> 231S | G11: =トータル!D364 -> 12/03-03 | I11: =トータル!F364 -> 11/30 | K11: =トータル!H364 -> 11/30 | M11: =トータル!I364 -> 12/16 | O11: =トータル!K364 -> YML | R11: ● 祝日の為、CUT日が変更（前倒し）されております。ご注意ください
B12: =トータル!B365 -> YM IMPROVEMENT | E12: =トータル!C365 -> 281S | G12: =トータル!D365 -> 12/10-10 | I12: =トータル!F365 -> 12/07 | K12: =トータル!H365 -> 12/07 | M12: =トータル!I365 -> 12/23 | O12: =トータル!K365 -> YML | R12: × 該当本船は、NO SERVICEとなります。
R13: ▲ 本船名、VOY NO.等が変更されております。ご注意ください。
A14: 送り状にはオーシャンリンクス気付け、または扱いとご記載をお願いいたします。
A15: 横浜受け貨物のバンニング場所は、東京CFS (1FWW2)となります。
A17: 東 京 貨 物 搬 入 先 【搬入事前予約不要】 | O17: 横 浜 貨 物 搬 入 先 【搬入事前予約不要】
A18: ヤマト運輸 東京グローバルロジゲート (TGLG) 気付 オーシャンリンクス 住所 ： 〒143-0003 東京都大田区京浜島1-3-3 TEL : 03-3799-1921/FAX : 03-3799-1944 保税CODE : 1FWW2 DOC送付先 (エクセルデータで送信の場合） ①倉庫送信先 : sea-exp-op@kuronekoyamato.co.jp ②B/L作成部署送付先 : docs-tokyo@oceanlinks.co.jp ACL 船会社 コード：OCL1（オーシーエルイチ） ACL 通知先コード：4AOCL(ヨンエーオーシーエル） ACL 通知先コード：1NYGF | O18: 丸全昭和運輸 本牧A3倉庫 気付 オーシャンリンクス 住所 : 〒231-0811 神奈川県 横浜市 中区本牧埠頭6 TEL : 045-622-6656/FAX : 045-623-5286 保税CODE : 2EW71 ※横浜受け貨物のバンニング場所は、東京CFS (1FWW2)となります。 DOC送付先 (エクセルデータで送信の場合） ①倉庫送信先 : sea-exp-op@kuronekoyamato.co.jp ②B/L作成部署送付先 : docs-tokyo@oceanlinks.co.jp ACL 船会社 コード：OCL1（オーシーエルイチ） ACL 通知先コード：4AOCL(ヨンエーオーシーエル） ACL 通知先コード：1NYGF
A28: 大阪本社 TEL (06) 6263-5923 / FAX (06) 6263-6104
A29: 東京支店 TEL (03) 5543-2361 / FAX (03) 5543-2363
A30: 横浜営業所 TEL (045) 323-9875 / FAX (045) 323-9876

Sheet 15.LCB
A1: OCEAN LINKS SAILING-SCHEDULE >>> 関東積み
W2: 最終更新日： | X2: =TODAY() -> 46303
A3: 15. タイ レムチャバン （ LAEM CHABANG ） LCL | J3: 遅延・抜港・港湾地区での混乱等により、予定通り運航できない場合がございます。ご迷惑をおかけしますがご理解の程よろしくお願い致します。
A4: 留意点 | B4: VESSEL | F4: VOY.NO. | H4: YOK ETD | J4: YOK CUT | L4: TYO CUT | N4: LCB ETA | P4: CARRIER | S4: 【重要】
B5: =トータル!B315 -> YM INCEPTION | F5: =トータル!C315 -> 251S | H5: =トータル!D315 -> 10/23-23 | J5: =トータル!F315 -> 10/21 | L5: =トータル!H315 -> 10/21 | N5: =トータル!I315 -> 11/03 | P5: =トータル!K315 -> YML | S5: BOOKINGご用命時､必ずご一読ください｡
B6: =トータル!B316 -> YM IMMENSE | F6: =トータル!C316 -> 412S | H6: =トータル!D316 -> 10/30-30 | J6: =トータル!F316 -> 10/28 | L6: =トータル!H316 -> 10/28 | N6: =トータル!I316 -> 11/10 | P6: =トータル!K316 -> YML
B7: =トータル!B317 -> HORAI BRIDGE | F7: =トータル!C317 -> 230S | H7: =トータル!D317 -> 11/06-06 | J7: =トータル!F317 -> 11/04 | L7: =トータル!H317 -> 11/04 | N7: =トータル!I317 -> 11/17 | P7: =トータル!K317 -> YML | S7: 【推奨】
B8: =トータル!B318 -> YM IMPROVEMENT | F8: =トータル!C318 -> 280S | H8: =トータル!D318 -> 11/13-13 | J8: =トータル!F318 -> 11/11 | L8: =トータル!H318 -> 11/11 | N8: =トータル!I318 -> 11/24 | P8: =トータル!K318 -> YML | S8: ONLINE BOOKINGをご活用ください。
B9: =トータル!B319 -> YM INCEPTION | F9: =トータル!C319 -> 252S | H9: =トータル!D319 -> 11/20-20 | J9: =トータル!F319 -> 11/18 | L9: =トータル!H319 -> 11/18 | N9: =トータル!I319 -> 12/01 | P9: =トータル!K319 -> YML | S9: ※BOOKING №を即時 発番可能です。
B10: =トータル!B320 -> YM IMMENSE | F10: =トータル!C320 -> 413S | H10: =トータル!D320 -> 11/27-27 | J10: =トータル!F320 -> 11/25 | L10: =トータル!H320 -> 11/25 | N10: =トータル!I320 -> 12/08 | P10: =トータル!K320 -> YML
B11: =トータル!B321 -> HORAI BRIDGE | F11: =トータル!C321 -> 231S | H11: =トータル!D321 -> 12/04-04 | J11: =トータル!F321 -> 12/02 | L11: =トータル!H321 -> 12/02 | N11: =トータル!I321 -> 12/15 | P11: =トータル!K321 -> YML | S11: 【留意点のご説明】－－－－－－－－－－－－－－－－－－－－－－－－－
B12: =トータル!B322 -> YM IMPROVEMENT | F12: =トータル!C322 -> 281S | H12: =トータル!D322 -> 12/11-11 | J12: =トータル!F322 -> 12/09 | L12: =トータル!H322 -> 12/09 | N12: =トータル!I322 -> 12/22 | P12: =トータル!K322 -> YML | S12: ● 祝日の為、CUT日が変更（前倒し）されております。ご注意ください
B13: =トータル!B323 -> YM INCEPTION | F13: =トータル!C323 -> 253S | H13: =トータル!D323 -> 12/18-18 | J13: =トータル!F323 -> 12/16 | L13: =トータル!H323 -> 12/16 | N13: =トータル!I323 -> 12/29 | P13: =トータル!K323 -> YML | S13: × 該当本船は、NO SERVICEとなります。
S14: ▲ 本船名、VOY NO.等が変更されております。ご注意ください。
A15: ※送り状にはオーシャンリンクス気付け、または扱いとご記載をお願いいたします。
A16: ※東京受け貨物のバンニング場所は、横浜CFS (2EW71)となります。
A18: 東 京 貨 物 搬 入 先 【搬入事前予約不要】 | O18: 横 浜 貨 物 搬 入 先 【搬入事前予約不要】
A19: ヤマト運輸 東京グローバルロジゲート (TGLG) 気付 オーシャンリンクス 住所 ： 〒143-0003 東京都大田区京浜島1-3-3 TEL : 03-3799-1921/FAX : 03-3799-1944 保税CODE : 1FWW2 ※東京受け貨物のバンニング場所は、横浜CFS (2EW71)となります。 DOC送付先 (エクセルデータで送信の場合） ①倉庫送信先 : sea-exp-op@kuronekoyamato.co.jp ②B/L作成部署送付先 : docs-tokyo@oceanlinks.co.jp ACL 船会社 コード：OCL1（オーシーエルイチ） ACL 通知先コード：4AOCL(ヨンエーオーシーエル） ACL 通知先コード：1NYGF | O19: 丸全昭和運輸 本牧A3倉庫 気付 オーシャンリンクス 住所 : 〒231-0811 神奈川県 横浜市 中区本牧埠頭6 TEL : 045-622-6656/FAX : 045-623-5286 保税CODE : 2EW71 DOC送付先 (エクセルデータで送信の場合） ①倉庫送信先 : sea-exp-op@kuronekoyamato.co.jp ②B/L作成部署送付先 : docs-tokyo@oceanlinks.co.jp ACL 船会社 コード：OCL1（オーシーエルイチ） ACL 通知先コード：4AOCL(ヨンエーオーシーエル） ACL 通知先コード：1NYGF
A28: 大阪本社 TEL (06) 6263-5923 / FAX (06) 6263-6104
A29: 東京支店 TEL (03) 5543-2361 / FAX (03) 5543-2363
A30: 横浜営業所 TEL (045) 323-9875 / FAX (045) 323-9876

Sheet 16.HCH
A1: OCEAN LINKS SAILING-SCHEDULE >>> 関東積み
Y2: 最終更新日： | Z2: =TODAY() -> 46303
A3: 16.ベトナム ホーチミン （ HOCHIMINH ） LCL | K3: 遅延・抜港・港湾地区での混乱等により、予定通り運航できない場合がございます。ご迷惑をおかけしますがご理解の程よろしくお願い致します。
A4: 留意点 | B4: VESSEL | F4: VOY.NO. | I4: TYO ETD | K4: TYO CUT | M4: YOK CUT | O4: HCH ETA | Q4: CARRIER | T4: 【重要】
A5: ▲ | B5: =トータル!B330&"" -> SITC GUANGDONG | F5: =トータル!C330 -> 2622S | I5: =トータル!D330 -> 10/17-18 | K5: =トータル!F330 -> 10/13 | M5: =トータル!H330 -> 10/13 | O5: =トータル!I330 -> 10/30 | Q5: SITC | T5: BOOKINGご用命時､必ずご一読ください｡
B6: =トータル!B331 -> WAN HAI 296 | F6: =トータル!C331 -> S065 | I6: =トータル!D331 -> 10/22-23 | K6: =トータル!F331 -> 10/20 | M6: =トータル!H331 -> 10/20 | O6: =トータル!I331 -> 11/03 | Q6: =トータル!K331 -> IAL
B7: =トータル!B332 -> WAN HAI 290 | F7: =トータル!C332 -> S092 | I7: =トータル!D332 -> 10/29-30 | K7: =トータル!F332 -> 10/27 | M7: =トータル!H332 -> 10/27 | O7: =トータル!I332 -> 11/10 | Q7: =トータル!K332 -> IAL | T7: 【推奨】
A8: ● | B8: =トータル!B333 -> INTERASIA PURSUIT | F8: =トータル!C333 -> S100 | I8: =トータル!D333 -> 11/05-06 | K8: =トータル!F333 -> 11/02 | M8: =トータル!H333 -> 11/02 | O8: =トータル!I333 -> 11/17 | Q8: =トータル!K333 -> IAL | T8: ONLINE BOOKINGをご活用ください。
B9: =トータル!B334 -> WAN HAI 296 | F9: =トータル!C334 -> S066 | I9: =トータル!D334 -> 11/12-13 | K9: =トータル!F334 -> 11/10 | M9: =トータル!H334 -> 11/10 | O9: =トータル!I334 -> 11/24 | Q9: =トータル!K334 -> IAL | T9: ※BOOKING №を即時 発番可能です。
B10: =トータル!B335 -> WAN HAI 290 | F10: =トータル!C335 -> S093 | I10: =トータル!D335 -> 11/19-20 | K10: =トータル!F335 -> 11/17 | M10: =トータル!H335 -> 11/17 | O10: =トータル!I335 -> 12/01 | Q10: =トータル!K335 -> IAL
B11: =トータル!B336 -> INTERASIA PURSUIT | F11: =トータル!C336 -> S101 | I11: =トータル!D336 -> 11/26-27 | K11: =トータル!F336 -> 11/24 | M11: =トータル!H336 -> 11/24 | O11: =トータル!I336 -> 12/08 | Q11: =トータル!K336 -> IAL | T11: 【留意点のご説明】－－－－－－－－－－－－－－－－－－－－－－－－－
B12: =トータル!B337 -> 0 | F12: =トータル!C337 -> 0 | I12: =トータル!D337 -> 12/03-04 | K12: =トータル!F337 -> 12/01 | M12: =トータル!H337 -> 12/01 | O12: =トータル!I337 -> 12/15 | Q12: =トータル!K337 -> IAL | T12: ● 祝日の為、CUT日が変更（前倒し）されております。ご注意ください
B13: =トータル!B338 -> 0 | F13: =トータル!C338 -> 0 | I13: =トータル!D338 -> 12/10-11 | K13: =トータル!F338 -> 12/08 | M13: =トータル!H338 -> 12/08 | O13: =トータル!I338 -> 12/22 | Q13: =トータル!K338 -> IAL | T13: × 該当本船は、NO SERVICEとなります。
B14: =トータル!B339 -> 0 | F14: =トータル!C339 -> 0 | I14: =トータル!D339 -> 12/17-18 | K14: =トータル!F339 -> 12/15 | M14: =トータル!H339 -> 12/15 | O14: =トータル!I339 -> 12/29 | Q14: =トータル!K339 -> IAL | T14: ▲ 本船名、VOY NO.等が変更されております。ご注意ください。
B15: =トータル!B340 -> 0 | F15: =トータル!C340 -> 0 | I15: =トータル!D340 -> 12/25-26 | K15: =トータル!F340 -> 12/22 | M15: =トータル!H340 -> 12/22 | O15: =トータル!I340 -> 01/05 | Q15: =トータル!K340 -> IAL | T15: ※ こちらの本船は、横浜出港のサービスとなります。
A18: 東 京 貨 物 搬 入 先 【予約制度】 | P18: 横 浜 貨 物 搬 入 先 【予約制度】
A19: 株式会社宇徳 東京フレートセンター 気付 オーシャンリンクス 東京都品川区八潮2‐8‐1 TEL 03-3790-1241/FAX 03-3790-0803 保税名称 : UTOC TFC H /W NACCS : 1FWC7 DOC送付先 ①搬入倉庫送信先 tyo_exp_document@utoc.co.jp ②B/L作成部署送付先 docs-tokyo@oceanlinks.co.jp ACL 船会社 コード：OCL1（オーシーエルイチ） ACL 通知先コード：4AOCL(ヨンエーオーシーエル） ACL 通知先コード：1CUTK(イチシーユーティーケー） 搬入予約・搬入確認の方法については下記URLよりご確認ください。 | P19: 株式会社宇徳 本牧A-6CFS 気付 オーシャンリンクス 神奈川県横浜市中区本牧埠頭 9-1 TEL 045-264-7011/FAX 045-264-8036 保税名称 : 株式会社宇徳 本牧埠頭 A-6CFS 保税蔵置場 NACCS: 2EWT8 DOC送付先 ①搬入倉庫送信先 yok_exp_document@utoc.co.jp ②B/L作成部署送付先 docs-tokyo@oceanlinks.co.jp ACL 船会社 コード：OCL1（オーシーエルイチ） ACL 通知先コード：4AOCL(ヨンエーオーシーエル） ACL 通知先コード：2RUTK(ニアールユーティーケー） 搬入予約・搬入確認の方法については下記URLよりご確認ください。
A28: https://www.utoc.co.jp/business/logistics/warehouse/tfc/ | P28: https://www.utoc.co.jp/business/logistics/warehouse/cfs/
A31: 大阪本社 TEL (06) 6263-5923 / FAX (06) 6263-6104
A32: 東京支店 TEL (03) 5543-2361 / FAX (03) 5543-2363
A33: 横浜営業所 TEL (045) 323-9875 / FAX (045) 323-9876

Sheet 17.HPH
A1: OCEAN LINKS SAILING-SCHEDULE >>> 関東積み
Z2: 最終更新日： | AA2: =TODAY() -> 46303
A3: 17.ベトナム ハイフォン （ HAIPHONG ） LCL | K3: 遅延・抜港・港湾地区での混乱等により、予定通り運航できない場合がございます。ご迷惑をおかけしますがご理解の程よろしくお願い致します。
A4: 留意点 | B4: VESSEL | F4: VOY.NO. | I4: TYO ETD | K4: TYO CUT | M4: YOK CUT | O4: HPH ETA | Q4: CARRIER | T4: 【重要】
A5: × | B5: =トータル!B343 -> NO SERVICE | F5: =トータル!C343 -> N/A | I5: =トータル!D343 -> 10/07-07 | K5: =トータル!F343 -> 10/05 | M5: =トータル!H343 -> 10/05 | O5: =トータル!I343 -> 10/18 | Q5: ONE | T5: BOOKINGご用命時､必ずご一読ください｡
A6: ●▲ | B6: =トータル!B344 -> SWAN RIVER BRIDGE | F6: =トータル!C344 -> 134S | I6: =トータル!D344 -> 10/14-14 | K6: =トータル!F344 -> 10/09 | M6: =トータル!H344 -> 10/09 | O6: =トータル!I344 -> 10/25 | Q6: =トータル!K344 -> ONE
A7: ▲ | B7: =トータル!B345 -> ONE PEARL RIVER | F7: =トータル!C345 -> 238S | I7: =トータル!D345 -> 10/21-21 | K7: =トータル!F345 -> 10/19 | M7: =トータル!H345 -> 10/19 | O7: =トータル!I345 -> 11/01 | Q7: =トータル!K345 -> ONE | T7: 【推奨】
A8: ▲ | B8: =トータル!B346 -> SMOOTH WIND | F8: =トータル!C346 -> 027S | I8: =トータル!D346 -> 10/28-28 | K8: =トータル!F346 -> 10/26 | M8: =トータル!H346 -> 10/26 | O8: =トータル!I346 -> 11/08 | Q8: =トータル!K346 -> ONE | T8: ONLINE BOOKINGをご活用ください。
A9: ●▲ | B9: =トータル!B347 -> SWAN RIVER BRIDGE | F9: =トータル!C347 -> 135S | I9: =トータル!D347 -> 11/04-04 | K9: =トータル!F347 -> 10/30 | M9: =トータル!H347 -> 10/30 | O9: =トータル!I347 -> 11/15 | Q9: =トータル!K347 -> ONE | T9: ※BOOKING №を即時 発番可能です。
B10: =トータル!B348 -> ONE PEARL RIVER | F10: =トータル!C348 -> 239S | I10: =トータル!D348 -> 11/11-11 | K10: =トータル!F348 -> 11/09 | M10: =トータル!H348 -> 11/09 | O10: =トータル!I348 -> 11/22 | Q10: =トータル!K348 -> ONE | T10: 【留意点のご説明】－－－－－－－－－－－－－－－－－－－－－－－－－
B11: =トータル!B349 -> SMOOTH WIND | F11: =トータル!C349 -> 028S | I11: =トータル!D349 -> 11/18-18 | K11: =トータル!F349 -> 11/16 | M11: =トータル!H349 -> 11/16 | O11: =トータル!I349 -> 11/29 | Q11: =トータル!K349 -> ONE | T11: ● 祝日の為、CUT日が変更（前倒し）されております。ご注意ください
A12: ● | B12: =トータル!B350 -> SWAN RIVER BRIDGE | F12: =トータル!C350 -> 136S | I12: =トータル!D350 -> 11/25-25 | K12: =トータル!F350 -> 11/20 | M12: =トータル!H350 -> 11/20 | O12: =トータル!I350 -> 12/06 | Q12: =トータル!K350 -> ONE | T12: × 該当本船は、NO SERVICEとなります。
B13: =トータル!B351 -> ONE PEARL RIVER | F13: =トータル!C351 -> 240S | I13: =トータル!D351 -> 12/02-02 | K13: =トータル!F351 -> 11/30 | M13: =トータル!H351 -> 11/30 | O13: =トータル!I351 -> 12/13 | Q13: =トータル!K352 -> ONE | T13: ▲ 本船名、VOY NO.等が変更されております。ご注意ください。
A14: =トータル!A352&"" | B14: =トータル!B352 -> 0 | F14: =トータル!C353 -> 0 | I14: =トータル!D353 -> 12/16-16 | K14: =トータル!F353 -> 12/14 | M14: =トータル!H353 -> 12/14 | O14: =トータル!I353 -> 12/27 | Q14: =トータル!K353 -> ONE
A15: =トータル!A353&"" | B15: =トータル!B353 -> 0 | F15: =トータル!C354 -> 0 | I15: =トータル!D354 -> 12/23-23 | K15: =トータル!F354 -> 12/21 | M15: =トータル!H354 -> 12/21 | O15: =トータル!I354 -> 01/03 | Q15: =トータル!K354 -> ONE | T15: ※ 年末年始のスケジュールは変更になる場合がございます。
B16: =トータル!B352 -> 0 | F16: =トータル!C352 -> 0 | I16: =トータル!D352 -> 12/09-09 | K16: =トータル!F352 -> 12/07 | M16: =トータル!H352 -> 12/07 | O16: =トータル!I352 -> 12/20 | Q16: ONE | T16: 予めご了承くださいます様お願い申し上げます。
A18: 東 京 貨 物 搬 入 先 【予約制度】 | Q18: 横 浜 貨 物 搬 入 先 【予約制度】
A19: 株式会社宇徳 東京フレートセンター 気付 オーシャンリンクス 東京都品川区八潮2‐8‐1 TEL 03-3790-1241/FAX 03-3790-0803 保税名称 : UTOC TFC H /W NACCS : 1FWC7 DOC送付先 ①搬入倉庫送信先 tyo_exp_document@utoc.co.jp ②B/L作成部署送付先 docs-tokyo@oceanlinks.co.jp ACL 船会社 コード：OCL1（オーシーエルイチ） ACL 通知先コード：4AOCL(ヨンエーオーシーエル） ACL 通知先コード：1CUTK(イチシーユーティーケー） 搬入予約・搬入確認の方法については下記URLよりご確認ください。 | Q19: 株式会社宇徳 本牧A-6CFS 気付 オーシャンリンクス 神奈川県横浜市中区本牧埠頭 9-1 TEL 045-264-7011/FAX 045-264-8036 保税名称 : 株式会社宇徳 本牧埠頭 A-6CFS 保税蔵置場 NACCS: 2EWT8 DOC送付先 ①搬入倉庫送信先 yok_exp_document@utoc.co.jp ②B/L作成部署送付先 docs-tokyo@oceanlinks.co.jp ACL 船会社 コード：OCL1（オーシーエルイチ） ACL 通知先コード：4AOCL(ヨンエーオーシーエル） ACL 通知先コード：2RUTK(ニアールユーティーケー） 搬入予約・搬入確認の方法については下記URLよりご確認ください。
A28: https://www.utoc.co.jp/business/logistics/warehouse/tfc/ | Q28: https://www.utoc.co.jp/business/logistics/warehouse/cfs/
A32: 大阪本社 TEL (06) 6263-5923 / FAX (06) 6263-6104
A33: 東京支店 TEL (03) 5543-2361 / FAX (03) 5543-2363
A34: 横浜営業所 TEL (045) 323-9875 / FAX (045) 323-9876

Sheet 18.SHA
A1: OCEAN LINKS SAILING-SCHEDULE >>> 関東積み
AA2: 最終更新日： | AB2: =TODAY() -> 46303
A3: 18.中国 上海 （ SHANGHAI ） LCL | L3: 遅延・抜港・港湾地区での混乱等により、予定通り運航できない場合がございます。ご迷惑をおかけしますがご理解の程よろしくお願い致します。
A4: 留意点 | B4: VESSEL | F4: VOY.NO. | H4: TYO | L4: YOK | P4: SHA ETA | R4: CARRIER
H5: CUT | J5: ETD | L5: CUT | N5: ETD | U5: 【重要】
B6: =トータル!B133 -> MILD ROSE | F6: =トータル!C133 -> 2642S | H6: =トータル!F133 -> 10/13 | J6: =トータル!D133 -> 10/15-15 | L6: =トータル!F146 -> 10/14 | N6: =トータル!D146 -> 10/15-16 | P6: =トータル!I133 -> 10/18 | R6: =トータル!K133 -> SJJ | U6: BOOKINGご用命時､必ずご一読ください｡
B7: =トータル!B134 -> AN DA | F7: =トータル!C134 -> 2642W | H7: =トータル!F134 -> 10/15 | J7: =トータル!D134 -> 10/19-19 | L7: =トータル!F147 -> 10/16 | N7: =トータル!D147 -> 10/19-20 | P7: =トータル!I134 -> 10/22 | R7: =トータル!K134 -> SJJ
B8: =トータル!B135 -> MILD ORCHID | F8: =トータル!C135 -> 2643S | H8: =トータル!F135 -> 10/20 | J8: =トータル!D135 -> 10/22-22 | L8: =トータル!F148 -> 10/21 | N8: =トータル!D148 -> 10/22-23 | P8: =トータル!I135 -> 10/25 | R8: =トータル!K135 -> SJJ | U8: 【推奨】
B9: =トータル!B136 -> SHUN DA | F9: =トータル!C136 -> 2643W | H9: =トータル!F136 -> 10/22 | J9: =トータル!D136 -> 10/26-26 | L9: =トータル!F149 -> 10/23 | N9: =トータル!D149 -> 10/26-27 | P9: =トータル!I136 -> 10/29 | R9: =トータル!K136 -> SJJ | U9: ONLINE BOOKINGをご活用ください。
B10: =トータル!B137 -> MILD PEONY | F10: =トータル!C137 -> 2644S | H10: =トータル!F137 -> 10/27 | J10: =トータル!D137 -> 10/29-29 | L10: =トータル!F150 -> 10/28 | N10: =トータル!D150 -> 10/29-30 | P10: =トータル!I137 -> 11/01 | R10: =トータル!K137 -> SJJ | U10: ※BOOKING №を即時 発番可能です。 | AF10: `
B11: =トータル!B138 -> AN DA | F11: =トータル!C138 -> 2644W | H11: =トータル!F138 -> 10/29 | J11: =トータル!D138 -> 11/02-02 | L11: =トータル!F151 -> 10/30 | N11: =トータル!D151 -> 11/02-03 | P11: =トータル!I138 -> 11/05 | R11: =トータル!K138 -> SJJ | U11: 【留意点のご説明】－－－－－－－－－－－－－－－－－－－－－－－－－
A12: ● | B12: =トータル!B139 -> MILD JASMINE | F12: =トータル!C139 -> 2645S | H12: =トータル!F139 -> 11/02 | J12: =トータル!D139 -> 11/05-05 | L12: =トータル!F152 -> 11/04 | N12: =トータル!D152 -> 11/05-06 | P12: =トータル!I139 -> 11/08 | R12: =トータル!K139 -> SJJ | U12: ● 祝日の為、CUT日が変更（前倒し）されております。ご注意ください
B13: =トータル!B140 -> SHUN DA | F13: =トータル!C140 -> 2645W | H13: =トータル!F140 -> 11/05 | J13: =トータル!D140 -> 11/09-09 | L13: =トータル!F153 -> 11/06 | N13: =トータル!D153 -> 11/09-10 | P13: =トータル!I140 -> 11/12 | R13: =トータル!K140 -> SJJ | U13: × 該当本船は、NO SERVICEとなります。
B14: =トータル!B141 -> MILD ROSE | F14: =トータル!C141 -> 2646S | H14: =トータル!F141 -> 11/10 | J14: =トータル!D141 -> 11/12-12 | L14: =トータル!F154 -> 11/11 | N14: =トータル!D154 -> 11/12-13 | P14: =トータル!I141 -> 11/15 | R14: =トータル!K141 -> SJJ | U14: ▲ 本船名、VOY NO.等が変更されております。ご注意ください。
J15: =トータル!D142 -> 11/16-16 | L15: =トータル!F155 -> 11/13 | N15: =トータル!D155 -> 11/16-17 | P15: =トータル!I142 -> 11/19 | R15: =トータル!K142 -> SJJ
A16: SHUN DA のコールサインは、"9VAB9"をご使用ください。
A18: 東 京 貨 物 搬 入 先 【予約制度】 | O18: 横 浜 貨 物 搬 入 先 【予約制度】
A19: 株式会社宇徳 東京フレートセンター 気付 オーシャンリンクス 東京都品川区八潮2‐8‐1 TEL 03-3790-1241/FAX 03-3790-0803 保税名称 : UTOC TFC H /W NACCS : 1FWC7 DOC送付先 ①搬入倉庫送信先 tyo_exp_document@utoc.co.jp ②B/L作成部署送付先 docs-tokyo@oceanlinks.co.jp ACL 船会社 コード：OCL1（オーシーエルイチ） ACL 通知先コード：4AOCL(ヨンエーオーシーエル） ACL 通知先コード：1CUTK(イチシーユーティーケー） 搬入予約・搬入確認の方法については下記URLよりご確認ください。 | O19: 株式会社宇徳 本牧A-6CFS 気付 オーシャンリンクス 神奈川県横浜市中区本牧埠頭 9-1 TEL 045-264-7011/FAX 045-264-8036 保税名称 : 株式会社宇徳 本牧埠頭 A-6CFS 保税蔵置場 NACCS: 2EWT8 DOC送付先 ①搬入倉庫送信先 yok_exp_document@utoc.co.jp ②B/L作成部署送付先 docs-tokyo@oceanlinks.co.jp ACL 船会社 コード：OCL1（オーシーエルイチ） ACL 通知先コード：4AOCL(ヨンエーオーシーエル） ACL 通知先コード：2RUTK(ニアールユーティーケー） 搬入予約・搬入確認の方法については下記URLよりご確認ください。
A27: https://www.utoc.co.jp/business/logistics/warehouse/tfc/ | O27: https://www.utoc.co.jp/business/logistics/warehouse/cfs/
A29: 大阪本社 TEL (06) 6263-5923 / FAX (06) 6263-6104
A30: 東京支店 TEL (03) 5543-2361 / FAX (03) 5543-2363
A31: 横浜営業所 TEL (045) 323-9875 / FAX (045) 323-9876

Sheet 19.XIN
A1: OCEAN LINKS SAILING-SCHEDULE >>> 関東積み
W2: 最終更新日： | X2: =TODAY() -> 46303
A3: 19.中国 新港 （ XINGANG ） LCL | J3: 遅延・抜港・港湾地区での混乱等により、予定通り運航できない場合がございます。ご迷惑をおかけしますがご理解の程よろしくお願い致します。
A4: 留意点 | B4: VESSEL | F4: VOY.NO. | H4: YOK ETD | J4: YOK CUT | L4: TYO CUT | N4: XIN ETA | P4: CARRIER | S4: 【重要】
B5: =トータル!B189&"" -> A FLENSBURG | F5: =トータル!C189&"" -> 2640W | H5: =トータル!D189&"" -> 10/09-10 | J5: =トータル!F189&"" -> 10/07 | L5: =トータル!H189&"" -> 10/07 | N5: =トータル!I189&"" -> 10/16 | P5: =トータル!K189&"" -> STAROCEAN | S5: BOOKINGご用命時､必ずご一読ください｡
B6: =トータル!B190&"" -> A GALAXY | F6: =トータル!C190&"" -> 2641W | H6: =トータル!D190&"" -> 10/16-17 | J6: =トータル!F190&"" -> 10/14 | L6: =トータル!H190&"" -> 10/14 | N6: =トータル!I190&"" -> 10/23 | P6: =トータル!K190&"" -> STAROCEAN
B7: =トータル!B191&"" -> A FLENSBURG | F7: =トータル!C191&"" -> 2642W | H7: =トータル!D191&"" -> 10/23-24 | J7: =トータル!F191&"" -> 10/21 | L7: =トータル!H191&"" -> 10/21 | N7: =トータル!I191&"" -> 10/30 | P7: =トータル!K191&"" -> STAROCEAN | S7: 【推奨】
B8: =トータル!B192&"" -> A GALAXY | F8: =トータル!C192&"" -> 2643W | H8: =トータル!D192&"" -> 10/30-31 | J8: =トータル!F192&"" -> 10/28 | L8: =トータル!H192&"" -> 10/28 | N8: =トータル!I192&"" -> 11/06 | P8: =トータル!K192&"" -> STAROCEAN | S8: ONLINE BOOKINGをご活用ください。
B9: =トータル!B193&"" -> A FLENSBURG | F9: =トータル!C193&"" -> 2644W | H9: =トータル!D193&"" -> 11/06-07 | J9: =トータル!F193&"" -> 11/04 | L9: =トータル!H193&"" -> 11/04 | N9: =トータル!I193&"" -> 11/13 | P9: =トータル!K193&"" -> STAROCEAN | S9: ※BOOKING №を即時 発番可能です。
B10: =トータル!B194&"" -> A GALAXY | F10: =トータル!C194&"" -> 2645W | H10: =トータル!D194&"" -> 11/13-14 | J10: =トータル!F194&"" -> 11/11 | L10: =トータル!H194&"" -> 11/11 | N10: =トータル!I194&"" -> 11/20 | P10: =トータル!K194&"" -> STAROCEAN
A11: =トータル!A195&"" | B11: =トータル!B195&"" -> A FLENSBURG | F11: =トータル!C195&"" -> 2646W | H11: =トータル!D195&"" -> 11/20-21 | J11: =トータル!F195&"" -> 11/18 | L11: =トータル!H195&"" -> 11/18 | N11: =トータル!I195&"" -> 11/27 | P11: =トータル!K195&"" -> STAROCEAN | S11: 【留意点のご説明】－－－－－－－－－－－－－－－－－－－－－－－－－
B12: =トータル!B196&"" -> A GALAXY | F12: =トータル!C196&"" -> 2647W | H12: =トータル!D196&"" -> 11/27-28 | J12: =トータル!F196&"" -> 11/25 | L12: =トータル!H196&"" -> 11/25 | N12: =トータル!I196&"" -> 12/04 | P12: =トータル!K196&"" -> STAROCEAN | S12: ● 祝日の為、CUT日が変更（前倒し）されております。ご注意ください
B13: =トータル!B197&"" | F13: =トータル!C197&"" | H13: =トータル!D197&"" -> 12/04-05 | J13: =トータル!F197&"" -> 12/02 | L13: =トータル!H197&"" -> 12/02 | N13: =トータル!I197&"" -> 12/11 | P13: =トータル!K197&"" -> STAROCEAN | S13: × 該当本船は、NO SERVICEとなります。
A14: =トータル!A198&"" | B14: =トータル!B198&"" | F14: =トータル!C198&"" | H14: =トータル!D198&"" -> 12/11-12 | J14: =トータル!F198&"" -> 12/09 | L14: =トータル!H198&"" -> 12/09 | N14: =トータル!I198&"" -> 12/18 | P14: =トータル!K198&"" -> STAROCEAN | S14: ▲ 本船名、VOY NO.等が変更されております。ご注意ください。
B15: =トータル!B199 -> 0 | F15: =トータル!C199 -> 0 | H15: =トータル!D199 -> 12/18-19 | J15: =トータル!F199 -> 12/16 | L15: =トータル!H199 -> 12/16 | N15: =トータル!I199 -> 12/25 | P15: =トータル!K199 -> STAROCEAN
A17: 東 京 貨 物 搬 入 先 | O17: 横 浜 貨 物 搬 入
A18: 東 海運株式会社 東京支店 東京都大田区東海４-８-１５ TEL : 03-3790-5166 FAX : 03-3790-5167 保税名称：東海運 大井 R/C H/W NACCS:1FW02 ↓↓DOCはこちらへもご送付お願いします↓↓ 弊社B/L作成部署： docs-tokyo@oceanlinks.co.jp | O18: 東 海運株式会社 京浜事業部 物流部 横浜港物流センター 住所：神奈川県横浜市中区本牧ふ頭 9-78 TEL:045-628-2050 FAX: 045-628-2051 NACCS: 2EWU3 搬入受付時間：８：３０-16:15 ↓↓DOCはこちらへもご送付お願いします 弊社B/L作成部署： docs-tokyo@oceanlinks.co.jp
A24: 大阪本社 TEL (06) 6263-5923 / FAX (06) 6263-6104
A25: 東京支店 TEL (03) 5543-2361 / FAX (03) 5543-2363
A26: 横浜営業所 TEL (045) 323-9875 / FAX (045) 323-9876

Sheet 20.DLC
A1: OCEAN LINKS SAILING-SCHEDULE >>> 関東積み
W2: 最終更新日： | X2: =TODAY() -> 46303
A3: 20.中国 大連 （ DALIAN ） LCL | J3: 遅延・抜港・港湾地区での混乱等により、予定通り運航できない場合がございます。ご迷惑をおかけしますがご理解の程よろしくお願い致します。
A4: 留意点 | B4: VESSEL | F4: VOY.NO. | H4: YOK ETD | J4: YOK CUT | L4: TYO CUT | N4: DLC ETA | P4: CARRIER | S4: 【重要】
A5: ▲ | B5: =トータル!B174&"" -> CONSIGNIA | F5: =トータル!C174&"" -> 2650W | H5: =トータル!D174&"" -> 10/09-10 | J5: =トータル!F174&"" -> 10/05 | L5: =トータル!H174&"" -> 10/05 | N5: =トータル!I174&"" -> 10/17 | P5: =トータル!K174&"" -> SITC | S5: BOOKINGご用命時､必ずご一読ください｡
A6: ● | B6: =トータル!B175&"" -> SITC PINGHE | F6: =トータル!C175&"" -> 2642W | H6: =トータル!D175&"" -> 10/16-16 | J6: =トータル!F175&"" -> 10/09 | L6: =トータル!H175&"" -> 10/09 | N6: =トータル!I175&"" -> 10/20 | P6: =トータル!K175&"" -> SITC
B7: =トータル!B176&"" -> SITC TOKUYAMA | F7: =トータル!C176&"" -> 2644W | H7: =トータル!D176&"" -> 10/23-23 | J7: =トータル!F176&"" -> 10/19 | L7: =トータル!H176&"" -> 10/19 | N7: =トータル!I176&"" -> 10/27 | P7: =トータル!K176&"" -> SITC | S7: 【推奨】
B8: =トータル!B177&"" -> SITC PINGHE | F8: =トータル!C177&"" -> 2644W | H8: =トータル!D177&"" -> 10/30-30 | J8: =トータル!F177&"" -> 10/26 | L8: =トータル!H177&"" -> 10/26 | N8: =トータル!I177&"" -> 11/03 | P8: =トータル!K177&"" -> SITC | S8: ONLINE BOOKINGをご活用ください。
A9: ● | B9: =トータル!B178&"" -> SITC TOKUYAMA | F9: =トータル!C178&"" -> 2646W | H9: =トータル!D178&"" -> 11/06-06 | J9: =トータル!F178&"" -> 10/30 | L9: =トータル!H178&"" -> 10/30 | N9: =トータル!I178&"" -> 11/10 | P9: =トータル!K178&"" -> SITC | S9: ※BOOKING №を即時 発番可能です。
B10: =トータル!B179&"" -> SITC PINGHE | F10: =トータル!C179&"" -> 2646W | H10: =トータル!D179&"" -> 11/13-13 | J10: =トータル!F179&"" -> 11/09 | L10: =トータル!H179&"" -> 11/09 | N10: =トータル!I179&"" -> 11/17 | P10: =トータル!K179&"" -> SITC | S10: 【留意点のご説明】－－－－－－－－－－－－－－－－－－－－－－－－－
B11: =トータル!B180&"" -> SITC TOKUYAMA | F11: =トータル!C180&"" -> 2648W | H11: =トータル!D180&"" -> 11/20-20 | J11: =トータル!F180&"" -> 11/16 | L11: =トータル!H180&"" -> 11/16 | N11: =トータル!I180&"" -> 11/24 | P11: =トータル!K180&"" -> SITC | S11: ● 祝日の為、CUT日が変更（前倒し）されております。ご注意ください
A12: ● | B12: =トータル!B181&"" -> SITC PINGHE | F12: =トータル!C181&"" -> 2648W | H12: =トータル!D181&"" -> 11/27-27 | J12: =トータル!F181&"" -> 11/20 | L12: =トータル!H181&"" -> 11/20 | N12: =トータル!I181&"" -> 12/01 | P12: =トータル!K181&"" -> SITC | S12: × 該当本船は、NO SERVICEとなります。
B13: =トータル!B182&"" -> SITC TOKUYAMA | F13: =トータル!C182&"" -> 2650W | H13: =トータル!D182&"" -> 12/04-04 | J13: =トータル!F182&"" -> 11/30 | L13: =トータル!H182&"" -> 11/30 | N13: =トータル!I182&"" -> 12/08 | P13: =トータル!K182&"" -> SITC | S13: ▲ 本船名、VOY NO.等が変更されております。ご注意ください。
B14: =トータル!B183&"" | F14: =トータル!C183&"" | H14: =トータル!D183&"" -> 12/11-11 | J14: =トータル!F183&"" -> 12/07 | L14: =トータル!H183&"" -> 12/07 | N14: =トータル!I183&"" -> 12/15 | P14: =トータル!K183&"" -> SITC
A16: 東 京 貨 物 搬 入 先 | O16: 横 浜 貨 物 搬 入 先
A17: ジャパン・バン・ラインズ株式会社 大井支店 東京都大田区東海4-7-13 鈴江コーポレーション大井臨海倉庫営業所内 TEL : 03-3799-0642 FAX : 03-3790-4581 保税地域コード（NACCS):（1FW15) ACL 船会社 コード：OCL1（オーシーエルイチ） ACL 通知先コード：4AOCL(ヨンエーオーシーエル） ↓↓DOCはこちらへもご送付お願いします↓↓ 弊社B/L作成部署： docs-tokyo@oceanlinks.co.jp | O17: ジャパン・バン・ラインズ株式会社 横浜支店 横浜市中区本牧埠頭6番地 TEL : 045-625-3414 FAX : 045-625-3433 保税地域コード（NACCS):（2EDZ3 / 内貨） 保税地域コード（NACCS):（2EJ23 / 外貨） ACL 船会社 コード：OCL1（オーシーエルイチ） ACL 通知先コード：4AOCL(ヨンエーオーシーエル） ↓↓DOCはこちらへもご送付お願いします↓↓ 弊社B/L作成部署： docs-tokyo@oceanlinks.co.jp
A24: 大阪本社 TEL (06) 6263-5923 / FAX (06) 6263-6104
A25: 東京支店 TEL (03) 5543-2361 / FAX (03) 5543-2363
A26: 横浜営業所 TEL (045) 323-9875 / FAX (045) 323-9876

Sheet 宇徳CFS搬入先情報
A1: 宇徳CFS 搬入先情報
A2: 東 京 貨 物 搬 入 先 【予約制度】
A3: 株式会社宇徳 東京フレートセンター 気付 オーシャンリンクス 東京都品川区八潮2‐8‐1 TEL 03-3790-1241/FAX 03-3790-0803 保税名称 : UTOC TFC H /W NACCS : 1FWC7 DOC送付先 ①搬入倉庫送信先 tyo_exp_document@utoc.co.jp ②B/L作成部署送付先 docs-tokyo@oceanlinks.co.jp ACL 船会社 コード：OCL1（オーシーエルイチ） ACL 通知先コード：4AOCL(ヨンエーオーシーエル） ACL 通知先コード：1CUTK(イチシーユーティーケー） 搬入予約・搬入確認の方法については下記URLよりご確認ください。
A12: https://www.utoc.co.jp/business/logistics/warehouse/tfc/
A14: 横 浜 貨 物 搬 入 先 【予約制度】
A15: 株式会社宇徳 本牧A-6CFS 気付 オーシャンリンクス 神奈川県横浜市中区本牧埠頭 9-1 TEL 045-264-7011/FAX 045-264-8036 保税名称 : 株式会社宇徳 本牧埠頭 A-6CFS 保税蔵置場 NACCS: 2EWT8 DOC送付先 ①搬入倉庫送信先 yok_exp_document@utoc.co.jp ②B/L作成部署送付先 docs-tokyo@oceanlinks.co.jp ACL 船会社 コード：OCL1（オーシーエルイチ） ACL 通知先コード：4AOCL(ヨンエーオーシーエル） ACL 通知先コード：2RUTK(ニアールユーティーケー） 搬入予約・搬入確認の方法については下記URLよりご確認ください。
A23: https://www.utoc.co.jp/business/logistics/warehouse/cfs/

Sheet 21.TAO
A1: OCEAN LINKS SAILING-SCHEDULE >>> 関東積み
X2: 最終更新日： | Y2: =TODAY() -> 46303
A3: 21.中国 青島 （ QINGDAO ） LCL | J3: 遅延・抜港・港湾地区での混乱等により、予定通り運航できない場合がございます。ご迷惑をおかけしますがご理解の程よろしくお願い致します。
A4: 留意点 | B4: VESSEL | F4: VOY.NO. | H4: YOK ETD | J4: YOK CUT | L4: TYO CUT | N4: TAO ETA | P4: CARRIER | S4: 【重要】
B5: =トータル!B159&"" -> MILD TEMPO | F5: =トータル!C159&"" -> 2640W | H5: =トータル!D159&"" -> 10/06-07 | J5: =トータル!F159&"" -> 10/02 | L5: =トータル!H159&"" -> 10/02 | N5: =トータル!I159&"" -> 10/09 | P5: =トータル!K159&"" -> CCL | S5: BOOKINGご用命時､必ずご一読ください｡
A6: × | B6: =トータル!B160 -> NO SERVICE | F6: =トータル!C160&"" -> N/A | H6: =トータル!D160&"" -> 10/13-14 | J6: =トータル!F160&"" -> 10/08 | L6: =トータル!H160&"" -> 10/08 | N6: =トータル!I160&"" -> 10/16 | P6: =トータル!K160&"" -> CCL
A7: ▲ | B7: =トータル!B161&"" -> A ONTAKE | F7: =トータル!C161&"" -> 2642W | H7: =トータル!D161&"" -> 10/20-21 | J7: =トータル!F161&"" -> 10/16 | L7: =トータル!H161&"" -> 10/16 | N7: =トータル!I161&"" -> 10/23 | P7: =トータル!K161&"" -> CCL | S7: 【推奨】
A8: ▲ | B8: =トータル!B162&"" -> MILD TEMPO | F8: =トータル!C162&"" -> 2643W | H8: =トータル!D162&"" -> 10/27-28 | J8: =トータル!F162&"" -> 10/23 | L8: =トータル!H162&"" -> 10/23 | N8: =トータル!I162&"" -> 10/30 | P8: =トータル!K162&"" -> CCL | S8: ONLINE BOOKINGをご活用ください。
A9: ●▲ | B9: =トータル!B163&"" -> A ONTAKE | F9: =トータル!C163&"" -> 2644W | H9: =トータル!D163&"" -> 11/03-04 | J9: =トータル!F163&"" -> 10/30 | L9: =トータル!H163&"" -> 10/30 | N9: =トータル!I163&"" -> 11/06 | P9: =トータル!K163&"" -> CCL | S9: ※BOOKING №を即時 発番可能です。
A10: ▲ | B10: =トータル!B164&"" -> MILD TEMPO | F10: =トータル!C164&"" -> 2645W | H10: =トータル!D164&"" -> 11/10-11 | J10: =トータル!F164&"" -> 11/06 | L10: =トータル!H164&"" -> 11/06 | N10: =トータル!I164&"" -> 11/13 | P10: =トータル!K164&"" -> CCL
A11: ▲ | B11: =トータル!B165&"" -> A ONTAKE | F11: =トータル!C165&"" -> 2646W | H11: =トータル!D165&"" -> 11/17-18 | J11: =トータル!F165&"" -> 11/13 | L11: =トータル!H165&"" -> 11/13 | N11: =トータル!I165&"" -> 11/20 | P11: =トータル!K165&"" -> CCL | S11: 【留意点のご説明】－－－－－－－－－－－－－－－－－－－－－－－－－
A12: ●▲ | B12: =トータル!B166 -> MILD TEMPO | F12: =トータル!C166 -> 2647W | H12: =トータル!D166&"" -> 11/24-25 | J12: =トータル!F166&"" -> 11/19 | L12: =トータル!H166&"" -> 11/19 | N12: =トータル!I166&"" -> 11/27 | P12: =トータル!K166&"" -> CCL | S12: ● 祝日の為、CUT日が変更（前倒し）されております。ご注意ください
B13: =トータル!B167 -> A ONTAKE | F13: =トータル!C167 -> 2648W | H13: =トータル!D167 -> 12/01-02 | J13: =トータル!F167 -> 11/27 | L13: =トータル!H167 -> 11/27 | N13: =トータル!I167 -> 12/04 | P13: =トータル!K167&"" -> CCL | S13: ▲ 本船名、VOY NO.等が変更されております。ご注意ください。
B14: =トータル!B168 -> 0 | F14: =トータル!C168 -> 0 | H14: =トータル!D168 -> 12/08-09 | J14: =トータル!F168 -> 12/04 | L14: =トータル!H168 -> 12/04 | N14: =トータル!I168 -> 12/11 | P14: =トータル!K168 -> CCL | S14: × 該当本船は、NO SERVICEとなります。
A15: ※搬入先が宇徳CFSへ変更となりました。
A16: 東 京 貨 物 搬 入 先 【予約制度】 | O16: 横 浜 貨 物 搬 入 先 【予約制度】
A17: 株式会社宇徳 東京フレートセンター 気付 オーシャンリンクス 東京都品川区八潮2‐8‐1 TEL 03-3790-1241/FAX 03-3790-0803 保税名称 : UTOC TFC H /W NACCS : 1FWC7 DOC送付先 ①搬入倉庫送信先 tyo_exp_document@utoc.co.jp ②B/L作成部署送付先 docs-tokyo@oceanlinks.co.jp ACL 船会社 コード：OCL1（オーシーエルイチ） ACL 通知先コード：4AOCL(ヨンエーオーシーエル） ACL 通知先コード：1CUTK(イチシーユーティーケー） 搬入予約・搬入確認の方法については下記URLよりご確認ください。 | O17: 株式会社宇徳 本牧A-6CFS 気付 オーシャンリンクス 神奈川県横浜市中区本牧埠頭 9-1 TEL 045-264-7011/FAX 045-264-8036 保税名称 : 株式会社宇徳 本牧埠頭 A-6CFS 保税蔵置場 NACCS: 2EWT8 DOC送付先 ①搬入倉庫送信先 yok_exp_document@utoc.co.jp ②B/L作成部署送付先 docs-tokyo@oceanlinks.co.jp ACL 船会社 コード：OCL1（オーシーエルイチ） ACL 通知先コード：4AOCL(ヨンエーオーシーエル） ACL 通知先コード：2RUTK(ニアールユーティーケー） 搬入予約・搬入確認の方法については下記URLよりご確認ください。
A26: https://www.utoc.co.jp/business/logistics/warehouse/tfc/ | O26: https://www.utoc.co.jp/business/logistics/warehouse/cfs/
A28: 大阪本社 TEL (06) 6263-5923 / FAX (06) 6263-6104
A29: 東京支店 TEL (03) 5543-2361 / FAX (03) 5543-2363
A30: 横浜営業所 TEL (045) 323-9875 / FAX (045) 323-9876

Sheet 22.NIB
A1: OCEAN LINKS SAILING-SCHEDULE >>> 関東積み
Y2: 最終更新日： | Z2: =TODAY() -> 46303
A3: 22.中国 寧波 （ NINGBO ） LCL | J3: 遅延・抜港・港湾地区での混乱等により、予定通り運航できない場合がございます。ご迷惑をおかけしますがご理解の程よろしくお願い致します。
A4: 留意点 | B4: VESSEL | F4: VOY.NO. | H4: YOK ETD | J4: YOK CUT | L4: TYO CUT | N4: NIB ETA | P4: CARRIER | S4: 【重要】
A5: ▲ | B5: =トータル!B201 -> SITC RUNDE | F5: =トータル!C201 -> 2622S | H5: =トータル!D201&"" -> 10/11-11 | J5: =トータル!F201&"" -> 10/07 | L5: =トータル!H201&"" -> 10/07 | N5: =トータル!I201&"" -> 10/16 | P5: =トータル!K201&"" -> SITC | S5: BOOKINGご用命時､必ずご一読ください｡
A6: ▲ | B6: =トータル!B202 -> SITC GUANGDONG | F6: =トータル!C202 -> 2622S | H6: =トータル!D202&"" -> 10/18-18 | J6: =トータル!F202&"" -> 10/14 | L6: =トータル!H202&"" -> 10/14 | N6: =トータル!I202&"" -> 10/23 | P6: =トータル!K202&"" -> SITC
A7: =トータル!A203&"" | B7: =トータル!B203 -> SITC RUNDE | F7: =トータル!C203 -> 2624S | H7: =トータル!D203&"" -> 10/25-25 | J7: =トータル!F203&"" -> 10/21 | L7: =トータル!H203&"" -> 10/21 | N7: =トータル!I203&"" -> 10/30 | P7: =トータル!K203&"" -> SITC | S7: 【推奨】
A8: =トータル!A204&"" | B8: =トータル!B204 -> SITC MINGDE | F8: =トータル!C204 -> 2622S | H8: =トータル!D204&"" -> 11/01-01 | J8: =トータル!F204&"" -> 10/28 | L8: =トータル!H204&"" -> 10/28 | N8: =トータル!I204&"" -> 11/06 | P8: =トータル!K204&"" -> SITC | S8: ONLINE BOOKINGをご活用ください。
A9: =トータル!A205&"" | B9: =トータル!B205&"" -> SUNRISE DRAGON | F9: =トータル!C205&"" -> 2626S | H9: =トータル!D205&"" -> 11/08-08 | J9: =トータル!F205&"" -> 11/04 | L9: =トータル!H205&"" -> 11/04 | N9: =トータル!I205&"" -> 11/13 | P9: =トータル!K205&"" -> SITC
B10: =トータル!B206 -> J VESSEL | F10: =トータル!C206 -> J | H10: =トータル!D206&"" -> 11/15-15 | J10: =トータル!F206&"" -> 11/11 | L10: =トータル!H206&"" -> 11/11 | N10: =トータル!I206&"" -> 11/20 | P10: =トータル!K206&"" -> SITC | S10: 【留意点のご説明】－－－－－－－－－－－－－－－－－－－－－－
A11: =トータル!A207&"" | B11: =トータル!B207 -> K VESSEL | F11: =トータル!C207 -> K | H11: =トータル!D207&"" -> 11/22-22 | J11: =トータル!F207&"" -> 11/18 | L11: =トータル!H207&"" -> 11/18 | N11: =トータル!I207&"" -> 11/27 | P11: =トータル!K207&"" -> SITC | S11: ● 祝日の為、CUT日が変更（前倒し）されております。ご注意ください
B12: =トータル!B208 -> L VESSEL | F12: =トータル!C208 -> L | H12: =トータル!D208&"" -> 11/29-29 | J12: =トータル!F208&"" -> 11/25 | L12: =トータル!H208&"" -> 11/25 | N12: =トータル!I208&"" -> 12/04 | P12: =トータル!K208&"" -> SITC | S12: × 該当本船は、NO SERVICEとなります。
A13: =トータル!A209&"" | B13: =トータル!B209 -> 0 | F13: =トータル!C209 -> 0 | H13: =トータル!D209&"" -> 12/06-06 | J13: =トータル!F209&"" -> 12/02 | L13: =トータル!H209&"" -> 12/02 | N13: =トータル!I209&"" -> 12/11 | P13: =トータル!K209&"" -> SITC | S13: ▲ 本船名、VOY NO.等が変更されております。ご注意ください。
A14: =トータル!A210&"" | B14: =トータル!B210 -> 0 | F14: =トータル!C210 -> 0 | H14: =トータル!D210&"" -> 12/13-13 | J14: =トータル!F210&"" -> 12/09 | L14: =トータル!H210&"" -> 12/09 | N14: =トータル!I210&"" -> 12/18 | P14: =トータル!K210&"" -> SITC
A17: 東 京 貨 物 搬 入 先 | P17: 横 浜 貨 物 搬 入 先
A18: 東 海運株式会社 東京支店 東京都大田区東海４-８-１5 TEL : 03-3790-5166 FAX : 03-3790-5167 保税名称：東海運 大井 R/C H/W NACCS:1FW02 ↓↓DOCはこちらへもご送付お願いします↓↓ 弊社B/L作成部署： docs-tokyo@oceanlinks.co.jp | P18: 東 海運株式会社 京浜事業部 物流部 横浜港物流センター 住所：神奈川県横浜市中区本牧ふ頭 9-78 TEL:045-628-2050 FAX: 045-628-2051 NACCS: 2EWU3 搬入受付時間：８：３０-16:15 ↓↓DOCはこちらへもご送付お願いします↓↓ 弊社B/L作成部署： docs-tokyo@oceanlinks.co.jp
A27: 大阪本社 TEL (06) 6263-5923 / FAX (06) 6263-6104
A28: 東京支店 TEL (03) 5543-2361 / FAX (03) 5543-2363
A29: 横浜営業所 TEL (045) 323-9875 / FAX (045) 323-9876

Sheet 23.XIA
A1: OCEAN LINKS SAILING-SCHEDULE >>> 関東積み
Y2: 最終更新日： | Z2: =TODAY() -> 46303
A3: 23.中国 厦門 （ XIAMEN ） LCL | J3: 遅延・抜港・港湾地区での混乱等により、予定通り運航できない場合がございます。ご迷惑をおかけしますがご理解の程よろしくお願い致します。
A4: 留意点 | B4: VESSEL | F4: VOY.NO. | H4: YOK ETD | J4: YOK CUT | L4: TYO CUT | N4: XIA ETA | P4: CAREER | S4: 【重要】
B5: =トータル!B214 -> SUNRISE DRAGON | F5: =トータル!C214 -> 2624S | H5: =トータル!D214&"" -> 10/11-11 | J5: =トータル!F214&"" -> 10/06 | L5: =トータル!H214&"" -> 10/06 | N5: =トータル!I214&"" -> 10/19 | P5: =トータル!K214&"" -> SITC | S5: BOOKINGご用命時､必ずご一読ください｡
A6: ▲ | B6: =トータル!B215 -> SITC XIN | F6: =トータル!C215 -> 2624S | H6: =トータル!D215&"" -> 10/18-18 | J6: =トータル!F215&"" -> 10/13 | L6: =トータル!H215&"" -> 10/13 | N6: =トータル!I215&"" -> 10/26 | P6: =トータル!K215&"" -> SITC
B7: =トータル!B216 -> SITC RUNDE | F7: =トータル!C216 -> 2624S | H7: =トータル!D216&"" -> 10/25-25 | J7: =トータル!F216&"" -> 10/20 | L7: =トータル!H216&"" -> 10/20 | N7: =トータル!I216&"" -> 11/02 | P7: =トータル!K216&"" -> SITC | S7: 【推奨】
B8: =トータル!B217 -> SITC MINGDE | F8: =トータル!C217 -> 2622S | H8: =トータル!D217&"" -> 11/01-01 | J8: =トータル!F217&"" -> 10/27 | L8: =トータル!H217&"" -> 10/27 | N8: =トータル!I217&"" -> 11/09 | P8: =トータル!K217&"" -> SITC | S8: ONLINE BOOKINGをご活用ください。
A9: ● | B9: =トータル!B218&"" -> SUNRISE DRAGON | F9: =トータル!C218&"" -> 2626S | H9: =トータル!D218&"" -> 11/08-08 | J9: =トータル!F218&"" -> 11/02 | L9: =トータル!H218&"" -> 11/02 | N9: =トータル!I218&"" -> 11/16 | P9: =トータル!K218&"" -> SITC | S9: ※BOOKING №を即時 発番可能です。
B10: =トータル!B219 -> C VESSEL | F10: =トータル!C219 -> C | H10: =トータル!D219&"" -> 11/15-15 | J10: =トータル!F219&"" -> 11/10 | L10: =トータル!H219&"" -> 11/10 | N10: =トータル!I219&"" -> 11/23 | P10: =トータル!K219&"" -> SITC
B11: =トータル!B220 -> D VESSEL | F11: =トータル!C220 -> D | H11: =トータル!D220&"" -> 11/22-22 | J11: =トータル!F220 -> 11/17 | L11: =トータル!H220 -> 11/17 | N11: =トータル!I220&"" -> 11/30 | P11: =トータル!K220&"" -> SITC | S11: 【留意点のご説明】－－－－－－－－－－－－－－－－－－－－－－
B12: =トータル!B221 -> E VESSEL | F12: =トータル!C221 -> E | H12: =トータル!D221&"" -> 11/29-29 | J12: =トータル!F221&"" -> 11/24 | L12: =トータル!H221&"" -> 11/24 | N12: =トータル!I221&"" -> 12/07 | P12: =トータル!K221&"" -> SITC | S12: ● 祝日の為、CUT日が変更（前倒し）されております。ご注意ください
B13: =トータル!B222 -> 0 | F13: =トータル!C222 -> 0 | H13: =トータル!D222&"" -> 12/06-06 | J13: =トータル!F222&"" -> 12/01 | L13: =トータル!H222&"" -> 12/01 | N13: =トータル!I222&"" -> 12/14 | P13: =トータル!K222&"" -> SITC | S13: × 該当本船は、NO SERVICEとなります。
B14: =トータル!B223 -> 0 | F14: =トータル!C223 -> 0 | H14: =トータル!D223 -> 12/13-13 | J14: =トータル!F223 -> 12/08 | L14: =トータル!H223 -> 12/08 | N14: =トータル!I223 -> 12/21 | P14: =トータル!K223 -> SITC | S14: ▲ 本船名、VOY NO.等が変更されております。ご注意ください。
A17: 東 京 貨 物 搬 入 先 | P17: 横 浜 貨 物 搬 入 先
A18: 東 海運株式会社 東京支店 住所：東京都大田区東海４-８-１５ TEL : 03-3790-5166 FAX : 03-3790-5167 保税名称：東海運 大井 R/C H/W NACCS:1FW02 ↓↓DOCはこちらへもご送付お願いします↓↓ 弊社B/L作成部署： docs-tokyo@oceanlinks.co.jp | P18: 東 海運株式会社 京浜事業部 物流部 横浜港物流センター 住所：神奈川県横浜市中区本牧ふ頭 9-78 TEL:045-628-2050 FAX: 045-628-2051 NACCS: 2EWU3 搬入受付時間：８：３０-16:15 ↓↓DOCはこちらへもご送付お願いします↓↓ 弊社B/L作成部署： docs-tokyo@oceanlinks.co.jp
A23: 大阪本社 TEL (06) 6263-5923 / FAX (06) 6263-6104
A24: 東京支店 TEL (03) 5543-2361 / FAX (03) 5543-2363
A25: 横浜営業所 TEL (045) 323-9875 / FAX (045) 323-9876
