Workbook

Sheet 目次
A1: OCEAN LINKS SAILING-SCHEDULE >>> 関西積み
B3: KOBE/OSAKA発│輸出LCL
B5: 1.香港 （ HONＧ KONG ）
B7: 2.シンガポール （ SINGAPORE ）
B9: 3.マレーシア ポートケラン （ PORT KELANG ）
B11: 4.ドバイ （ DUBAI, JEBEL ALI ）
B13: 5.韓国 釜山 （ PUSAN ）
B15: 6.韓国 仁川 （ INCHEON ）
B17: 7.台湾 基隆 （ KEELUNG ）
B19: 8.台湾 台中 （ TAICHUNG ）
B21: 9.台湾 高雄 （ KAOHSIUNG ）
B23: 10.中国 上海 （ SHANGHAI ）
B25: 11.中国 青島 （ QINGDAO ）
... B47: 22.フィリピン マニラ （ MANILA NORTH ）

Sheet 担当
A2: OCEAN LINKS
C6: KAWAMOTO | D6: MORITA | F6: SUZUKI | G6: IWAKUMA
A7: ASIA GROUP | B7: A: 良い / Tốt
B8: B: 普通 / Bình thường
B9: C: 悪い / Xấu
B10: D: 何もしていない
B11: Không làm gì cả | C11: Nguyễn Hà | D11: HAI NGUYEN | E11: TAM TM ASIA | F11: Thuy ASIA | G11: ASIA HUYEN PHUONG
A12: 担当航路 | B12: Tuyến đường phụ trách | C12: PUS, SHA | D12: HKG, PKG, | E12: INH, NIB, | F12: SIN, JBA, | G12: KLG, TCG,
D13: TAO, DLC, XIN | E13: XIA, HCH, HPH | F13: LAT, JKT, MNL | G13: KHH, BKK, LCB
A14: 学習意欲の高さ | B14: Động lực học tập cao | C14: C. | D14: C. | E14: C. | F14: D. | G14: C.
A15: レスポンスの早さ | B15: Phản hồi nhanh | C15: B. 返信早いが更新遅い | D15: C. | E15: B. | F15: D. | G15: C.
A16: ミスの少なさ | B16: Ít sai sót | C16: B. | D16: B. | E16: C. | F16: D. | G16: C.
A17: 知識の豊富さ | B17: Kiến thức phong phú | C17: B. | D17: C. | E17: C. | F17: D. | G17: C.

Sheet トータル
A1: VESSEL | B1: VOY.NO. | C1: 出港日 | D1: 積地・CUT (3CODE) | E1: 積地・CUT日 | F1: CUT2 (3CODE) | G1: CUT2日 | H1: 着日 | I1: 仕向地 | J1: 備考
A2: EMMANUEL P | B2: 014S | C2: 09/30-10/02 | D2: UKB | E2: 09/28 | F2: OSA | G2: 09/28 | H2: 10/06 | I2: HKG | J2: ONE
A3: WAN HAI 356 | B3: S045 | C3: 10/08-08 | D3: UKB | E3: 10/05 | H3: 10/12 | I3: HKG | J3: IAL
A4: NO SERVICE | B4: --- | C4: 10/07-09 | D4: UKB | E4: 10/05 | F4: OSA | G4: 10/05 | H4: 10/13 | I4: HKG | J4: ONE
A5: WAN HAI 335 | B5: S018 | C5: 10/11-11 | D5: UKB | E5: 10/08 | H5: 10/15 | I5: HKG | J5: IAL | K5: DOYOUBI
A6: NAVIOS VERDE | B6: 188S | C6: 10/14-16 | D6: UKB | E6: 10/09 | F6: OSA | G6: 10/09 | H6: 10/20 | I6: HKG | J6: ONE | K6: 1週間後
A7: WAN HAI 357 | B7: S040 | C7: 10/18-18 | D7: UKB | E7: 10/15 | H7: 10/22 | I7: HKG | J7: IAL | K7: 230410
A8: NAVIOS CHRYSALIS | B8: 018S | C8: 10/21-23 | D8: UKB | E8: 10/19 | F8: OSA | G8: 10/19 | H8: 10/27 | I8: HKG | J8: ONE
A9: INTERASIA TRANSFORM | B9: S026 | C9: 10/25-25 | D9: UKB | E9: 10/22 | H9: 10/29 | I9: HKG | J9: IAL
A10: ATHENS BRIDGE | B10: 1190S | C10: 10/28-30 | D10: UKB | E10: 10/26 | F10: OSA | G10: 10/26 | H10: 11/03 | I10: HKG | J10: ONE
A11: WAN HAI 356 | B11: S046 | C11: 11/01-01 | D11: UKB | E11: 10/29 | H11: 11/05 | I11: HKG | J11: IAL
A12: EMMANUEL P | B12: 015S | C12: 11/04-06 | D12: UKB | E12: 10/30 | F12: OSA | G12: 10/30 | H12: 11/10 | I12: HKG | J12: ONE
A13: WAN HAI 335 | B13: S019 | C13: 11/08-08 | D13: UKB | E13: 11/05 | H13: 11/12 | I13: HKG | J13: IAL
A14: NAVIOS VERDE | B14: 019S | C14: 11/11-13 | D14: UKB | E14: 11/09 | F14: OSA | G14: 11/09 | H14: 11/17 | I14: HKG | J14: ONE
A15: WAN HAI 357 | B15: S041 | C15: 11/15-15 | D15: UKB | E15: 11/12 | H15: 11/19 | I15: HKG | J15: IAL | K15: CUT重複？⇒確認
A16: NAVIOS CHRYSALIS | B16: 189S | C16: 11/18-20 | D16: UKB | E16: 11/16 | F16: OSA | G16: 11/16 | H16: 11/24 | I16: HKG | J16: ONE
C17: 11/22-22 | D17: UKB | E17: 11/19 | H17: 11/26 | I17: HKG | J17: IAL
A18: ATHENS BRIDGE | B18: 1191S | C18: 11/25-27 | D18: UKB | E18: 11/20 | F18: OSA | G18: 11/20 | H18: 12/01 | I18: HKG | J18: ONE
C19: 11/29-29 | D19: UKB | E19: 11/26 | H19: 12/03 | I19: HKG | J19: IAL | K19: CUT重複？⇒確認
A20: EMMANUEL P | B20: 016S | C20: 12/02-04 | D20: UKB | E20: 11/30 | F20: OSA | G20: 11/30 | H20: 12/08 | I20: HKG | J20: ONE
C21: 12/06-06 | D21: UKB | E21: 12/03 | H21: 12/10 | I21: HKG | J21: IAL
C22: 12/09-11 | D22: UKB | E22: 12/07 | F22: OSA | G22: 12/07 | H22: 12/15 | I22: HKG | J22: ONE
C23: 12/13-13 | D23: UKB | E23: 12/10 | H23: 12/17 | I23: HKG | J23: IAL
C24: 12/16-18 | D24: UKB | E24: 12/14 | F24: OSA | G24: 12/14 | H24: 12/22 | I24: HKG | J24: ONE
D26: 3日前 | E26: (木) | H26: 4日後
C27: --- | E27: ---
A28: WAN HAI 356 | B28: S045 | C28: 10/07-08 | D28: OSA | E28: 10/05 | H28: 10/12 | I28: HKG | J28: IAL
C29: --- | E29: ---
A30: WAN HAI 335 | B30: S018 | C30: 10/10-11 | D30: OSA | E30: 10/08 | H30: 10/15 | I30: HKG | J30: IAL
C31: --- | E31: ---
A32: WAN HAI 357 | B32: S040 | C32: 10/17-18 | D32: OSA | E32: 10/15 | H32: 10/22 | I32: HKG | J32: IAL
C33: --- | E33: --- | K33: 木
A34: INTERASIA TRANSFORM | B34: S026 | C34: 10/24-25 | D34: OSA | E34: 10/22 | H34: 10/29 | I34: HKG | J34: IAL
C35: --- | E35: ---
A36: WAN HAI 356 | B36: S046 | C36: 10/31-01 | D36: OSA | E36: 10/29 | H36: 11/05 | I36: HKG | J36: IAL
C37: --- | E37: ---
A38: WAN HAI 335 | B38: S019 | C38: 11/07-08 | D38: OSA | E38: 11/05 | H38: 11/12 | I38: HKG | J38: IAL
C39: --- | E39: ---
A40: WAN HAI 357 | B40: S041 | C40: 11/14-15 | D40: OSA | E40: 11/12 | H40: 11/19 | I40: HKG | J40: IAL
C41: --- | E41: ---
C42: 11/21-22 | D42: OSA | E42: 11/19 | H42: 11/26 | I42: HKG | J42: IAL
C43: --- | E43: ---
C44: 11/28-29 | D44: OSA | E44: 11/26 | H44: 12/03 | I44: HKG | J44: IAL
C45: --- | E45: ---
C46: 12/05-06 | D46: OSA | E46: 12/03 | H46: 12/10 | I46: HKG | J46: IAL
A48: ALS VESTA | B48: 057S | C48: 10/17-18 | D48: UKB | E48: 10/15 | F48: OSA | G48: 10/14 | H48: 10/29 | I48: SIN | J48: OOCL | K48: JID
A49: NAVIOS CHRYSALIS | B49: 018S | C49: 10/21-23 | D49: UKB | E49: 10/19 | F49: OSA | G49: 10/16 | H49: 11/03 | I49: SIN | J49: ONE | K49: JPX
A50: CAPE FORTIUS | B50: 169S | C50: 10/24-25 | D50: UKB | E50: 10/22 | F50: OSA | G50: 10/21 | H50: 11/05 | I50: SIN | J50: OOCL | K50: JID
A51: ATHENS BRIDGE | B51: 1190S | C51: 10/28-30 | D51: UKB | E51: 10/26 | F51: OSA | G51: 10/23 | H51: 11/10 | I51: SIN | J51: ONE | K51: JPX
A52: GSL MAREN | B52: 035S | C52: 10/31-11/01 | D52: UKB | E52: 10/29 | F52: OSA | G52: 10/28 | H52: 11/12 | I52: SIN | J52: OOCL | K52: JID
A53: EMMANUEL P | B53: 015S | C53: 11/04-06 | D53: UKB | E53: 10/30 | F53: OSA | G53: 10/29 | H53: 11/17 | I53: SIN | J53: ONE | K53: JPX
A54: ALS VENUS | B54: 096S | C54: 11/07-08 | D54: UKB | E54: 11/05 | F54: OSA | G54: 11/04 | H54: 11/19 | I54: SIN | J54: OOCL | K54: JID
A55: NAVIOS VERDE | B55: 019S | C55: 11/11-13 | D55: UKB | E55: 11/09 | F55: OSA | G55: 11/06 | H55: 11/24 | I55: SIN | J55: ONE | K55: JPX
A56: ALS VESTA | B56: 058S | C56: 11/14-15 | D56: UKB | E56: 11/12 | F56: OSA | G56: 11/11 | H56: 11/26 | I56: SIN | J56: OOCL | K56: JID
A57: NAVIOS CHRYSALIS | B57: 189S | C57: 11/18-20 | D57: UKB | E57: 11/16 | F57: OSA | G57: 11/13 | H57: 12/01 | I57: SIN | J57: ONE | K57: JPX
A58: CAPE FORTIUS | B58: 170S | C58: 11/21-22 | D58: UKB | E58: 11/19 | F58: OSA | G58: 11/18 | H58: 12/03 | I58: SIN | J58: OOCL | K58: JID
A59: ATHENS BRIDGE | B59: 1191S | C59: 11/25-27 | D59: UKB | E59: 11/20 | F59: OSA | G59: 11/19 | H59: 12/08 | I59: SIN | J59: ONE | K59: JPX
... A61: EMMANUEL P | B61: 016S | C61: 12/02-04 | D61: UKB | E61: 11/30 | F61: OSA | G61: 11/27 | H61: 12/15 | I61: SIN | J61: ONE | K61: JPX
C62: 12/05-06 | D62: UKB | E62: 12/03 | F62: OSA | G62: 12/02 | H62: 12/17 | I62: SIN | J62: OOCL | K62: JID
C63: 12/09-11 | D63: UKB | E63: 12/07 | F63: OSA | G63: 12/04 | H63: 12/22 | I63: SIN | J63: ONE | K63: JPX
C64: 12/12-13 | D64: UKB | E64: 12/10 | F64: OSA | G64: 12/09 | H64: 12/24 | I64: SIN | J64: OOCL | K64: JID
C65: 12/16-18 | D65: UKB | E65: 12/14 | F65: OSA | G65: 12/11 | H65: 12/29 | I65: SIN | J65: ONE | K65: JPX
K66: JID
I67: SIN | J67: ONE | K67: JPX
A72: WAN HAI 356 | B72: S045 | C72: 10/08-08 | D72: UKB | E72: 10/05 | F72: OSA | G72: 10/02 | H72: 10/18 | I72: PKG
A73: WAN HAI 335 | B73: S018 | C73: 10/11-11 | D73: UKB | E73: 10/08 | F73: OSA | G73: 10/07 | H73: 10/21 | I73: PKG
A74: WAN HAI 357 | B74: S040 | C74: 10/18-18 | D74: UKB | E74: 10/15 | F74: OSA | G74: 10/14 | H74: 10/28 | I74: PKG
A75: INTERASIA TRANSFORM | B75: S026 | C75: 10/25-25 | D75: UKB | E75: 10/22 | F75: OSA | G75: 10/21 | H75: 11/04 | I75: PKG
A76: WAN HAI 356 | B76: S046 | C76: 11/01-01 | D76: UKB | E76: 10/29 | F76: OSA | G76: 10/28 | H76: 11/11 | I76: PKG
A77: WAN HAI 335 | B77: S019 | C77: 11/08-08 | D77: UKB | E77: 11/05 | F77: OSA | G77: 11/04 | H77: 11/18 | I77: PKG
A78: WAN HAI 357 | B78: S041 | C78: 11/15-15 | D78: UKB | E78: 11/12 | F78: OSA | G78: 11/11 | H78: 11/25 | I78: PKG
A79: INTERASIA TRANSFORM | B79: S027 | C79: 11/22-22 | D79: UKB | E79: 11/19 | F79: OSA | G79: 11/18 | H79: 12/02 | I79: PKG
A80: WAN HAI 356 | B80: S047 | C80: 11/29-29 | D80: UKB | E80: 11/26 | F80: OSA | G80: 11/25 | H80: 12/09 | I80: PKG
A81: WAN HAI 335 | B81: S020 | C81: 12/06-06 | D81: UKB | E81: 12/03 | F81: OSA | G81: 12/02 | H81: 12/16 | I81: PKG
C82: 12/13-13 | D82: UKB | E82: 12/10 | F82: OSA | G82: 12/09 | H82: 12/23 | I82: PKG
C83: 12/20-20 | D83: UKB | E83: 12/17 | F83: OSA | G83: 12/16 | H83: 12/30 | I83: PKG
C84: 12/27-27 | D84: UKB | E84: 12/24 | F84: OSA | G84: 12/23 | H84: 01/06 | I84: PKG
I85: PKG
I86: PKG
C87: (水) | D87: 2日前 | E87: (月) | F87: 3日前 | G87: (金) | H87: 19日後
A88: NAVIOS CHRYSALIS | B88: 018S | C88: 10/21-23 | D88: UKB | E88: 10/19 | F88: YOK | G88: 10/14 | H88: 11/21 | I88: JBA
A89: ATHENS BRIDGE | B89: 1190S | C89: 10/28-30 | D89: UKB | E89: 10/26 | F89: YOK | G89: 10/21 | H89: 11/24 | I89: JBA
A90: HARRIER | B90: 2645S | C90: 11/06-06 | D90: UKB | E90: 11/04 | F90: YOK | G90: 10/29 | H90: 12/30 | I90: JBA
A91: JJ SUN | B91: 2646S | C91: 11/13-13 | D91: UKB | E91: 11/11 | F91: YOK | G91: 11/06 | H91: 12/30 | I91: JBA
A92: GLORY SHANGHAI | B92: 2647S | C92: 11/20-20 | D92: UKB | E92: 11/18 | F92: YOK | G92: 11/13 | H92: 12/30 | I92: JBA
A93: HARRIER | B93: 2648S | C93: 11/27-27 | D93: UKB | E93: 11/25 | F93: YOK | G93: 11/19 | H93: 12/30 | I93: JBA
I94: JBA
I95: JBA
A97: EMMANUEL P | B97: 015S | C97: 10/28-30 | D97: UKB | E97: 10/26 | F97: YOK | G97: 10/21 | H97: 11/30 | I97: JED
A98: ATHENS BRIDGE | B98: 1191S | C98: 11/25-27 | D98: UKB | E98: 11/20 | F98: YOK | G98: 11/17 | H98: 01/08 | I98: JED
I99: JED
I100: JED
I101: JED
I102: JED
A104: HONOR OCEAN | B104: 2615W | C104: 10/14-14 | D104: UKB | E104: 10/09 | F104: OSA | G104: 10/09 | H104: 10/17 | I104: PUS
A105: HONOR GLORY | B105: 2647W | C105: 10/16-16 | D105: UKB | E105: 10/14 | F105: OSA | G105: 10/14 | H105: 10/19 | I105: PUS
A106: HONOR OCEAN | B106: 2616W | C106: 10/19-19 | D106: UKB | E106: 10/15 | F106: OSA | G106: 10/15 | H106: 10/21 | I106: PUS
A107: HONOR GLORY | B107: 2648W | C107: 10/21-21 | D107: UKB | E107: 10/19 | F107: OSA | G107: 10/19 | H107: 10/24 | I107: PUS
A108: HONOR OCEAN | B108: 2617W | C108: 10/23-23 | D108: UKB | E108: 10/21 | F108: OSA | G108: 10/21 | H108: 10/26 | I108: PUS | Q108: ★色参考
A109: HONOR GLORY | B109: 2649W | C109: 10/26-26 | D109: UKB | E109: 10/22 | F109: OSA | G109: 10/22 | H109: 10/28 | I109: PUS | Q109: 祝日 : ●祝日の為、CUT日が変更となります。
...

Sheet 1.HKG
A1: OCEAN LINKS SAILING-SCHEDULE >>> 関西積み
AB2: =TODAY() -> 46304
A3: 1.香港 （ HONＧ KONG ） LCL
A4: 留意点 | B4: VESSEL | F4: VOY.NO. | I4: KOBE ETD | L4: KOBE CUT | O4: OSAKA ETD | R4: OSAKA CUT | U4: HKG ETA | X4: CARRIER | AB4: 【重要】 BOOKINGご用命時､必ずご一読ください｡
A5: ● | B5: =トータル!A2 -> EMMANUEL P | F5: =トータル!B2 -> 014S | I5: =トータル!C2 -> 09/30-10/02 | L5: =トータル!E2 -> 09/28 | O5: =トータル!C27 -> --- | R5: =トータル!G2 -> 09/28 | U5: =トータル!H2 -> 10/06 | X5: ONE
A6: ● | B6: =トータル!A3 -> WAN HAI 356 | F6: =トータル!B3 -> S045 | I6: =トータル!C3 -> 10/08-08 | L6: =トータル!E3 -> 10/05 | O6: =トータル!C28 -> 10/07-08 | R6: =トータル!E28 -> 10/05 | U6: =トータル!H3 -> 10/12 | X6: IAL
A7: ● | B7: =トータル!A4 -> NO SERVICE | F7: =トータル!B4 -> --- | I7: =トータル!C4 -> 10/07-09 | L7: =トータル!E4 -> 10/05 | O7: =トータル!C29 -> --- | R7: =トータル!G4 -> 10/05 | U7: =トータル!H4 -> 10/13 | X7: ONE
A8: ● | B8: =トータル!A5 -> WAN HAI 335 | F8: =トータル!B5 -> S018 | I8: =トータル!C5 -> 10/11-11 | L8: =トータル!E5 -> 10/08 | O8: =トータル!C30 -> 10/10-11 | R8: =トータル!E30 -> 10/08 | U8: =トータル!H5 -> 10/15 | X8: IAL | AB8: 【推奨】 ONLINE BOOKINGをご活用ください。 ※BOOKING №を即時 発番可能です。
A9: ● | B9: =トータル!A6 -> NAVIOS VERDE | F9: =トータル!B6 -> 188S | I9: =トータル!C6 -> 10/14-16 | L9: =トータル!E6 -> 10/09 | O9: =トータル!C31 -> --- | R9: =トータル!G6 -> 10/09 | U9: =トータル!H6 -> 10/20 | X9: ONE
A10: ● | B10: =トータル!A7 -> WAN HAI 357 | F10: =トータル!B7 -> S040 | I10: =トータル!C7 -> 10/18-18 | L10: =トータル!E7 -> 10/15 | O10: =トータル!C32 -> 10/17-18 | R10: =L10 -> 10/15 | U10: =トータル!H7 -> 10/22 | X10: =トータル!J7 -> IAL
A11: ● | B11: =トータル!A8 -> NAVIOS CHRYSALIS | F11: =トータル!B8 -> 018S | I11: =トータル!C8 -> 10/21-23 | L11: =トータル!E8 -> 10/19 | O11: =トータル!C33 -> --- | R11: =トータル!E8 -> 10/19 | U11: =トータル!H8 -> 10/27 | X11: =トータル!J8 -> ONE
A12: ● | B12: =トータル!A9 -> INTERASIA TRANSFORM | F12: =トータル!B9 -> S026 | I12: =トータル!C9 -> 10/25-25 | L12: =トータル!E9 -> 10/22 | O12: =トータル!C34 -> 10/24-25 | R12: =L12 -> 10/22 | U12: =トータル!H9 -> 10/29 | X12: =トータル!J9 -> IAL
A13: ● | B13: =トータル!A10 -> ATHENS BRIDGE | F13: =トータル!B10 -> 1190S | I13: =トータル!C10 -> 10/28-30 | L13: =トータル!E10 -> 10/26 | O13: =トータル!C35 -> --- | R13: =トータル!E10 -> 10/26 | U13: =トータル!H10 -> 11/03 | X13: =トータル!J10 -> ONE
A14: ● | B14: =トータル!A11 -> WAN HAI 356 | F14: =トータル!B11 -> S046 | I14: =トータル!C11 -> 11/01-01 | L14: =トータル!E11 -> 10/29 | O14: =トータル!C36 -> 10/31-01 | R14: =L14 -> 10/29 | U14: =トータル!H11 -> 11/05 | X14: =トータル!J11 -> IAL | AB14: 【留意点のご説明】－－－－－－－－－－－－－－－－－－－－－－－－－ ● 祝日の為、CUT日が変更（前倒し）されております。ご注意ください。 ● 該当本船は、NO SERVICEとなります。 ● 本船名、VOY №等が変更されております。ご注意ください。
A15: ●● | B15: =トータル!A12 -> EMMANUEL P | F15: =トータル!B12 -> 015S | I15: =トータル!C12 -> 11/04-06 | L15: =トータル!E12 -> 10/30 | O15: =トータル!C37 -> --- | R15: =トータル!E12 -> 10/30 | U15: =トータル!H12 -> 11/10 | X15: =トータル!J12 -> ONE
B16: =トータル!A13 -> WAN HAI 335 | F16: =トータル!B13 -> S019 | I16: =トータル!C13 -> 11/08-08 | L16: =トータル!E13 -> 11/05 | O16: =トータル!C38 -> 11/07-08 | R16: =L16 -> 11/05 | U16: =トータル!H13 -> 11/12 | X16: =トータル!J13 -> IAL
B17: =トータル!A14 -> NAVIOS VERDE | F17: =トータル!B14 -> 019S | I17: =トータル!C14 -> 11/11-13 | L17: =トータル!E14 -> 11/09 | O17: =トータル!C39 -> --- | R17: =トータル!E14 -> 11/09 | U17: =トータル!H14 -> 11/17 | X17: =トータル!J14 -> ONE
B18: =トータル!A15 -> WAN HAI 357 | F18: =トータル!B15 -> S041 | I18: =トータル!C15 -> 11/15-15 | L18: =トータル!E15 -> 11/12 | O18: =トータル!C40 -> 11/14-15 | R18: =L18 -> 11/12 | U18: =トータル!H15 -> 11/19 | X18: =トータル!J15 -> IAL
B19: =トータル!A16 -> NAVIOS CHRYSALIS | F19: =トータル!B16 -> 189S | I19: =トータル!C16 -> 11/18-20 | L19: =トータル!E16 -> 11/16 | O19: =トータル!C41 -> --- | R19: =トータル!E16 -> 11/16 | U19: =トータル!H16 -> 11/24 | X19: =トータル!J16 -> ONE
B20: =トータル!A17 -> 0 | F20: =トータル!B17 -> 0 | I20: =トータル!C17 -> 11/22-22 | L20: =トータル!E17 -> 11/19 | O20: =トータル!C42 -> 11/21-22 | R20: =L20 -> 11/19 | U20: =トータル!H17 -> 11/26 | X20: =トータル!J17 -> IAL
B21: =トータル!A18 -> ATHENS BRIDGE | F21: =トータル!B18 -> 1191S | I21: =トータル!C18 -> 11/25-27 | L21: =トータル!E18 -> 11/20 | O21: =トータル!C43 -> --- | R21: =トータル!E18 -> 11/20 | U21: =トータル!H18 -> 12/01 | X21: =トータル!J18 -> ONE
A23: - 大 阪 貨 物 搬 入 先 - | T23: - 神 戸 貨 物 搬 入 先 -
A24: 丸山物流株式会社 Q-2営業所 〒559-0033 大阪市住之江区南港中6-7-35 TEL 06-6115-8811/FAX 06-6614-1655 ※『気付 オーシャンリンクス』ご記載要 NACCS NO 4IDD2 担当 山下様 DOCK送付先 ①搬入倉庫送信先 osu-q2@yosun.co.jp ②B/L作成部署送付先 docs@oceanlinks.co.jp ACL 船会社コード：OCL1（オーシーエルイチ） ACL 通知先コード：4AOCL(ヨンエーオーシーエル） ACL 通知先コード：4CMAR（ヨンシーエムエーアール） | T24: 上組神戸多目的物流センター（KMDC） 〒650-0045 神戸市中央区港島8-14 TEL078-306-3904/FAX 078-306-3922 ※『気付 オーシャンリンクス』ご記載要 NACCS NO 3FW50 担当 奥田様 DOCK送付先 ①搬入倉庫送信先 kmdc_cfs_exp@kamigumi.co.jp ②B/L作成部署送付先 docs@oceanlinks.co.jp ACL 船会社コード：OCL1（オーシーエルイチ） ACL 通知先コード：4AOCL(ヨンエーオーシーエル） ACL 通知先コード：3OKAM（サンオーケーエーエム）
A37: 大阪本社 TEL (06) 6263-5923 / FAX (06) 6263-6104
A38: 東京支店 TEL (03) 5543-2361 / FAX (03) 5543-2363
A39: 横浜営業所 TEL (045) 323-9875 / FAX (045) 323-9876

Sheet 2.SIN
A1: OCEAN LINKS SAILING-SCHEDULE >>> 関西積み
U2: =TODAY() -> 46304
A3: 2.シンガポール ( SINGAPORE ) LCL
A4: 留意点 | B4: VESSEL | F4: VOY.NO. | I4: KOBE ETD | K4: KOBE CUT | M4: OSAKA CUT | O4: SIN ETA | Q4: CARRIER | U4: 【重要】 BOOKINGご用命時､必ずご一読ください｡
A5: ● | B5: =トータル!A48 -> ALS VESTA | F5: =トータル!B48 -> 057S | I5: =トータル!C48 -> 10/17-18 | K5: =トータル!E48 -> 10/15 | M5: =トータル!G48 -> 10/14 | O5: =トータル!H48 -> 10/29 | Q5: =トータル!J48 -> OOCL
A6: ● | B6: =トータル!A49 -> NAVIOS CHRYSALIS | F6: =トータル!B49 -> 018S | I6: =トータル!C49 -> 10/21-23 | K6: =トータル!E49 -> 10/19 | M6: =トータル!G49 -> 10/16 | O6: =トータル!H49 -> 11/03 | Q6: =トータル!J49 -> ONE
A7: ● | B7: =トータル!A50 -> CAPE FORTIUS | F7: =トータル!B50 -> 169S | I7: =トータル!C50 -> 10/24-25 | K7: =トータル!E50 -> 10/22 | M7: =トータル!G50 -> 10/21 | O7: =トータル!H50 -> 11/05 | Q7: =トータル!J50 -> OOCL
A8: ● | B8: =トータル!A51 -> ATHENS BRIDGE | F8: =トータル!B51 -> 1190S | I8: =トータル!C51 -> 10/28-30 | K8: =トータル!E51 -> 10/26 | M8: =トータル!G51 -> 10/23 | O8: =トータル!H51 -> 11/10 | Q8: =トータル!J51 -> ONE
A9: ● | B9: =トータル!A52 -> GSL MAREN | F9: =トータル!B52 -> 035S | I9: =トータル!C52 -> 10/31-11/01 | K9: =トータル!E52 -> 10/29 | M9: =トータル!G52 -> 10/28 | O9: =トータル!H52 -> 11/12 | Q9: =トータル!J52 -> OOCL | U9: 【推奨】 ONLINE BOOKINGをご活用ください。 ※BOOKING №を即時 発番可能です。
A10: ●● | B10: =トータル!A53 -> EMMANUEL P | F10: =トータル!B53 -> 015S | I10: =トータル!C53 -> 11/04-06 | K10: =トータル!E53 -> 10/30 | M10: =トータル!G53 -> 10/29 | O10: =トータル!H53 -> 11/17 | Q10: =トータル!J53 -> ONE
A11: ● | B11: =トータル!A54 -> ALS VENUS | F11: =トータル!B54 -> 096S | I11: =トータル!C54 -> 11/07-08 | K11: =トータル!E54 -> 11/05 | M11: =トータル!G54 -> 11/04 | O11: =トータル!H54 -> 11/19 | Q11: =トータル!J54 -> OOCL
B12: =トータル!A55 -> NAVIOS VERDE | F12: =トータル!B55 -> 019S | I12: =トータル!C55 -> 11/11-13 | K12: =トータル!E55 -> 11/09 | M12: =トータル!G55 -> 11/06 | O12: =トータル!H55 -> 11/24 | Q12: =トータル!J55 -> ONE
A13: ● | B13: =トータル!A56 -> ALS VESTA | F13: =トータル!B56 -> 058S | I13: =トータル!C56 -> 11/14-15 | K13: =トータル!E56 -> 11/12 | M13: =トータル!G56 -> 11/11 | O13: =トータル!H56 -> 11/26 | Q13: =トータル!J56 -> OOCL
A14: ● | B14: =トータル!A57 -> NAVIOS CHRYSALIS | F14: =トータル!B57 -> 189S | I14: =トータル!C57 -> 11/18-20 | K14: =トータル!E57 -> 11/16 | M14: =トータル!G57 -> 11/13 | O14: =トータル!H57 -> 12/01 | Q14: =トータル!J57 -> ONE
A15: ● | B15: =トータル!A58 -> CAPE FORTIUS | F15: =トータル!B58 -> 170S | I15: =トータル!C58 -> 11/21-22 | K15: =トータル!E58 -> 11/19 | M15: =トータル!G58 -> 11/18 | O15: =トータル!H58 -> 12/03 | Q15: =トータル!J58 -> OOCL
A16: ● | B16: =トータル!A59 -> ATHENS BRIDGE | F16: =トータル!B59 -> 1191S | I16: =トータル!C59 -> 11/25-27 | K16: =トータル!E59 -> 11/20 | M16: =トータル!G59 -> 11/19 | O16: =トータル!H59 -> 12/08 | Q16: =トータル!J59 -> ONE
B17: =トータル!A60 -> GSL MAREN | F17: =トータル!B60 -> 036S | I17: =トータル!C60 -> 11/28-29 | K17: =トータル!E60 -> 11/26 | M17: =トータル!G60 -> 11/25 | O17: =トータル!H60 -> 12/10 | Q17: =トータル!J60 -> OOCL | U17: 【留意点のご説明】－－－－－－－－－－－－－－－－－－－－－－－ ● 祝日の為、CUT日が変更（前倒し）されております。ご注意ください。 ● 該当本船は、NO SERVICEとなります。 ● 本船名、VOY №等が変更されております。ご注意ください。
B18: =トータル!A61 -> EMMANUEL P | F18: =トータル!B61 -> 016S | I18: =トータル!C61 -> 12/02-04 | K18: =トータル!E61 -> 11/30 | M18: =トータル!G61 -> 11/27 | O18: =トータル!H61 -> 12/15 | Q18: =トータル!J61 -> ONE
B19: =トータル!A62 -> 0 | F19: =トータル!B62 -> 0 | I19: =トータル!C62 -> 12/05-06 | K19: =トータル!E62 -> 12/03 | M19: =トータル!G62 -> 12/02 | O19: =トータル!H62 -> 12/17 | Q19: =トータル!J62 -> OOCL
B20: =トータル!A63 -> 0 | F20: =トータル!B63 -> 0 | I20: =トータル!C63 -> 12/09-11 | K20: =トータル!E63 -> 12/07 | M20: =トータル!G63 -> 12/04 | O20: =トータル!H63 -> 12/22 | Q20: =トータル!J63 -> ONE
B21: =トータル!A64 -> 0 | F21: =トータル!B64 -> 0 | I21: =トータル!C64 -> 12/12-13 | K21: =トータル!E64 -> 12/10 | M21: =トータル!G64 -> 12/09 | O21: =トータル!H64 -> 12/24 | Q21: =トータル!J64 -> OOCL
B22: =トータル!A65 -> 0 | F22: =トータル!B65 -> 0 | I22: =トータル!C65 -> 12/16-18 | K22: =トータル!E65 -> 12/14 | M22: =トータル!G65 -> 12/11 | O22: =トータル!H65 -> 12/29 | Q22: =トータル!J65 -> ONE
B23: =トータル!A66 -> 0 | F23: =トータル!B66 -> 0 | I23: =トータル!C66 -> 0 | K23: =トータル!E66 -> 0 | M23: =トータル!G66 -> 0 | O23: =トータル!H66 -> 0 | Q23: =トータル!J66 -> 0
A25: - 大 阪 貨 物 搬 入 先 - | P25: - 神 戸 貨 物 搬 入 先 -
A26: 丸山物流株式会社 Q-2営業所 〒559-0033 大阪市住之江区南港中6-7-35 TEL 06-6115-8811/FAX 06-6614-1655 ※『気付 オーシャンリンクス』ご記載要 NACCS NO 4IDD2 担当 山下様 DOCK送付先 ①搬入倉庫送信先 osu-q2@yosun.co.jp ②B/L作成部署送付 docs@oceanlinks.co.jp ACL 船会社コード：OCL1（オーシーエルイチ） ACL 通知先コード：4AOCL(ヨンエーオーシーエル） ACL 通知先コード：4CMAR（ヨンシーエムエーアール） | P26: 大洋運輸株式会社 〒650-0045 神戸市中央区港島7-6 TEL078-302-0456/FAX078-302-7343 ※『気付 オーシャンリンクス』ご記載要 NACCS NO 3FDH1 担当 三浦様 DOCK送付先 ①搬入倉庫送信先 receive_ol@taiyounyu.co.jp ②B/L作成部署送付先 docs@oceanlinks.co.jp ACL 船会社コード：OCL1（オーシーエルイチ） ACL 通知先コード：4AOCL(ヨンエーオーシーエル） ACL 通知先コード：3ATYU（サンエーティーワイユー）
A36: 大阪本社 TEL (06) 6263-5923 / FAX (06) 6263-6104
A37: 東京支店 TEL (03) 5543-2361 / FAX (03) 5543-2363
A38: 横浜営業所 TEL (045) 323-9875 / FAX (045) 323-9876

Sheet 3.PKG
A1: OCEAN LINKS SAILING-SCHEDULE >>> 関西積み
S2: =TODAY() -> 46304
A3: 3.マレーシア ポートケラン （ PORT KELANG ） LCL
A4: 留意点 | B4: VESSEL | F4: VOY.NO. | H4: KOBE ETD | J4: KOBE CUT | L4: OSAKA CUT | N4: PKG ETA | P4: CARRIER | S4: 【重要】 BOOKINGご用命時､必ずご一読ください｡
A5: ● | B5: =トータル!A72 -> WAN HAI 356 | F5: =トータル!B72 -> S045 | H5: =トータル!C72 -> 10/08-08 | J5: =トータル!E72 -> 10/05 | L5: =トータル!G72 -> 10/02 | N5: =トータル!H72 -> 10/18 | P5: IAL
A6: ● | B6: =トータル!A73 -> WAN HAI 335 | F6: =トータル!B73 -> S018 | H6: =トータル!C73 -> 10/11-11 | J6: =トータル!E73 -> 10/08 | L6: =トータル!G73 -> 10/07 | N6: =トータル!H73 -> 10/21 | P6: IAL | S6: 【推奨】 ONLINE BOOKINGをご活用ください。 ※BOOKING №を即時 発番可能です。
A7: ● | B7: =トータル!A74 -> WAN HAI 357 | F7: =トータル!B74 -> S040 | H7: =トータル!C74 -> 10/18-18 | J7: =トータル!E74 -> 10/15 | L7: =トータル!G74 -> 10/14 | N7: =トータル!H74 -> 10/28 | P7: IAL
A8: ● | B8: =トータル!A75 -> INTERASIA TRANSFORM | F8: =トータル!B75 -> S026 | H8: =トータル!C75 -> 10/25-25 | J8: =トータル!E75 -> 10/22 | L8: =トータル!G75 -> 10/21 | N8: =トータル!H75 -> 11/04 | P8: IAL
A9: ● | B9: =トータル!A76 -> WAN HAI 356 | F9: =トータル!B76 -> S046 | H9: =トータル!C76 -> 11/01-01 | J9: =トータル!E76 -> 10/29 | L9: =トータル!G76 -> 10/28 | N9: =トータル!H76 -> 11/11 | P9: IAL
A10: ● | B10: =トータル!A77 -> WAN HAI 335 | F10: =トータル!B77 -> S019 | H10: =トータル!C77 -> 11/08-08 | J10: =トータル!E77 -> 11/05 | L10: =トータル!G77 -> 11/04 | N10: =トータル!H77 -> 11/18 | P10: IAL | S10: 【留意点のご説明】－－－－－－－－－－－－－－－－－－－－－－－－－ ● 祝日の為、CUT日が変更（前倒し）されております。ご注意ください。 ● 該当本船は、NO SERVICEとなります。 ● 本船名、VOY №等が変更されております。ご注意ください。
A11: ● | B11: =トータル!A78 -> WAN HAI 357 | F11: =トータル!B78 -> S041 | H11: =トータル!C78 -> 11/15-15 | J11: =トータル!E78 -> 11/12 | L11: =トータル!G78 -> 11/11 | N11: =トータル!H78 -> 11/25 | P11: IAL
A12: ● | B12: =トータル!A79 -> INTERASIA TRANSFORM | F12: =トータル!B79 -> S027 | H12: =トータル!C79 -> 11/22-22 | J12: =トータル!E79 -> 11/19 | L12: =トータル!G79 -> 11/18 | N12: =トータル!H79 -> 12/02 | P12: IAL
A13: ● | B13: =トータル!A80 -> WAN HAI 356 | F13: =トータル!B80 -> S047 | H13: =トータル!C80 -> 11/29-29 | J13: =トータル!E80 -> 11/26 | L13: =トータル!G80 -> 11/25 | N13: =トータル!H80 -> 12/09 | P13: IAL
B14: =トータル!A81 -> WAN HAI 335 | F14: =トータル!B81 -> S020 | H14: =トータル!C81 -> 12/06-06 | J14: =トータル!E81 -> 12/03 | L14: =トータル!G81 -> 12/02 | N14: =トータル!H81 -> 12/16 | P14: IAL
A16: - 大 阪 貨 物 搬 入 先 - | P16: - 神 戸 貨 物 搬 入 先 -
A17: 丸山物流株式会社 Q-2営業所 〒559-0033 大阪市住之江区南港中6-7-35 TEL 06-6115-8811/FAX 06-6614-1655 ※『気付 オーシャンリンクス』ご記載要 NACCS NO 4IDD2 担当 山下様 DOCK送付先 ①搬入倉庫送信先 osu-q2@yosun.co.jp ②B/L作成部署送付 docs@oceanlinks.co.jp ACL 船会社コード：OCL1（オーシーエルイチ） ACL 通知先コード：4AOCL(ヨンエーオーシーエル） ACL 通知先コード：4CMAR（ヨンシーエムエーアール） | P17: 上組神戸多目的物流センター（KMDC） 〒650-0045 神戸市中央区港島8-14 TEL078-306-3904/FAX078-306-3922 ※『気付 オーシャンリンクス』ご記載要 NACCS NO 3FW50 担当 奥田様 DOCK送付先 ①搬入倉庫送信 kmdc_cfs_exp@kamigumi.co.jp ②B/L作成部署送付先 docs@oceanlinks.co.jp ACL 船会社コード：OCL1（オーシーエルイチ） ACL 通知先コード：4AOCL(ヨンエーオーシーエル） ACL 通知先コード：3OKAM（サンオーケーエーエム）
A26: 大阪本社 TEL (06) 6263-5923 / FAX (06) 6263-6104
A27: 東京支店 TEL (03) 5543-2361 / FAX (03) 5543-2363
A28: 横浜営業所 TEL (045) 323-9875 / FAX (045) 323-9876

Sheet 4.JEDDAH
A1: OCEAN LINKS SAILING-SCHEDULE >>> 関西積み
S2: =TODAY() -> 46304
A3: 4.サウジアラビア (SAUDI, JEDDAH) LCL 臨時便
A4: 留意点 | B4: VESSEL | F4: VOY.NO. | H4: KOBE ETD | J4: KOBE CUT | L4: YOKOHAMA CUT | N4: JED ETA | P4: CARRIER | S4: 【重要】 BOOKINGご用命時､必ずご一読ください｡
B5: =トータル!A97 -> EMMANUEL P | F5: =トータル!$B$97 -> 015S | H5: =トータル!C97 -> 10/28-30 | J5: =トータル!E97 -> 10/26 | L5: =トータル!G97 -> 10/21 | N5: =トータル!H97 -> 11/30 | P5: CU LINE
A6: ● | B6: =トータル!A98 -> ATHENS BRIDGE | F6: =トータル!$B$98 -> 1191S | H6: =トータル!C98 -> 11/25-27 | J6: =トータル!E98 -> 11/20 | L6: =トータル!G98 -> 11/17 | N6: =トータル!H98 -> 01/08 | P6: CU LINE
A7: ●● | B7: =トータル!A99 -> 0 | F7: =トータル!$B$99 -> 0 | H7: =トータル!C99 -> 0 | J7: =トータル!E99 -> 0 | L7: =トータル!G99 -> 0 | N7: =トータル!H99 -> 0 | P7: WH | S7: 【推奨】 ONLINE BOOKINGをご活用ください。 ※BOOKING №を即時 発番可能です。
A8: ●● | B8: =トータル!A100 -> 0 | F8: =トータル!$B$100 -> 0 | H8: =トータル!C100 -> 0 | J8: =トータル!E100 -> 0 | L8: =トータル!G100 -> 0 | N8: =トータル!H100 -> 0 | P8: WH
B9: =トータル!A92 -> GLORY SHANGHAI | F9: =トータル!B92 -> 2647S | H9: =トータル!C92 -> 11/20-20 | J9: =トータル!E92 -> 11/18 | L9: =トータル!G92 -> 11/13 | N9: =トータル!H92 -> 12/30 | P9: CULINE
B10: =トータル!A93 -> HARRIER | F10: =トータル!B93 -> 2648S | H10: =トータル!C93 -> 11/27-27 | J10: =トータル!E93 -> 11/25 | L10: =トータル!G93 -> 11/19 | N10: =トータル!H93 -> 12/30 | P10: CULINE | S10: 【留意点のご説明】－－－－－－－－－－－－－－－－－－－－－－－ ● 祝日の為、CUT日が変更（前倒し）されております。ご注意ください。 ● 該当本船は、NO SERVICEとなります。 ● 本船名、VOY №等が変更されております。ご注意ください。 *サウジアラビアはパレッタイズ必須です。従来の経由地JEBEL ALI での作業ができないため、事前にパレッタイズいただくようお願いいたします。
B11: =トータル!A94 -> 0 | F11: =トータル!B94 -> 0 | H11: =トータル!C94 -> 0 | J11: =トータル!E94 -> 0 | L11: =トータル!G94 -> 0 | N11: =トータル!H94 -> 0 | P11: ONE
B12: =トータル!A95 -> 0 | F12: =トータル!B95 -> 0 | H12: =トータル!C95 -> 0 | J12: =トータル!E95 -> 0 | L12: =トータル!G95 -> 0 | N12: =トータル!H95 -> 0 | P12: ONE
B13: =トータル!A97 -> EMMANUEL P | F13: =トータル!B97 -> 015S | H13: =トータル!C97 -> 10/28-30 | J13: =トータル!E97 -> 10/26 | L13: =トータル!G97 -> 10/21 | N13: =トータル!H97 -> 11/30 | P13: ONE
B14: =トータル!A98 -> ATHENS BRIDGE | F14: =トータル!B98 -> 1191S | H14: =トータル!C98 -> 11/25-27 | J14: =トータル!E98 -> 11/20 | L14: =トータル!G98 -> 11/17 | N14: =トータル!H98 -> 01/08 | P14: ONE
A16: - 横 浜 貨 物 搬 入 先 【予約制度】 - | P16: - 神 戸 貨 物 搬 入 先 -
A17: 株式会社宇徳 本牧A-6CFS 気付 オーシャンリンクス 神奈川県横浜市中区本牧埠頭 9-1 TEL 045-264-7011/FAX 045-264-8036 保税名称 : 株式会社宇徳 本牧埠頭 A-6CFS 保税蔵置場 ' NACCS: 2EWT8 DOC送付先：'①搬入倉庫送信先 yok_exp_document@utoc.co.jp '②B/L作成部署送付先 docs-tokyo@oceanlinks.co.jp ACL 船会社 コード：OCL1（オーシーエルイチ） ACL 通知先コード：4AOCL(ヨンエーオーシーエル） ACL 通知先コード：2RUTK 搬入予約・搬入確認の方法については下記URLよりご確認ください。 https://www.utoc.co.jp/business/logistics/warehouse/cfs/ | P17: 上組神戸多目的物流センター（KMDC） 〒650-0045 神戸市中央区港島8-14 TEL078-306-3904/FAX 078-306-3922 ※『気付 オーシャンリンクス』ご記載要 NACCS NO 3FW50 担当 奥田様 DOCK送付先 ①搬入倉庫送信 kmdc_cfs_exp@kamigumi.co.jp ②B/L作成部署送付先 docs@oceanlinks.co.jp ACL 船会社コード：OCL1（オーシーエルイチ） ACL 通知先コード：4AOCL(ヨンエーオーシーエル） ACL 通知先コード：3OKAM（サンオーケーエーエム）
A27: 大阪本社 TEL (06) 6263-5923 / FAX (06) 6263-6104
A28: 東京支店 TEL (03) 5543-2361 / FAX (03) 5543-2363
A29: 横浜営業所 TEL (045) 323-9875 / FAX (045) 323-9876

Sheet 4.JBA
A1: OCEAN LINKS SAILING-SCHEDULE >>> 関西積み
S2: =TODAY() -> 46304
A3: 4.ドバイ （ DUBAI, JEBEL ALI ） LCL
A4: 留意点 | B4: VESSEL | F4: VOY.NO. | H4: KOBE ETD | J4: KOBE CUT | L4: YOKOHAMA CUT | N4: DUBAI ETA | P4: CARRIER | S4: 【重要】 BOOKINGご用命時､必ずご一読ください｡
B5: =トータル!A88 -> NAVIOS CHRYSALIS | F5: =トータル!B88 -> 018S | H5: =トータル!C88 -> 10/21-23 | J5: =トータル!E88 -> 10/19 | L5: =トータル!G88 -> 10/14 | N5: =トータル!H88 -> 11/21 | P5: CU LINE
B6: =トータル!A89 -> ATHENS BRIDGE | F6: =トータル!B89 -> 1190S | H6: =トータル!C89 -> 10/28-30 | J6: =トータル!E89 -> 10/26 | L6: =トータル!G89 -> 10/21 | N6: =トータル!H89 -> 11/24 | P6: CU LINE
A7: ● | B7: =トータル!A90 -> HARRIER | F7: =トータル!B90 -> 2645S | H7: =トータル!C90 -> 11/06-06 | J7: =トータル!E90 -> 11/04 | L7: =トータル!G90 -> 10/29 | N7: =トータル!H90 -> 12/30 | P7: CU LINE | S7: 【推奨】 ONLINE BOOKINGをご活用ください。 ※BOOKING №を即時 発番可能です。
B8: =トータル!A91 -> JJ SUN | F8: =トータル!B91 -> 2646S | H8: =トータル!C91 -> 11/13-13 | J8: =トータル!E91 -> 11/11 | L8: =トータル!G91 -> 11/06 | N8: =トータル!H91 -> 12/30 | P8: CU LINE
B9: =トータル!A92 -> GLORY SHANGHAI | F9: =トータル!B92 -> 2647S | H9: =トータル!C92 -> 11/20-20 | J9: =トータル!E92 -> 11/18 | L9: =トータル!G92 -> 11/13 | N9: =トータル!H92 -> 12/30 | P9: CU LINE
A10: ● | B10: =トータル!A93 -> HARRIER | F10: =トータル!B93 -> 2648S | H10: =トータル!C93 -> 11/27-27 | J10: =トータル!E93 -> 11/25 | L10: =トータル!G93 -> 11/19 | N10: =トータル!H93 -> 12/30 | P10: CU LINE | S10: 【留意点のご説明】－－－－－－－－－－－－－－－－－－－－－－－ ● 祝日の為、CUT日が変更（前倒し）されております。ご注意ください。 ● 該当本船は、NO SERVICEとなります。 ● 本船名、VOY №等が変更されております。ご注意ください。
B11: =トータル!A94 -> 0 | F11: =トータル!B94 -> 0 | H11: =トータル!C94 -> 0 | J11: =トータル!E94 -> 0 | L11: =トータル!G94 -> 0 | N11: =トータル!H94 -> 0 | P11: WHL
B12: =トータル!A95 -> 0 | F12: =トータル!B95 -> 0 | H12: =トータル!C95 -> 0 | J12: =トータル!E95 -> 0 | L12: =トータル!G95 -> 0 | N12: =トータル!H95 -> 0 | P12: CULINE
B13: =トータル!A97 -> EMMANUEL P | F13: =トータル!B97 -> 015S | H13: =トータル!C97 -> 10/28-30 | J13: =トータル!E97 -> 10/26 | L13: =トータル!G97 -> 10/21 | N13: =トータル!H97 -> 11/30 | P13: ONE
B14: =トータル!A98 -> ATHENS BRIDGE | F14: =トータル!B98 -> 1191S | H14: =トータル!C98 -> 11/25-27 | J14: =トータル!E98 -> 11/20 | L14: =トータル!G98 -> 11/17 | N14: =トータル!H98 -> 01/08 | P14: ONE
A16: - 横 浜 貨 物 搬 入 先 【予約制度】 - | P16: - 神 戸 貨 物 搬 入 先 -
A17: 株式会社宇徳 本牧A-6CFS 気付 オーシャンリンクス 神奈川県横浜市中区本牧埠頭 9-1 TEL 045-264-7011/FAX 045-264-8036 保税名称 : 株式会社宇徳 本牧埠頭 A-6CFS 保税蔵置場 ' NACCS: 2EWT8 DOC送付先：'①搬入倉庫送信先 yok_exp_document@utoc.co.jp '②B/L作成部署送付先 docs-tokyo@oceanlinks.co.jp ACL 船会社 コード：OCL1（オーシーエルイチ） ACL 通知先コード：4AOCL(ヨンエーオーシーエル） ACL 通知先コード：2RUTK 搬入予約・搬入確認の方法については下記URLよりご確認ください。 https://www.utoc.co.jp/business/logistics/warehouse/cfs/ | P17: 上組神戸多目的物流センター（KMDC） 〒650-0045 神戸市中央区港島8-14 TEL078-306-3904/FAX 078-306-3922 ※『気付 オーシャンリンクス』ご記載要 NACCS NO 3FW50 担当 奥田様 DOCK送付先 ①搬入倉庫送信 kmdc_cfs_exp@kamigumi.co.jp ②B/L作成部署送付先 docs@oceanlinks.co.jp ACL 船会社コード：OCL1（オーシーエルイチ） ACL 通知先コード：4AOCL(ヨンエーオーシーエル） ACL 通知先コード：3OKAM（サンオーケーエーエム）
A27: 大阪本社 TEL (06) 6263-5923 / FAX (06) 6263-6104
A28: 東京支店 TEL (03) 5543-2361 / FAX (03) 5543-2363
A29: 横浜営業所 TEL (045) 323-9875 / FAX (045) 323-9876

Sheet 5.PUS
A1: OCEAN LINKS SAILING-SCHEDULE >>> 関西積み
Z2: =TODAY() -> 46304
A3: 5.韓国 釜山 （ PUSAN ）LCL
A4: 留意点 | B4: VESSEL | G4: VOY.NO. | J4: KOBE ETD | M4: KOBE CUT | P4: OSAKA CUT | S4: PUS ETA | V4: CARRIER | Z4: 【重要】 BOOKINGご用命時､必ずご一読ください｡
A5: ● | B5: =トータル!A104 -> HONOR OCEAN | G5: =トータル!B104 -> 2615W | J5: =トータル!C104 -> 10/14-14 | M5: =トータル!E104 -> 10/09 | P5: =トータル!G104 -> 10/09 | S5: =トータル!H104 -> 10/17 | V5: PEGASUS
B6: =トータル!A105 -> HONOR GLORY | G6: =トータル!B105 -> 2647W | J6: =トータル!C105 -> 10/16-16 | M6: =トータル!E105 -> 10/14 | P6: =トータル!G105 -> 10/14 | S6: =トータル!H105 -> 10/19 | V6: PEGASUS
B7: =トータル!A106 -> HONOR OCEAN | G7: =トータル!B106 -> 2616W | J7: =トータル!C106 -> 10/19-19 | M7: =トータル!E106 -> 10/15 | P7: =トータル!G106 -> 10/15 | S7: =トータル!H106 -> 10/21 | V7: PEGASUS
B8: =トータル!A107 -> HONOR GLORY | G8: =トータル!B107 -> 2648W | J8: =トータル!C107 -> 10/21-21 | M8: =トータル!E107 -> 10/19 | P8: =トータル!G107 -> 10/19 | S8: =トータル!H107 -> 10/24 | V8: PEGASUS | Z8: 【推奨】 ONLINE BOOKINGをご活用ください。 ※BOOKING №を即時 発番可能です。
B9: =トータル!A108 -> HONOR OCEAN | G9: =トータル!B108 -> 2617W | J9: =トータル!C108 -> 10/23-23 | M9: =トータル!E108 -> 10/21 | P9: =トータル!G108 -> 10/21 | S9: =トータル!H108 -> 10/26 | V9: PEGASUS
B10: =トータル!A109 -> HONOR GLORY | G10: =トータル!B109 -> 2649W | J10: =トータル!C109 -> 10/26-26 | M10: =トータル!E109 -> 10/22 | P10: =トータル!G109 -> 10/22 | S10: =トータル!H109 -> 10/28 | V10: PEGASUS
B11: =トータル!A110 -> HONOR OCEAN | G11: =トータル!B110 -> 2618W | J11: =トータル!C110 -> 10/28-28 | M11: =トータル!E110 -> 10/26 | P11: =トータル!G110 -> 10/26 | S11: =トータル!H110 -> 10/31 | V11: PEGASUS
B12: =トータル!A111 -> HONOR GLORY | G12: =トータル!B111 -> 2650W | J12: =トータル!C111 -> 10/30-30 | M12: =トータル!E111 -> 10/28 | P12: =トータル!G111 -> 10/28 | S12: =トータル!H111 -> 11/02 | V12: PEGASUS
A13: ● | B13: =トータル!A112 -> NO SERVICE | G13: =トータル!B112 -> --- | J13: =トータル!C112 -> 11/02-02 | M13: =トータル!E112 -> 10/29 | P13: =トータル!G112 -> 10/29 | S13: =トータル!H112 -> 11/04 | V13: PEGASUS
A14: ● | B14: =トータル!A113 -> HONOR GLORY | G14: =トータル!B113 -> 2651W | J14: =トータル!C113 -> 11/04-04 | M14: =トータル!E113 -> 10/30 | P14: =トータル!G113 -> 10/30 | S14: =トータル!H113 -> 11/07 | V14: PEGASUS
B15: =トータル!A114 -> HONOR OCEAN | G15: =トータル!B114 -> 2620W | J15: =トータル!C114 -> 11/06-06 | M15: =トータル!E114 -> 11/04 | P15: =トータル!G114 -> 11/04 | S15: =トータル!H114 -> 11/09 | V15: PEGASUS
B16: =トータル!A115 -> HONOR GLORY | G16: =トータル!B115 -> 2652W | J16: =トータル!C115 -> 11/09-09 | M16: =トータル!E115 -> 11/05 | P16: =トータル!G115 -> 11/05 | S16: =トータル!H115 -> 11/11 | V16: PEGASUS | Z16: 【留意点のご説明】－－－－－－－－－－－－－－－－－－－－－－－－－ ● 祝日の為、CUT日が変更（前倒し）されております。ご注意ください。 ● 該当本船は、NO SERVICEとなります。 ● 本船名、VOY №等が変更されております。ご注意ください。
B17: =トータル!A116 -> HONOR OCEAN | G17: =トータル!B116 -> 2621W | J17: =トータル!C116 -> 11/11-11 | M17: =トータル!E116 -> 11/09 | P17: =トータル!G116 -> 11/09 | S17: =トータル!H116 -> 11/14 | V17: PEGASUS
B18: =トータル!A117 -> HONOR GLORY | G18: =トータル!B117 -> 2653W | J18: =トータル!C117 -> 11/13-13 | M18: =トータル!E117 -> 11/11 | P18: =トータル!G117 -> 11/11 | S18: =トータル!H117 -> 11/16 | V18: PEGASUS
B19: =トータル!A118 -> HONOR OCEAN | G19: =トータル!B118 -> 2622W | J19: =トータル!C118 -> 11/16-16 | M19: =トータル!E118 -> 11/12 | P19: =トータル!G118 -> 11/12 | S19: =トータル!H118 -> 11/18 | V19: PEGASUS
B20: =トータル!A119 -> HONOR GLORY | G20: =トータル!B119 -> 2654W | J20: =トータル!C119 -> 11/18-18 | M20: =トータル!E119 -> 11/16 | P20: =トータル!G119 -> 11/16 | S20: =トータル!H119 -> 11/21 | V20: PEGASUS
B21: =トータル!A120 -> HONOR OCEAN | G21: =トータル!B120 -> 2623W | J21: =トータル!C120 -> 11/20-20 | M21: =トータル!E120 -> 11/18 | P21: =トータル!G120 -> 11/18 | S21: =トータル!H120 -> 11/23 | V21: PEGASUS
A22: ● | B22: =トータル!A121 -> NO SERVICE | G22: =トータル!B121 -> --- | J22: =トータル!C121 -> 11/23-23 | M22: =トータル!E121 -> 11/19 | P22: =トータル!G121 -> 11/19 | S22: =トータル!H121 -> 11/25 | V22: PEGASUS
A23: ● | B23: =トータル!A122 -> HONOR OCEAN | G23: =トータル!B122 -> 2624W | J23: =トータル!C122 -> 11/25-25 | M23: =トータル!E122 -> 11/20 | P23: =トータル!G122 -> 11/20 | S23: =トータル!H122 -> 11/28 | V23: PEGASUS
A25: - 大 阪 貨 物 搬 入 先 - | S25: - 神 戸 貨 物 搬 入 先 -
A26: 丸山物流株式会社 Q-2営業所 〒559-0033 大阪市住之江区南港中6-7-35 TEL 06-6115-8811/FAX 06-6614-1655 ※『気付 オーシャンリンクス』ご記載要 NACCS NO 4IDD2 担当 山下様 DOCK送付先 ①搬入倉庫送信先 osu-q2@yosun.co.jp ②B/L作成部署送付 docs@oceanlinks.co.jp ACL 船会社コード：OCL1（オーシーエルイチ） ACL 通知先コード：4AOCL(ヨンエーオーシーエル） ACL 通知先コード：4CMAR（ヨンシーエムエーアール） | S26: 上組神戸多目的物流センター（KMDC） 〒650-0045 神戸市中央区港島8-14 TEL078-306-3904/FAX 078-306-3922 ※『気付 オーシャンリンクス』ご記載要 NACCS NO 3FW50 担当 奥田様 DOCK送付先 ①搬入倉庫送信先 kmdc_cfs_exp@kamigumi.co.jp ②B/L作成部署送付先 docs@oceanlinks.co.jp ACL 船会社コード：OCL1（オーシーエルイチ） ACL 通知先コード：4AOCL(ヨンエーオーシーエル） ACL 通知先コード：3OKAM（サンオーケーエーエム）
A36: 大阪本社 TEL (06) 6263-5923 / FAX (06) 6263-6104
A37: 東京支店 TEL (03) 5543-2361 / FAX (03) 5543-2363
A38: 横浜営業所 TEL (045) 323-9875 / FAX (045) 323-9876

Sheet 6.INH
A1: OCEAN LINKS SAILING-SCHEDULE >>> 関西積み
S2: =TODAY() -> 46304
A3: 6.韓国 仁川 （ INCHEON ） LCL
A4: 留意点 | B4: VESSEL | F4: VOY.NO. | H4: KOBE ETD | J4: KOBE CUT | L4: OSAKA CUT | N4: INH ETA | P4: CARRIER | S4: 【重要】 BOOKINGご用命時､必ずご一読ください｡
B5: =トータル!A133 -> PACIFIC MONACO | F5: =トータル!B133 -> 2640W | H5: =トータル!C133 -> 10/09-09 | J5: =トータル!E133 -> 10/07 | L5: =トータル!G133 -> 10/06 | N5: =トータル!H133 -> 10/12 | P5: CK
B6: =トータル!A134 -> PACIFIC MONACO | F6: =トータル!B134 -> 2641W | H6: =トータル!C134 -> 10/16-16 | J6: =トータル!E134 -> 10/14 | L6: =トータル!G134 -> 10/13 | N6: =トータル!H134 -> 10/19 | P6: CK
B7: =トータル!A135 -> PACIFIC MONACO | F7: =トータル!B135 -> 2642W | H7: =トータル!C135 -> 10/23-23 | J7: =トータル!E135 -> 10/21 | L7: =トータル!G135 -> 10/20 | N7: =トータル!H135 -> 10/26 | P7: CK | S7: 【推奨】 ONLINE BOOKINGをご活用ください。 ※BOOKING №を即時 発番可能です。
B8: =トータル!A136 -> PACIFIC MONACO | F8: =トータル!B136 -> 2643W | H8: =トータル!C136 -> 10/30-30 | J8: =トータル!E136 -> 10/28 | L8: =トータル!G136 -> 10/27 | N8: =トータル!H136 -> 11/02 | P8: CK
B9: =トータル!A137 -> 0 | F9: =トータル!B137 -> 0 | H9: =トータル!C137 -> 11/06-06 | J9: =トータル!E137 -> 11/04 | L9: =トータル!G137 -> 11/02 | N9: =トータル!H137 -> 11/09 | P9: CK
B10: =トータル!A138 -> 0 | F10: =トータル!B138 -> 0 | H10: =トータル!C138 -> 11/13-13 | J10: =トータル!E138 -> 11/11 | L10: =トータル!G138 -> 11/10 | N10: =トータル!H138 -> 11/16 | P10: CK
B11: =トータル!A139 -> 0 | F11: =トータル!B139 -> 0 | H11: =トータル!C139 -> 11/20-20 | J11: =トータル!E139 -> 11/18 | L11: =トータル!G139 -> 11/17 | N11: =トータル!H139 -> 11/23 | P11: CK | S11: 【留意点のご説明】－－－－－－－－－－－－－－－－－－－－－－－－－ ● 祝日の為、CUT日が変更（前倒し）されております。ご注意ください。 ● 該当本船は、NO SERVICEとなります。 ● 本船名、VOY №等が変更されております。ご注意ください。
B12: =トータル!A140 -> 0 | F12: =トータル!B140 -> 0 | H12: =トータル!C140 -> 11/27-27 | J12: =トータル!E140 -> 11/25 | L12: =トータル!G140 -> 11/24 | N12: =トータル!H140 -> 11/30 | P12: CK
B13: =トータル!A141 -> 0 | F13: =トータル!B141 -> 0 | H13: =トータル!C141 -> 12/04-04 | J13: =トータル!E141 -> 12/02 | L13: =トータル!G141 -> 12/01 | N13: =トータル!H141 -> 12/07 | P13: CK
B14: =トータル!A142 -> 0 | F14: =トータル!B142 -> 0 | H14: =トータル!C142 -> 12/11-11 | J14: =トータル!E142 -> 12/09 | L14: =トータル!G142 -> 12/08 | N14: =トータル!H142 -> 12/14 | P14: CK
A16: - 大 阪 貨 物 搬 入 先 - | P16: - 神 戸 貨 物 搬 入 先 -
A17: 丸山物流株式会社Q-2営業所 〒559-0033 大阪市住之江区南港中6-7-35 TEL 06-6115-8811/FAX 06-6614-1655 ※『気付 オーシャンリンクス』ご記載要 NACCS NO 4IDD2 担当 山下様 DOCK送付先 ①搬入倉庫送信先 osu-q2@yosun.co.jp ②B/L作成部署送付先 docs@oceanlinks.co.jp ACL 船会社コード：OCL1（オーシーエルイチ） ACL 通知先コード：4AOCL(ヨンエーオーシーエル） ACL 通知先コード：4CMAR（ヨンシーエムエーアール） | P17: 上組神戸多目的物流センター（KMDC) 〒650-0045 神戸市中央区港島8-14 TEL078-306-3904/FAX 078-306-3922 ※『気付 オーシャンリンクス』ご記載要 NACCS NO 3FW50 担当 奥田様 DOCK送付先 ①搬入倉庫送信先 kmdc_cfs_exp@kamigumi.co.jp ②B/L作成部署送付先 docs@oceanlinks.co.jp ACL 船会社コード：OCL1（オーシーエルイチ） ACL 通知先コード：4AOCL(ヨンエーオーシーエル） ACL 通知先コード：3OKAM（サンオーケーエーエム）
A28: 大阪本社 TEL (06) 6263-5923 / FAX (06) 6263-6104
A29: 東京支店 TEL (03) 5543-2361 / FAX (03) 5543-2363
A30: 横浜営業所 TEL (045) 323-9875 / FAX (045) 323-9876

Sheet 7.KLG
A1: OCEAN LINKS SAILING-SCHEDULE >>> 関西積み
U2: =TODAY() -> 46304
A3: 7.台湾 基隆 （ KEELUNG ） LCL
A4: 留意点 | B4: VESSEL | F4: VOY.NO. | H4: KOBE ETD | J4: KOBE CUT | L4: OSAKA ETD | N4: OSAKA CUT | P4: KLG ETA | R4: CARRIER | U4: 【重要】 BOOKINGご用命時､必ずご一読ください｡
B5: =トータル!A144 -> HORAI BRIDGE | F5: =トータル!B144 -> 229S | H5: =トータル!C144 -> 10/11-11 | J5: =トータル!E144 -> 10/08 | L5: =トータル!C164 -> 10/11-11 | N5: =トータル!E164 -> 10/08 | P5: =トータル!H144 -> 10/14 | R5: YML
A6: ●☆ | B6: =トータル!A145 -> NAVIOS VERDE | F6: =トータル!B145 -> 188S | H6: =トータル!C145 -> 10/14-16 | J6: =トータル!E145 -> 10/09 | L6: --- | N6: =トータル!G145 -> --- | P6: =トータル!H145 -> 10/18 | R6: ONE
B7: =トータル!A146 -> YM IMPROVEMENT | F7: =トータル!B146 -> 279S | H7: =トータル!C146 -> 10/18-18 | J7: =トータル!E146 -> 10/15 | L7: =トータル!C165 -> 10/18-18 | N7: =トータル!E165 -> 10/15 | P7: =トータル!H146 -> 10/21 | R7: YML
A8: ● | B8: =トータル!A147 -> NAVIOS CHRYSALIS | F8: =トータル!B147 -> 018S | H8: =トータル!C147 -> 10/21-23 | J8: =トータル!E147 -> 10/19 | L8: --- | N8: =トータル!G147 -> 10/16 | P8: =トータル!H147 -> 10/25 | R8: ONE | U8: 【推奨】 ONLINE BOOKINGをご活用ください。 ※BOOKING №を即時 発番可能です。
B9: =トータル!A148 -> YM INCEPTION | F9: =トータル!B148 -> 251S | H9: =トータル!C148 -> 10/25-25 | J9: =トータル!E148 -> 10/22 | L9: =トータル!C166 -> 10/25-25 | N9: =トータル!E166 -> 10/22 | P9: =トータル!H148 -> 10/28 | R9: YML
A10: ● | B10: =トータル!A149 -> ATHENS BRIDGE | F10: =トータル!B149 -> 1190S | H10: =トータル!C149 -> 10/28-30 | J10: =トータル!E149 -> 10/26 | L10: --- | N10: =トータル!G149 -> 10/23 | P10: =トータル!H149 -> 11/01 | R10: ONE
B11: =トータル!A150 -> YM IMMENSE | F11: =トータル!B150 -> 412S | H11: =トータル!C150 -> 11/01-01 | J11: =トータル!E150 -> 10/29 | L11: =トータル!C167 -> 11/01-01 | N11: =トータル!E167 -> 10/29 | P11: =トータル!H150 -> 11/04 | R11: YML
A12: ●●＊ | B12: =トータル!A151 -> EMMANUEL P | F12: =トータル!B151 -> 015S | H12: =トータル!C151 -> 11/04-06 | J12: =トータル!E151 -> 10/30 | L12: --- | N12: =トータル!G151 -> --- | P12: =トータル!H151 -> 11/08 | R12: ONE
B13: =トータル!A152 -> HORAI BRIDGE | F13: =トータル!B152 -> 230S | H13: =トータル!C152 -> 11/08-08 | J13: =トータル!E152 -> 11/05 | L13: =トータル!C168 -> 11/08-08 | N13: =トータル!E168 -> 11/05 | P13: =トータル!H152 -> 11/11 | R13: YML
A14: ● | B14: =トータル!A153 -> NO SERVICE | F14: =トータル!B153 -> --- | H14: =トータル!C153 -> 11/11-13 | J14: =トータル!E153 -> 11/09 | L14: --- | N14: =トータル!G153 -> 11/06 | P14: =トータル!H153 -> 11/15 | R14: ONE
B15: =トータル!A154 -> YM IMPROVEMENT | F15: =トータル!B154 -> 280S | H15: =トータル!C154 -> 11/15-15 | J15: =トータル!E154 -> 11/12 | L15: =トータル!C169 -> 11/15-15 | N15: =トータル!E169 -> 11/12 | P15: =トータル!H154 -> 11/18 | R15: YML
B16: =トータル!A155 -> NAVIOS CHRYSALIS | F16: =トータル!B155 -> 019S | H16: =トータル!C155 -> 11/18-20 | J16: =トータル!E155 -> 11/16 | L16: --- | N16: =トータル!G155 -> 11/13 | P16: =トータル!H155 -> 11/22 | R16: ONE | U16: 【留意点のご説明】－－－－－－－－－－－－－－－－－－－－－－－ ● 祝日の為、CUT日が変更（前倒し）されております。ご注意ください。 ● 該当本船は、NO SERVICEとなります。 ● 本船名、VOY №等が変更されております。ご注意ください。 ☆ HORAI BRIDGE 229SとNAVIOS VERDE 188Sは大阪CFS CUTが同日のため、大阪受けは HORAI BRIDGE 229S をご利用ください。 ＊ 大阪受けはYM IMMENSE 412S,YM INCEPTION 252S をご利用ください。
B17: =トータル!A156 -> YM INCEPTION | F17: =トータル!B156 -> 252S | H17: =トータル!C156 -> 11/22-22 | J17: =トータル!E156 -> 11/19 | L17: =トータル!C170 -> 11/22-22 | N17: =トータル!E170 -> 11/19 | P17: =トータル!H156 -> 11/25 | R17: YML
A18: ●＊ | B18: =トータル!A157 -> ATHENS BRIDGE | F18: =トータル!B157 -> 1191S | H18: =トータル!C157 -> 11/25-27 | J18: =トータル!E157 -> 11/20 | L18: --- | N18: =トータル!G157 -> --- | P18: =トータル!H157 -> 11/29 | R18: ONE
B19: =トータル!A158 -> 0 | F19: =トータル!B158 -> 0 | H19: =トータル!C158 -> 11/29-29 | J19: =トータル!E158 -> 11/26 | L19: =トータル!C171 -> 11/29-29 | N19: =トータル!E171 -> 11/26 | P19: =トータル!H158 -> 12/02 | R19: YML
A20: ●＊ | B20: =トータル!A159 -> 0 | F20: =トータル!B159 -> 0 | H20: =トータル!C159 -> 12/02-04 | J20: =トータル!E159 -> 11/30 | L20: --- | N20: =トータル!G159 -> --- | P20: =トータル!H159 -> 12/06 | R20: ONE
A22: - 大 阪 貨 物 搬 入 先 - | Q22: - 神 戸 貨 物 搬 入 先 -
A23: 丸山物流株式会社 Q-2営業所 〒559-0033 大阪市住之江区南港中6-7-35 TEL 06-6115-8811/FAX 06-6614-1655 ※『気付 オーシャンリンクス』ご記載要 NACCS NO 4IDD2 担当 山下様 DOCK送付先 ①搬入倉庫送信先 osu-q2@yosun.co.jp ②B/L作成部署送付先 docs@oceanlinks.co.jp ACL 船会社コード：OCL1（オーシーエルイチ） ACL 通知先コード：4AOCL(ヨンエーオーシーエル） ACL 通知先コード：4CMAR（ヨンシーエムエーアール） | Q23: 上組神戸多目的物流センター（KMDC） 〒650-0045 神戸市中央区港島8-14 TEL078-306-3904/FAX 078-306-3922 ※『気付 オーシャンリンクス』ご記載要 NACCS NO 3FW50 担当 奥田様 DOCK送付先 ①搬入倉庫送信先 kmdc_cfs_exp@kamigumi.co.jp ②B/L作成部署送付先 docs@oceanlinks.co.jp ACL 船会社コード：OCL1（オーシーエルイチ） ACL 通知先コード：4AOCL(ヨンエーオーシーエル） ACL 通知先コード：3OKAM（サンオーケーエーエム）
A33: 大阪本社 TEL (06) 6263-5923 / FAX (06) 6263-6104
A34: 東京支店 TEL (03) 5543-2361 / FAX (03) 5543-2363
A35: 横浜営業所 TEL (045) 323-9875 / FAX (045) 323-9876

Sheet 8.TCG
A1: OCEAN LINKS SAILING-SCHEDULE >>> 関西積み
S2: =TODAY() -> 46304
A3: 8.台湾 台中 ( TAICHUNG ) LCL
A4: 留意点 | B4: VESSEL | F4: VOY.NO. | H4: KOBE ETD | J4: KOBE CUT | L4: OSAKA CUT | N4: TCG ETA | P4: CARRIER | S4: 【重要】 BOOKINGご用命時､必ずご一読ください｡
A5: ● | B5: =トータル!A179 -> WAN HAI 295 | F5: =トータル!B179 -> S073 | H5: =トータル!C179 -> 10/08-08 | J5: =トータル!E179 -> 10/06 | L5: =トータル!G179 -> 10/05 | N5: =トータル!H179 -> 10/13 | P5: EMC
A6: ●● | B6: =トータル!A180 -> GREEN CELEBRITY | F6: =トータル!B180 -> S133 | H6: =トータル!C180 -> 10/15-15 | J6: =トータル!E180 -> 10/13 | L6: =トータル!G180 -> 10/09 | N6: =トータル!H180 -> 10/20 | P6: EMC
A7: ● | B7: =トータル!A181 -> WAN HAI 295 | F7: =トータル!B181 -> S074 | H7: =トータル!C181 -> 10/22-22 | J7: =トータル!E181 -> 10/20 | L7: =トータル!G181 -> 10/19 | N7: =トータル!H181 -> 10/27 | P7: EMC | S7: 【推奨】 ONLINE BOOKINGをご活用ください。 ※BOOKING №を即時 発番可能です。
A8: ● | B8: =トータル!A182 -> GREEN CELEBRITY | F8: =トータル!B182 -> S134 | H8: =トータル!C182 -> 10/29-29 | J8: =トータル!E182 -> 10/27 | L8: =トータル!G182 -> 10/26 | N8: =トータル!H182 -> 11/03 | P8: EMC
A9: ● | B9: =トータル!A183 -> WAN HAI 295 | F9: =トータル!B183 -> S075 | H9: =トータル!C183 -> 11/05-05 | J9: =トータル!E183 -> 11/02 | L9: =トータル!G183 -> 10/30 | N9: =トータル!H183 -> 11/10 | P9: EMC
B10: =トータル!A184 -> GREEN CELEBRITY | F10: =トータル!B184 -> S135 | H10: =トータル!C184 -> 11/12-12 | J10: =トータル!E184 -> 11/10 | L10: =トータル!G184 -> 11/09 | N10: =トータル!H184 -> 11/17 | P10: EMC | S10: 【留意点のご説明】－－－－－－－－－－－－－－－－－－－－－－－ ● 祝日の為、CUT日が変更（前倒し）されております。ご注意ください。 ● 該当本船は、NO SERVICEとなります。 ● 本船名、VOY №等が変更されております。ご注意ください。
B11: =トータル!A185 -> WAN HAI 295 | F11: =トータル!B185 -> S076 | H11: =トータル!C185 -> 11/19-19 | J11: =トータル!E185 -> 11/17 | L11: =トータル!G185 -> 11/16 | N11: =トータル!H185 -> 11/24 | P11: EMC
A12: ● | B12: =トータル!A186 -> GREEN CELEBRITY | F12: =トータル!B186 -> S136 | H12: =トータル!C186 -> 11/26-26 | J12: =トータル!E186 -> 11/24 | L12: =トータル!G186 -> 11/20 | N12: =トータル!H186 -> 12/01 | P12: EMC
B13: =トータル!A187 -> WAN HAI 295 | F13: =トータル!B187 -> S077 | H13: =トータル!C187 -> 12/03-03 | J13: =トータル!E187 -> 12/01 | L13: =トータル!G187 -> 11/30 | N13: =トータル!H187 -> 12/08 | P13: EMC
A14: ● | B14: =トータル!A188 -> 0 | F14: =トータル!B188 -> 0 | H14: =トータル!C188 -> 12/10-10 | J14: =トータル!E188 -> 12/08 | L14: =トータル!G188 -> 12/07 | N14: =トータル!H188 -> 12/15 | P14: EMC
A16: - 大 阪 貨 物 搬 入 先 - | P16: - 神 戸 貨 物 搬 入 先 -
A17: 丸山物流株式会社 Q-2営業所 〒559-0033 大阪市住之江区南港中6-7-35 TEL 06-6115-8811/FAX 06-6614-1655 ※『気付 オーシャンリンクス』ご記載要 NACCS NO 4IDD2 担当 山下様 DOCK送付先 ①搬入倉庫送信先 osu-q2@yosun.co.jp ②B/L作成部署送付先 docs@oceanlinks.co.jp ACL 船会社コード：OCL1（オーシーエルイチ） ACL 通知先コード：4AOCL(ヨンエーオーシーエル） ACL 通知先コード：4CMAR（ヨンシーエムエーアール） | P17: 上組神戸多目的物流センター（KMDC） 〒650-0045 神戸市中央区港島8-14 TEL078-306-3904/FAX 078-306-3922 ※『気付 オーシャンリンクス』ご記載要 NACCS NO 3FW50 担当 奥田様 DOCK送付先 ①搬入倉庫送信先 kmdc_cfs_exp@kamigumi.co.jp ②B/L作成部署送付先 docs@oceanlinks.co.jp ACL 船会社コード：OCL1（オーシーエルイチ） ACL 通知先コード：4AOCL(ヨンエーオーシーエル） ACL 通知先コード：3OKAM（サンオーケーエーエム）
A27: 大阪本社 TEL (06) 6263-5923 / FAX (06) 6263-6104
A28: 東京支店 TEL (03) 5543-2361 / FAX (03) 5543-2363
A29: 横浜営業所 TEL (045) 323-9875 / FAX (045) 323-9876

Sheet 9.KHH
A1: OCEAN LINKS SAILING-SCHEDULE >>> 関西積み
S2: =TODAY() -> 46304
A3: 9.台湾 高雄 （ KAOHSIUNG ） LCL
A4: 留意点 | B4: VESSEL | F4: VOY.NO. | H4: KOBE ETD | J4: KOBE CUT | L4: OSAKA CUT | N4: KHH ETA | P4: CARRIER | S4: 【重要】 BOOKINGご用命時､必ずご一読ください｡
A5: ● | B5: =トータル!A192 -> YM INCEPTION | F5: =トータル!B192 -> 251S | H5: =トータル!C192 -> 10/25-25 | J5: =トータル!E192 -> 10/22 | L5: =トータル!G192 -> 10/21 | N5: =トータル!H192 -> 10/29 | P5: YML
A6: ● | B6: =トータル!A193 -> YM IMMENSE | F6: =トータル!B193 -> 412S | H6: =トータル!C193 -> 11/01-01 | J6: =トータル!E193 -> 10/29 | L6: =トータル!G193 -> 10/28 | N6: =トータル!H193 -> 11/05 | P6: YML
B7: =トータル!A194 -> HORAI BRIDGE | F7: =トータル!B194 -> 230S | H7: =トータル!C194 -> 11/08-08 | J7: =トータル!E194 -> 11/05 | L7: =トータル!G194 -> 11/04 | N7: =トータル!H194 -> 11/12 | P7: YML | S7: 【推奨】 ONLINE BOOKINGをご活用ください。 ※BOOKING №を即時 発番可能です。
B8: =トータル!A195 -> YM IMPROVEMENT | F8: =トータル!B195 -> 280S | H8: =トータル!C195 -> 11/15-15 | J8: =トータル!E195 -> 11/12 | L8: =トータル!G195 -> 11/11 | N8: =トータル!H195 -> 11/19 | P8: YML
B9: =トータル!A196 -> YM INCEPTION | F9: =トータル!B196 -> 252S | H9: =トータル!C196 -> 11/22-22 | J9: =トータル!E196 -> 11/19 | L9: =トータル!G196 -> 11/18 | N9: =トータル!H196 -> 11/26 | P9: YML
B10: =トータル!A197 -> YM IMMENSE | F10: =トータル!B197 -> 413S | H10: =トータル!C197 -> 11/29-29 | J10: =トータル!E197 -> 11/26 | L10: =トータル!G197 -> 11/25 | N10: =トータル!H197 -> 12/03 | P10: YML
B11: =トータル!A198 -> HORAI BRIDGE | F11: =トータル!B198 -> 231S | H11: =トータル!C198 -> 12/06-06 | J11: =トータル!E198 -> 12/03 | L11: =トータル!G198 -> 12/02 | N11: =トータル!H198 -> 12/10 | P11: YML | S11: 【留意点のご説明】－－－－－－－－－－－－－－－－－－－－－－－－－ ● 祝日の為、CUT日が変更（前倒し）されております。ご注意ください。 ● 該当本船は、NO SERVICEとなります。 ● 本船名、VOY №等が変更されております。ご注意ください。
B12: =トータル!A199 -> YM IMPROVEMENT | F12: =トータル!B199 -> 281S | H12: =トータル!C199 -> 12/13-13 | J12: =トータル!E199 -> 12/10 | L12: =トータル!G199 -> 12/09 | N12: =トータル!H199 -> 12/17 | P12: YML
B13: =トータル!A200 -> YM INCEPTION | F13: =トータル!B200 -> 253S | H13: =トータル!C200 -> 12/20-20 | J13: =トータル!E200 -> 12/17 | L13: =トータル!G200 -> 12/16 | N13: =トータル!H200 -> 12/24 | P13: YML
B14: =トータル!A201 -> YM IMMENSE | F14: =トータル!B201 -> 414S | H14: =トータル!C201 -> 12/27-27 | J14: =トータル!E201 -> 12/24 | L14: =トータル!G201 -> 12/23 | N14: =トータル!H201 -> 12/31 | P14: YML
B15: =トータル!A202 -> 0 | F15: =トータル!B202 -> 0 | H15: =トータル!C202 -> 0 | J15: =トータル!E202 -> 0 | L15: =トータル!G202 -> 0 | N15: =トータル!H202 -> 0 | P15: YML
A17: - 大 阪 貨 物 搬 入 先 - | P17: - 神 戸 貨 物 搬 入 先 -
A18: 丸山物流株式会社 Q-2営業所 〒559-0033 大阪市住之江区南港中6-7-35 TEL 06-6115-8811/FAX 06-6614-1655 ※『気付 オーシャンリンクス』ご記載要 NACCS NO 4IDD2 担当 山下様 DOCK送付先 ①搬入倉庫送信先 osu-q2@yosun.co.jp ②B/L作成部署送付先 docs@oceanlinks.co.jp ACL 船会社コード：OCL1（オーシーエルイチ） ACL 通知先コード：4AOCL(ヨンエーオーシーエル） ACL 通知先コード：4CMAR（ヨンシーエムエーアール） | P18: 上組神戸多目的物流センター（KMDC） 〒650-0045 神戸市中央区港島8-14 TEL078-306-3904/FAX 078-306-3922 ※『気付 オーシャンリンクス』ご記載要 NACCS NO 3FW50 担当 奥田様 DOCK送付先 ①搬入倉庫送信先kmdc cfs_exp@kamigumi.co.jp ②B/L作成部署送付先 docs@oceanlinks.co.jp ACL 船会社コード：OCL1（オーシーエルイチ） ACL 通知先コード：4AOCL(ヨンエーオーシーエル） ACL 通知先コード：3OKAM（サンオーケーエーエム）
A27: 大阪本社 TEL (06) 6263-5923 / FAX (06) 6263-6104
A28: 東京支店 TEL (03) 5543-2361 / FAX (03) 5543-2363
A29: 横浜営業所 TEL (045) 323-9875 / FAX (045) 323-9876

Sheet 10.SHA
A1: OCEAN LINKS SAILING-SCHEDULE >>> 関西積み
AA2: =TODAY() -> 46304
A3: 10.中国 上海 （ SHANGHAI ） LCL
A4: 留意点 | B4: VESSEL | F4: VOY.NO. | H4: KOBE ETD | K4: KOBE CUT | N4: OSAKA ETD | Q4: OSAKA CUT | T4: SHA ETA | W4: CARRIER | AA4: 【重要】 BOOKINGご用命時､必ずご一読ください｡
A5: ●● | B5: =トータル!A208 -> GLORY GUANGZHOU | F5: =トータル!B208 -> 2641W | H5: =トータル!C208 -> 10/14-14 | K5: =トータル!E208 -> 10/09 | N5: =トータル!C228 -> 10/13-14 | Q5: =トータル!E228 -> 10/09 | T5: =トータル!H208 -> 10/17 | W5: SJJ
B6: =トータル!A209 -> GLORY SHENGDONG | F6: =トータル!B209 -> 2642W | H6: =トータル!C209 -> 10/16-16 | K6: =トータル!E209 -> 10/14 | N6: =トータル!C229 -> 10/15-16 | Q6: =トータル!E229 -> 10/14 | T6: =トータル!H209 -> 10/18 | W6: SJJ
B7: =トータル!A210 -> SHUN DA | F7: =トータル!B210 -> 2642W | H7: =トータル!C210 -> 10/20-20 | K7: =トータル!E210 -> 10/16 | N7: =トータル!C230 -> 10/19-20 | Q7: =トータル!E230 -> 10/16 | T7: =トータル!H210 -> 10/22 | W7: SJJ
B8: =トータル!A211 -> GLORY GUANGZHOU | F8: =トータル!B211 -> 2642W | H8: =トータル!C211 -> 10/21-21 | K8: =トータル!E211 -> 10/19 | N8: =トータル!C231 -> 10/20-21 | Q8: =トータル!E231 -> 10/19 | T8: =トータル!H211 -> 10/24 | W8: SJJ
B9: =トータル!A212 -> GLORY SHENGDONG | F9: =トータル!B212 -> 2643W | H9: =トータル!C212 -> 10/23-23 | K9: =トータル!E212 -> 10/21 | N9: =トータル!C232 -> 10/22-23 | Q9: =トータル!E232 -> 10/21 | T9: =トータル!H212 -> 10/25 | W9: SJJ | AA9: 【推奨】 ONLINE BOOKINGをご活用ください。 ※BOOKING №を即時 発番可能です。
B10: =トータル!A213 -> AN DA | F10: =トータル!B213 -> 2643W | H10: =トータル!C213 -> 10/27-27 | K10: =トータル!E213 -> 10/23 | N10: =トータル!C233 -> 10/26-27 | Q10: =トータル!E233 -> 10/23 | T10: =トータル!H213 -> 10/29 | W10: SJJ
B11: =トータル!A214 -> GLORY GUANGZHOU | F11: =トータル!B214 -> 2643W | H11: =トータル!C214 -> 10/28-28 | K11: =トータル!E214 -> 10/26 | N11: =トータル!C234 -> 10/27-28 | Q11: =トータル!E234 -> 10/26 | T11: =トータル!H214 -> 10/31 | W11: SJJ
B12: =トータル!A215 -> GLORY SHENGDONG | F12: =トータル!B215 -> 2644W | H12: =トータル!C215 -> 10/30-30 | K12: =トータル!E215 -> 10/28 | N12: =トータル!C235 -> 10/29-30 | Q12: =トータル!E235 -> 10/28 | T12: =トータル!H215 -> 11/01 | W12: SJJ
B13: =トータル!A216 -> SHUN DA | F13: =トータル!B216 -> 2644W | H13: =トータル!C216 -> 11/03-03 | K13: =トータル!E216 -> 10/30 | N13: =トータル!C236 -> 11/02-03 | Q13: =トータル!E236 -> 10/30 | T13: =トータル!H216 -> 11/05 | W13: SJJ
B14: =トータル!A217 -> GLORY GUANGZHOU | F14: =トータル!B217 -> 2644W | H14: =トータル!C217 -> 11/04-04 | K14: =トータル!E217 -> 11/02 | N14: =トータル!C237 -> 11/03-04 | Q14: =トータル!E237 -> 11/02 | T14: =トータル!H217 -> 11/07 | W14: SJJ | AA14: 【留意点のご説明】－－－－－－－－－－－－－－－－－－－－－－－－－ ● 祝日の為、CUT日が変更（前倒し）されております。ご注意ください。 ● 該当本船は、NO SERVICEとなります。 ● 本船名、VOY №等が変更されております。ご注意ください。
B15: =トータル!A218 -> GLORY SHENGDONG | F15: =トータル!B218 -> 2645W | H15: =トータル!C218 -> 11/06-06 | K15: =トータル!E218 -> 11/04 | N15: =トータル!C238 -> 11/05-06 | Q15: =トータル!E238 -> 11/04 | T15: =トータル!H218 -> 11/08 | W15: SJJ
B16: =トータル!A219 -> AN DA | F16: =トータル!B219 -> 2645W | H16: =トータル!C219 -> 11/10-10 | K16: =トータル!E219 -> 11/06 | N16: =トータル!C239 -> 11/09-10 | Q16: =トータル!E239 -> 11/06 | T16: =トータル!H219 -> 11/12 | W16: SJJ
B17: =トータル!A220 -> GLORY GUANGZHOU | F17: =トータル!B220 -> 2645W | H17: =トータル!C220 -> 11/11-11 | K17: =トータル!E220 -> 11/09 | N17: =トータル!C240 -> 11/10-11 | Q17: =トータル!E240 -> 11/09 | T17: =トータル!H220 -> 11/14 | W17: SJJ
B18: =トータル!A221 -> GLORY SHENGDONG | F18: =トータル!B221 -> 2646W | H18: =トータル!C221 -> 11/13-13 | K18: =トータル!E221 -> 11/11 | N18: =トータル!C241 -> 11/12-13 | Q18: =トータル!E241 -> 11/11 | T18: =トータル!H221 -> 11/15 | W18: SJJ
B19: =トータル!A222 -> 0 | F19: =トータル!B222 -> 0 | H19: =トータル!C222 -> 11/17-17 | K19: =トータル!E222 -> 11/13 | N19: =トータル!C242 -> 11/16-17 | Q19: =トータル!E242 -> 11/13 | T19: =トータル!H222 -> 11/19 | W19: SJJ
B20: =トータル!A223 -> 0 | F20: =トータル!B223 -> 0 | H20: =トータル!C223 -> 0 | K20: =トータル!E223 -> 0 | N20: =トータル!C243 -> 0 | Q20: =トータル!E243 -> 0 | T20: =トータル!H223 -> 0 | W20: SJJ
B21: =トータル!A224 -> 0 | F21: =トータル!B224 -> 0 | H21: =トータル!C224 -> 0 | K21: =トータル!E224 -> 0 | N21: =トータル!C244 -> 0 | Q21: =トータル!G224 -> 0 | T21: =トータル!H224 -> 0 | W21: SJJ
A23: - 大 阪 貨 物 搬 入 先 - | U23: - 神 戸 貨 物 搬 入 先 -
A24: 丸山物流株式会社 Q-2営業所 〒559-0033 大阪市住之江区南港中6-7-35 TEL 06-6115-8811/FAX 06-6614-1655 ※『気付 オーシャンリンクス』ご記載要 NACCS NO 4IDD2 担当 山下様 DOCK送付先 ①搬入倉庫送信先 osu-q2@yosun.co.jp ②B/L作成部署送付 docs@oceanlinks.co.jp ACL 船会社コード：OCL1（オーシーエルイチ） ACL 通知先コード：4AOCL(ヨンエーオーシーエル） ACL 通知先コード：4CMAR（ヨンシーエムエーアール） | U24: 大洋運輸株式会社 〒650-0045 神戸市中央区港島7-6 TEL078-302-0456/FAX 078-302-7343 ※『気付 オーシャンリンクス』ご記載要 NACCS NO 3FDH1 担当 三浦様 DOCK送付先 ①搬入倉庫送信先 receive_ol@taiyounyu.co.jp ②B/L作成部署送付先 docs@oceanlinks.co.jp ACL 船会社コード：OCL1（オーシーエルイチ） ACL 通知先コード：4AOCL(ヨンエーオーシーエル） ACL 通知先コード：3ATYU（サンエーティーワイユー）
A36: 大阪本社 TEL (06) 6263-5923 / FAX (06) 6263-6104
A37: 東京支店 TEL (03) 5543-2361 / FAX (03) 5543-2363
A38: 横浜営業所 TEL (045) 323-9875 / FAX (045) 323-9876

Sheet 11.TAO
A1: OCEAN LINKS SAILING-SCHEDULE >>> 関西積み
S2: =TODAY() -> 46304
A3: 11.中国 青島 （ QINGDAO ） LCL
A4: 留意点 | B4: VESSEL | F4: VOY.NO. | H4: KOBE ETD | J4: KOBE CUT | L4: OSAKA CUT | N4: TAO ETA | P4: CARRIER | S4: 【重要】 BOOKINGご用命時､必ずご一読ください｡
A5: ● | B5: =トータル!A250 -> MILD TEMPO | F5: =トータル!B250 -> 2642W | H5: =トータル!C250 -> 10/20-21 | J5: =トータル!E250 -> 10/19 | L5: =トータル!G250 -> 10/16 | N5: =トータル!H250 -> 10/23 | P5: CCL
B6: =トータル!A251 -> A ONTAKE | F6: =トータル!B251 -> 2643W | H6: =トータル!C251 -> 10/27-28 | J6: =トータル!E251 -> 10/26 | L6: =トータル!G251 -> 10/23 | N6: =トータル!H251 -> 10/30 | P6: CCL | S6: 【推奨】 ONLINE BOOKINGをご活用ください。 ※BOOKING №を即時 発番可能です。
A7: ● | B7: =トータル!A252 -> MILD TEMPO | F7: =トータル!B252 -> 2644W | H7: =トータル!C252 -> 11/03-04 | J7: =トータル!E252 -> 10/30 | L7: =トータル!G252 -> 10/29 | N7: =トータル!H252 -> 11/06 | P7: CCL
B8: =トータル!A253 -> A ONTAKE | F8: =トータル!B253 -> 2645W | H8: =トータル!C253 -> 11/10-11 | J8: =トータル!E253 -> 11/09 | L8: =トータル!G253 -> 11/06 | N8: =トータル!H253 -> 11/13 | P8: CCL
B9: =トータル!A254 -> 0 | F9: =トータル!B254 -> 0 | H9: =トータル!C254 -> 11/17-18 | J9: =トータル!E254 -> 11/16 | L9: =トータル!G254 -> 11/13 | N9: =トータル!H254 -> 11/20 | P9: CCL | S9: 【留意点のご説明】－－－－－－－－－－－－－－－－－－－－－－－－－ ● 祝日の為、CUT日が変更（前倒し）されております。ご注意ください。 ● 該当本船は、NO SERVICEとなります。 ● 本船名、VOY №等が変更されております。ご注意ください。
B10: =トータル!A255 -> 0 | F10: =トータル!B255 -> 0 | H10: =トータル!C255 -> 11/24-25 | J10: =トータル!E255 -> 11/20 | L10: =トータル!G255 -> 11/19 | N10: =トータル!H255 -> 11/27 | P10: CCL
B11: =トータル!A256 -> 0 | F11: =トータル!B256 -> 0 | H11: =トータル!C256 -> 12/01-02 | J11: =トータル!E256 -> 11/30 | L11: =トータル!G256 -> 11/27 | N11: =トータル!H256 -> 12/04 | P11: CCL
B12: =トータル!A257 -> 0 | F12: =トータル!B257 -> 0 | H12: =トータル!C257 -> 12/08-09 | J12: =トータル!E257 -> 12/07 | L12: =トータル!G257 -> 12/04 | N12: =トータル!H257 -> 12/11 | P12: CCL
B13: =トータル!A258 -> 0 | F13: =トータル!B258 -> 0 | H13: =トータル!C258 -> 12/15-16 | J13: =トータル!E258 -> 12/14 | L13: =トータル!G258 -> 12/11 | N13: =トータル!H258 -> 12/18 | P13: CCL
A15: - 大 阪 貨 物 搬 入 先 - | P15: - 神 戸 貨 物 搬 入 先 -
A16: 丸山物流株式会社 Q-2営業所 〒559-0033 大阪市住之江区南港中6-7-35 TEL 06-6115-8811/FAX 06-6614-1655 ※気付 オーシャンリンクス NACCS NO 4IDD2 担当 黒川様/山下様 DOCK送付先 ①搬入倉庫送信先 osu-q2@yosun.co.jp ②B/L作成部署送付先 docs@oceanlinks.co.jp ACL 船会社コード：OCL1（オーシーエルイチ） ACL 通知先コード：4AOCL(ヨンエーオーシーエル） ACL 通知先コード：4CMAR（ヨンシーエムエーアール） | P16: 上組神戸多目的物流センター（KMDC） 〒650-0045 神戸市中央区港島8-14 TEL078-306-3904/FAX 078-306-3922 ※『気付 オーシャンリンクス』ご記載要 NACCS NO 3FW50 担当 奥田様 DOCK送付先 ①搬入倉庫送信先 kmdc_cfs_exp@kamigumi.co.jp ②B/L作成部署送付先 docs@oceanlinks.co.jp ACL 船会社コード：OCL1（オーシーエルイチ） ACL 通知先コード：4AOCL(ヨンエーオーシーエル） ACL 通知先コード：3OKAM（サンオーケーエーエム）
A26: 大阪本社 TEL (06) 6263-5923 / FAX (06) 6263-6104
A27: 東京支店 TEL (03) 5543-2361 / FAX (03) 5543-2363
A28: 横浜営業所 TEL (045) 323-9875 / FAX (045) 323-9876

Sheet 12.DLC
A1: OCEAN LINKS SAILING-SCHEDULE >>> 関西積み
U2: =TODAY() -> 46304
A3: 12.中国 大連 （ DALIAN ） LCL
A4: 留意点 | B4: VESSEL | F4: VOY.NO. | H4: KOBE ETD | J4: KOBE CUT | L4: OSAKA ETD | N4: OSAKA CUT | P4: DLC ETA | R4: CARRIER | U4: 【重要】 BOOKINGご用命時､必ずご一読ください｡
A5: ●● | B5: =トータル!A265 -> VICTORY HONOR | F5: =トータル!B265 -> 2652W | H5: =トータル!C265 -> 10/13-14 | J5: =トータル!E265 -> 10/08 | L5: =トータル!C277 -> 10/13-13 | N5: =トータル!E277 -> 10/08 | P5: =トータル!H265 -> 10/16 | R5: SITC
B6: =トータル!A266 -> SINOTRANS BEIJING | F6: =トータル!B266 -> 2642W | H6: =トータル!C266 -> 10/20-21 | J6: =トータル!E266 -> 10/16 | L6: =トータル!C278 -> 10/20-20 | N6: =トータル!E278 -> 10/16 | P6: =トータル!H266 -> 10/23 | R6: SITC
A7: ● | B7: =トータル!A267 -> VICTORY HONOR | F7: =トータル!B267 -> 2654W | H7: =トータル!C267 -> 10/27-28 | J7: =トータル!E267 -> 10/23 | L7: =トータル!C279 -> 10/27-27 | N7: =トータル!E279 -> 10/23 | P7: =トータル!H267 -> 10/30 | R7: SITC | U7: 【推奨】 ONLINE BOOKINGをご活用ください。 ※BOOKING №を即時 発番可能です。
B8: =トータル!A268 -> SINOTRANS BEIJING | F8: =トータル!B268 -> 2644W | H8: =トータル!C268 -> 11/03-04 | J8: =トータル!E268 -> 10/30 | L8: =トータル!C280 -> 11/03-03 | N8: =トータル!E280 -> 10/30 | P8: =トータル!H268 -> 11/06 | R8: SITC
B9: =トータル!A269 -> VICTORY HONOR | F9: =トータル!B269 -> 2657W | H9: =トータル!C269 -> 11/10-11 | J9: =トータル!E269 -> 11/06 | L9: =トータル!C281 -> 11/10-10 | N9: =トータル!E281 -> 11/06 | P9: =トータル!H269 -> 11/13 | R9: SITC
B10: =トータル!A270 -> SINOTRANS BEIJING | F10: =トータル!B270 -> 2646W | H10: =トータル!C270 -> 11/17-18 | J10: =トータル!E270 -> 11/13 | L10: =トータル!C282 -> 11/17-17 | N10: =トータル!E282 -> 11/13 | P10: =トータル!H270 -> 11/20 | R10: SITC
A11: ● | B11: =トータル!A271 -> VICTORY HONOR | F11: =トータル!B271 -> 2659W | H11: =トータル!C271 -> 11/24-25 | J11: =トータル!E271 -> 11/19 | L11: =トータル!C283 -> 11/24-24 | N11: =トータル!E283 -> 11/19 | P11: =トータル!H271 -> 11/27 | R11: SITC | U11: 【留意点のご説明）－－－－－－－－－－－－－－－－－－－－－－－－－－ ● 祝日の為、CUT日が変更（前倒し）されております。ご注意ください。 ● 該当本船は、NO SERVICEとなります。 ● 本船名、VOY №等が変更されております。ご注意ください。
B12: =トータル!A272 -> 0 | F12: =トータル!B272 -> 0 | H12: =トータル!C272 -> 12/01-02 | J12: =トータル!E272 -> 11/27 | L12: =トータル!C284 -> 12/01-01 | N12: =トータル!E284 -> 11/27 | P12: =トータル!H272 -> 12/04 | R12: SITC
B13: =トータル!A273 -> 0 | F13: =トータル!B273 -> 0 | H13: =トータル!C273 -> 12/08-09 | J13: =トータル!E273 -> 12/04 | L13: =トータル!C284 -> 12/01-01 | N13: =トータル!E284 -> 11/27 | P13: =トータル!H273 -> 12/11 | R13: SITC
A17: - 大 阪 貨 物 搬 入 先 - | P17: - 神 戸 貨 物 搬 入 先 -
A18: 松菱運輸株式会社(南港営業所 Q-2) 〒559-0033 大阪市住之江区南港中6-7 TEL 06-６６１２－８１１６ / FAX 06-6612-8450 ※『気付 オーシャンリンクス』ご記載要 NACCS NO 4IDD3 DOCK送付先 ①搬入倉庫送信先 FAX : 06-6612-8450(松菱運輸) ②B/L作成部署送付 docs@oceanlinks.co.jp ACL 船会社コード：OCL1（オーシーエルイチ） ACL 通知先コード：4AOCL(ヨンエーオーシーエル | P18: 上組神戸多目的物流センター（KMDC） 〒650-0045 神戸市中央区港島8-14 TEL078-306-3904/FAX 078-306-3922 ※『気付 オーシャンリンクス』ご記載要 NACCS NO 3FW50 担当 奥田様 DOCK送付先 ①搬入倉庫送信先 kmdc_cfs_exp@kamigumi.co.jp ②B/L作成部署送付先 docs@oceanlinks.co.jp ACL 船会社コード：OCL1（オーシーエルイチ） ACL 通知先コード：4AOCL(ヨンエーオーシーエル）
A30: 大阪本社 TEL (06) 6263-5923 / FAX (06) 6263-6104
A31: 東京支店 TEL (03) 5543-2361 / FAX (03) 5543-2363
A32: 横浜営業所 TEL (045) 323-9875 / FAX (045) 323-9876

Sheet 13.XIN
A1: OCEAN LINKS SAILING-SCHEDULE >>> 関西積み
U2: =TODAY() -> 46304
A3: 13.中国 新港 （ XINGANG ） LCL
A4: 留意点 | B4: VESSEL | F4: VOY.NO. | H4: KOBE ETD | J4: KOBE CUT | L4: OSAKA ETD | N4: OSAKA CUT | P4: XIN ETA | R4: CARRIER | U4: 【重要】 BOOKINGご用命時､必ずご一読ください｡
A5: ● | B5: =トータル!A289 -> SINOTRANS BEIJING | F5: =トータル!B289 -> 2641W | H5: =トータル!C289 -> 10/13-13 | J5: =トータル!E289 -> 10/08 | L5: =トータル!C303 -> 10/12-13 | N5: =トータル!E303 -> 10/07 | P5: =トータル!H289 -> 10/16 | R5: SINO
B6: =トータル!A290 -> VICTORY HONOR | F6: =トータル!B290 -> 2653W | H6: =トータル!C290 -> 10/20-20 | J6: =トータル!E290 -> 10/16 | L6: =トータル!C304 -> 10/19-20 | N6: =トータル!E304 -> 10/15 | P6: =トータル!H290 -> 10/23 | R6: SINO
B7: =トータル!A291 -> SINOTRANS BEIJING | F7: =トータル!B291 -> 2643W | H7: =トータル!C291 -> 10/27-27 | J7: =トータル!E291 -> 10/23 | L7: =トータル!C305 -> 10/26-27 | N7: =トータル!E305 -> 10/22 | P7: =トータル!H291 -> 10/30 | R7: SINO | U7: 【推奨】 ONLINE BOOKINGをご活用ください。 ※BOOKING №を即時 発番可能です。
B8: =トータル!A292 -> VICTORY HONOR | F8: =トータル!B292 -> 2656W | H8: =トータル!C292 -> 11/03-03 | J8: =トータル!E292 -> 10/30 | L8: =トータル!C306 -> 11/02-03 | N8: =トータル!E306 -> 10/29 | P8: =トータル!H292 -> 11/06 | R8: SINO
B9: =トータル!A293 -> SINOTRANS BEIJING | F9: =トータル!B293 -> 2645W | H9: =トータル!C293 -> 11/10-10 | J9: =トータル!E293 -> 11/06 | L9: =トータル!C307 -> 11/09-10 | N9: =トータル!E307 -> 11/05 | P9: =トータル!H293 -> 11/13 | R9: SINO
B10: =トータル!A294 -> VICTORY HONOR | F10: =トータル!B294 -> 2658W | H10: =トータル!C294 -> 11/17-17 | J10: =トータル!E294 -> 11/13 | L10: =トータル!C308 -> 11/16-17 | N10: =トータル!E308 -> 11/12 | P10: =トータル!H294 -> 11/20 | R10: SINO
A11: ● | B11: =トータル!A295 -> SINOTRANS BEIJING | F11: =トータル!B295 -> 2647W | H11: =トータル!C295 -> 11/24-24 | J11: =トータル!E295 -> 11/19 | L11: =トータル!C309 -> 11/23-24 | N11: =トータル!E309 -> 11/18 | P11: =トータル!H295 -> 11/27 | R11: SINO | U11: 【留意点のご説明）－－－－－－－－－－－－－－－－－－－－－－－－－－ ● 祝日の為、CUT日が変更（前倒し）されております。ご注意ください。 ● 該当本船は、NO SERVICEとなります。 ● 本船名、VOY №等が変更されております。ご注意ください。
B12: =トータル!A296 -> 0 | F12: =トータル!B296 -> 0 | H12: =トータル!C296 -> 12/01-01 | J12: =トータル!E296 -> 11/27 | L12: =トータル!C310 -> 0 | N12: =トータル!E310 -> 0 | P12: =トータル!H296 -> 12/04 | R12: SINO
B13: =トータル!A297 -> 0 | F13: =トータル!B297 -> 0 | H13: =トータル!C297 -> 0 | J13: =トータル!E297 -> 0 | L13: =トータル!C311 -> 0 | N13: =トータル!E311 -> 0 | P13: =トータル!H297 -> 0 | R13: SINO
B14: =トータル!A298 -> 0 | F14: =トータル!B298 -> 0 | H14: =トータル!C298 -> 0 | J14: =トータル!E298 -> 0 | L14: =トータル!C312 -> 0 | N14: =トータル!E312 -> 0 | P14: =トータル!H298 -> 0 | R14: SINO
B15: =トータル!A299 -> 0 | F15: =トータル!B299 -> 0 | H15: =トータル!C299 -> 0 | J15: =トータル!E299 -> 0 | L15: =トータル!C313 -> 0 | N15: =トータル!E313 -> 0 | P15: =トータル!H299 -> 0 | R15: SINO
A17: - 大 阪 貨 物 搬 入 先 - | Q17: - 神 戸 貨 物 搬 入 先 -
A18: 郵船港運株式会社 南港物流センター営業所 〒559-0031 大阪市住之江区南港東7-3-20 TEL: 06-6612-2391 / FAX: 06-6612-2396 ※『気付 オーシャンリンクス』ご記載要 NACCS: 4IW91 DOCK送付先 DOCK送付先 ①搬入倉庫送信先 FAX: 06-6612-2396 （郵船港運） ②B/L作成部署送付先 docs@oceanlinks.co.jp ACL 船会社コード：OCL1（オーシーエルイチ） ACL 通知先コード：4AOCL(ヨンエーオーシーエル） | Q18: 上組神戸多目的物流センター（KMDC） 〒650-0045 神戸市中央区港島8-14 TEL078-306-3904/FAX 078-306-3922 ※『気付 オーシャンリンクス』ご記載要 NACCS NO 3FW50 担当 奥田様 DOCK送付先 ①搬入倉庫送信先 kmdc_cfs_exp@kamigumi.co.jp ②B/L作成部署送付先 docs@oceanlinks.co.jp ACL 船会社コード：OCL1（オーシーエルイチ） ACL 通知先コード：4AOCL(ヨンエーオーシーエル）
A29: 大阪本社 TEL (06) 6263-5923 / FAX (06) 6263-6104
A30: 東京支店 TEL (03) 5543-2361 / FAX (03) 5543-2363
A31: 横浜営業所 TEL (045) 323-9875 / FAX (045) 323-9876

Sheet 14.NIB
A1: OCEAN LINKS SAILING-SCHEDULE >>> 関西積み
S2: =TODAY() -> 46304
A3: 14.中国 寧波 （ NINGBO ） LCL
A4: 留意点 | B4: VESSEL | F4: VOY.NO. | H4: KOBE ETD | J4: KOBE CUT | L4: OSAKA CUT | N4: NIB ETA | P4: CARRIER | S4: 【重要】 BOOKINGご用命時､必ずご一読ください｡
A5: ● | B5: =トータル!A320 -> YOUCAN | F5: =トータル!B320 -> 2630S | H5: =トータル!C320 -> 10/08-09 | J5: =トータル!E320 -> 10/05 | L5: =トータル!G320 -> 10/05 | N5: =トータル!H320 -> 10/11 | P5: SITC
A6: ●● | B6: =トータル!A321 -> SITC ANHE | F6: =トータル!B321 -> 2630S | H6: =トータル!C321 -> 10/15-15 | J6: =トータル!E321 -> 10/09 | L6: =トータル!G321 -> 10/09 | N6: =トータル!H321 -> 10/18 | P6: SITC
A7: ● | B7: =トータル!A322 -> SITC YUANHE | F7: =トータル!B322 -> 2630S | H7: =トータル!C322 -> 10/22-22 | J7: =トータル!E322 -> 10/19 | L7: =トータル!G322 -> 10/19 | N7: =トータル!H322 -> 10/25 | P7: SITC | S7: 【推奨】 ONLINE BOOKINGをご活用ください。 ※BOOKING №を即時 発番可能です。
A8: ● | B8: =トータル!A323 -> SITC KWANGYANG | F8: =トータル!B323 -> 2632S | H8: =トータル!C323 -> 10/29-29 | J8: =トータル!E323 -> 10/26 | L8: =トータル!G323 -> 10/26 | N8: =トータル!H323 -> 11/01 | P8: SITC
A9: ●● | B9: =トータル!A324 -> SITC QINGDAO | F9: =トータル!B324 -> 2626S | H9: =トータル!C324 -> 11/05-05 | J9: =トータル!E324 -> 10/30 | L9: =トータル!G324 -> 10/30 | N9: =トータル!H324 -> 11/08 | P9: SITC
A10: ● | B10: =トータル!A325 -> SITC ANHE | F10: =トータル!B325 -> 2632S | H10: =トータル!C325 -> 11/12-12 | J10: =トータル!E325 -> 11/09 | L10: =トータル!G325 -> 11/09 | N10: =トータル!H325 -> 11/15 | P10: SITC | S10: 【留意点のご説明】－－－－－－－－－－－－－－－－－－－－－－－－－ ● 祝日の為、CUT日が変更（前倒し）されております。ご注意ください。 ● 該当本船は、NO SERVICEとなります。 ● 本船名、VOY №等が変更されております。ご注意ください。
B11: =トータル!A326 -> HF WEALTH | F11: =トータル!B326 -> 2630S | H11: =トータル!C326 -> 11/19-19 | J11: =トータル!E326 -> 11/16 | L11: =トータル!G326 -> 11/16 | N11: =トータル!H326 -> 11/22 | P11: SITC
A12: ● | B12: =トータル!A327 -> SITC YANTAI | F12: =トータル!B327 -> 2630S | H12: =トータル!C327 -> 11/26-26 | J12: =トータル!E327 -> 11/20 | L12: =トータル!G327 -> 11/20 | N12: =トータル!H327 -> 11/29 | P12: SITC
A13: ● | B13: =トータル!A328 -> 0 | F13: =トータル!B328 -> 0 | H13: =トータル!C328 -> 12/03-03 | J13: =トータル!E328 -> 11/30 | L13: =トータル!G328 -> 11/30 | N13: =トータル!H328 -> 12/06 | P13: SITC
B14: =トータル!A329 -> 0 | F14: =トータル!B329 -> 0 | H14: =トータル!C329 -> 12/10-10 | J14: =トータル!E329 -> 12/07 | L14: =トータル!G329 -> 12/07 | N14: =トータル!H329 -> 12/13 | P14: SITC
A16: - 大 阪 貨 物 搬 入 先 - | P16: - 神 戸 貨 物 搬 入 先 -
A17: 丸山物流株式会社 Q-2営業所 〒559-0033 大阪市住之江区南港中6-7-35 TEL 06-6115-8811/FAX 06-6614-1655 ※『気付 オーシャンリンクス』ご記載要 NACCS NO 4IDD2 担当 山下様 DOCK送付先 ①搬入倉庫送信先 osu-q2@yosun.co.jp ②B/L作成部署送付先 docs@oceanlinks.co.jp ACL 船会社コード：OCL1（オーシーエルイチ） ACL 通知先コード：4AOCL(ヨンエーオーシーエル） ACL 通知先コード：4CMAR（ヨンシーエムエーアール） | P17: 上組神戸多目的物流センター（KMDC） 〒650-0045 神戸市中央区港島8-14 TEL 078-306-3904/FAX 078-306-3922 ※『気付 オーシャンリンクス』ご記載要 NACCS NO 3FW50 担当 奥田様 DOCK送付先 ①搬入倉庫送信先 kmdc_cfs_exp@kamigumi.co.jp ②B/L作成部署送付先 docs@oceanlinks.co.jp ACL 船会社コード：OCL1（オーシーエルイチ） ACL 通知先コード：4AOCL(ヨンエーオーシーエル） ACL 通知先コード：3OKAM（サンオーケーエーエム）
A26: 大阪本社 TEL (06) 6263-5923 / FAX (06) 6263-6104
A27: 東京支店 TEL (03) 5543-2361 / FAX (03) 5543-2363
A28: 横浜営業所 TEL (045) 323-9875 / FAX (045) 323-9876

Sheet 15.XIA
A1: OCEAN LINKS SAILING-SCHEDULE >>> 関西積み
S2: =TODAY() -> 46304
A3: 15.中国 厦門 （ XIAMEN ） LCL
A4: 留意点 | B4: VESSEL | F4: VOY.NO. | H4: KOBE ETD | J4: KOBE CUT | L4: OSAKA CUT | N4: XIA ETA | P4: CAREER | S4: 【重要】 BOOKINGご用命時､必ずご一読ください｡
A5: ● | B5: =トータル!A335 -> SITC KWANGYANG | F5: =トータル!B335 -> 2630S | H5: =トータル!C335 -> 10/08-08 | J5: =トータル!E335 -> 10/05 | L5: =トータル!G335 -> 10/05 | N5: =トータル!H335 -> 10/13 | P5: SITC
A6: ●● | B6: =トータル!A336 -> SITC ANHE | F6: =トータル!B336 -> 2630S | H6: =トータル!C336 -> 10/15-15 | J6: =トータル!E336 -> 10/09 | L6: =トータル!G336 -> 10/09 | N6: =トータル!H336 -> 10/20 | P6: SITC
A7: ● | B7: =トータル!A337 -> SITC YUANHE | F7: =トータル!B337 -> 2630S | H7: =トータル!C337 -> 10/22-22 | J7: =トータル!E337 -> 10/19 | L7: =トータル!G337 -> 10/19 | N7: =トータル!H337 -> 10/27 | P7: SITC | S7: 【推奨】 ONLINE BOOKINGをご活用ください。 ※BOOKING №を即時 発番可能です。
A8: ● | B8: =トータル!A338 -> SITC KWANGYANG | F8: =トータル!B338 -> 2632S | H8: =トータル!C338 -> 10/29-29 | J8: =トータル!E338 -> 10/26 | L8: =トータル!G338 -> 10/26 | N8: =トータル!H338 -> 11/03 | P8: SITC
A9: ●● | B9: =トータル!A339 -> SITC QINGDAO | F9: =トータル!B339 -> 2626S | H9: =トータル!C339 -> 11/05-05 | J9: =トータル!E339 -> 10/30 | L9: =トータル!G339 -> 10/30 | N9: =トータル!H339 -> 11/10 | P9: SITC
A10: ● | B10: =トータル!A340 -> SITC ANHE | F10: =トータル!B340 -> 2632S | H10: =トータル!C340 -> 11/12-12 | J10: =トータル!E340 -> 11/09 | L10: =トータル!G340 -> 11/09 | N10: =トータル!H340 -> 11/17 | P10: SITC
B11: =トータル!A341 -> HF WEALTH | F11: =トータル!B341 -> 2630S | H11: =トータル!C341 -> 11/19-19 | J11: =トータル!E341 -> 11/16 | L11: =トータル!G341 -> 11/16 | N11: =トータル!H341 -> 11/24 | P11: SITC | S11: 【留意点のご説明】－－－－－－－－－－－－－－－－－－－－－－－－－ ● 祝日・旧正月の為、CUT日が変更（前倒し）されております。ご注意ください。 ● 該当本船は、NO SERVICEとなります。 ● 本船名、VOY №等が変更されております。ご注意ください。
A12: ● | B12: =トータル!A342 -> SITC YANTAI | F12: =トータル!B342 -> 2630S | H12: =トータル!C342 -> 11/26-26 | J12: =トータル!E342 -> 11/20 | L12: =トータル!G342 -> 11/20 | N12: =トータル!H342 -> 12/01 | P12: SITC
A13: ● | B13: =トータル!A343 -> 0 | F13: =トータル!B343 -> 0 | H13: =トータル!C343 -> 12/03-03 | J13: =トータル!E343 -> 11/30 | L13: =トータル!G343 -> 11/30 | N13: =トータル!H343 -> 12/08 | P13: SITC
B14: =トータル!A344 -> 0 | F14: =トータル!B344 -> 0 | H14: =トータル!C344 -> 12/10-10 | J14: =トータル!E344 -> 12/07 | L14: =トータル!G344 -> 12/07 | N14: =トータル!H344 -> 12/15 | P14: SITC
A16: - 大 阪 貨 物 搬 入 先 - | P16: - 神 戸 貨 物 搬 入 先 -
A17: ㈱辰巳商會 南港CFS 〒559-0031 大阪市住之江区南港東7-1-24 TEL 06-6612-３１５３/FAX 06-6612-6256 ※『気付 オーシャンリンクス』ご記載要 NACCS NO4IW62 DOCK送付先 ①搬入倉庫送信先FAX06-6612-6256（辰巳商会） ②B/L作成部署送付先docs@oceanlinks.co.jp ACL 船会社コード：OCL1（オーシーエルイチ） ACL 通知先コード：4AOCL(ヨンエーオーシーエル） ACL 通知先コード：4IW62(ヨンアイダブリューロクニ） | P17: ㈱カンロジ 摩耶2号 上屋 〒657-0854 神戸市灘区摩耶埠頭 TEL 078-801-2458/FAX 078-871-5240 ※『気付 オーシャンリンクス』ご記載要 NACCS NO3DW30 DOCK送付先 ①FAX：078-871-5240(カンロジ) ②B/L作成部署送付先docs@oceanlinks.co.jp ACL 船会社コード：OCL1（オーシーエルイチ） ACL 通知先コード：4AOCL(ヨンエーオーシーエル） ACL 通知先コード：3DW30(サンディーダブリューサンゼロ）
A25: 大阪本社 TEL (06) 6263-5923 / FAX (06) 6263-6104
A26: 東京支店 TEL (03) 5543-2361 / FAX (03) 5543-2363
A27: 横浜営業所 TEL (045) 323-9875 / FAX (045) 323-9876

Sheet 16.HCH
A1: OCEAN LINKS SAILING-SCHEDULE >>> 関西積み
R2: =TODAY() -> 46304
A3: 16.ベトナム ホーチミン （ HOCHIMINH ） LCL | P3: ※OOCL船＝SP-ITC着 / SITC船=CAT LAI着です
A4: 留意点 | B4: VESSEL | E4: VOY.NO. | G4: KOBE ETD | I4: KOBE CUT | K4: OSAKA CUT | M4: HCH ETA | O4: CARRIER | R4: 【重要】 BOOKINGご用命時､必ずご一読ください｡
A5: ● | B5: =トータル!A352 -> NO SERVICE | E5: =トータル!B352 -> --- | G5: =トータル!C352 -> 10/06-06 | I5: =トータル!E352 -> 10/02 | K5: =トータル!G352 -> 10/01 | M5: =トータル!H352 -> 10/16 | O5: =トータル!J352 -> SITC
B6: =トータル!A353 -> MORESBY CHIEF | E6: =トータル!B353 -> 024S | G6: =トータル!C353 -> 10/07-07 | I6: =トータル!E353 -> 10/05 | K6: =トータル!G353 -> 10/02 | M6: =トータル!H353 -> 10/14 | O6: OOCL
A7: ●● | B7: =トータル!A354 -> SITC MACAO | E7: =トータル!B354 -> 2622S | G7: =トータル!C354 -> 10/13-13 | I7: =トータル!E354 -> 10/08 | K7: =トータル!G354 -> 10/07 | M7: =トータル!H354 -> 10/23 | O7: =トータル!J354 -> SITC
A8: ● | B8: =トータル!A355 -> IRENES RAINBOW | E8: =トータル!B355 -> 036S | G8: =トータル!C355 -> 10/14-14 | I8: =トータル!E355 -> 10/09 | K8: =トータル!G355 -> 10/08 | M8: =トータル!H355 -> 10/21 | O8: =トータル!J355 -> OOCL
A9: ● | B9: =トータル!A356 -> KOTA NAZAR | E9: =トータル!B356 -> 2643S | G9: =トータル!C356 -> 10/20-20 | I9: =トータル!E356 -> 10/16 | K9: =トータル!G356 -> 10/15 | M9: =トータル!H356 -> 10/30 | O9: =トータル!J356 -> SITC | R9: 【推奨】 ONLINE BOOKINGをご活用ください。 ※BOOKING №を即時 発番可能です。
B10: =トータル!A357 -> BRIGHT TSUBAKI | E10: =トータル!B357 -> 036S | G10: =トータル!C357 -> 10/21-21 | I10: =トータル!E357 -> 10/19 | K10: =トータル!G357 -> 10/16 | M10: =トータル!H357 -> 10/28 | O10: =トータル!J357 -> OOCL
A11: ● | B11: =トータル!A358 -> HONG AN | E11: =トータル!B358 -> 2625S | G11: =トータル!C358 -> 10/27-27 | I11: =トータル!E358 -> 10/23 | K11: =トータル!G358 -> 10/22 | M11: =トータル!H358 -> 11/06 | O11: =トータル!J358 -> SITC
B12: =トータル!A359 -> IRENES RESPECT | E12: =トータル!B359 -> 007S | G12: =トータル!C359 -> 10/28-28 | I12: =トータル!E359 -> 10/26 | K12: =トータル!G359 -> 10/23 | M12: =トータル!H359 -> 11/04 | O12: =トータル!J359 -> OOCL
B13: =トータル!A360 -> SITC MACAO | E13: =トータル!B360 -> 2624S | G13: =トータル!C360 -> 11/03-03 | I13: =トータル!E360 -> 10/30 | K13: =トータル!G360 -> 10/29 | M13: =トータル!H360 -> 11/13 | O13: =トータル!J360 -> SITC
A14: ● | B14: =トータル!A361 -> MORESBY CHIEF | E14: =トータル!B361 -> 025S | G14: =トータル!C361 -> 11/04-04 | I14: =トータル!E361 -> 10/30 | K14: =トータル!G361 -> 10/29 | M14: =トータル!H361 -> 11/11 | O14: =トータル!J361 -> OOCL
B15: =トータル!A362 -> KOTA NAZAR | E15: =トータル!B362 -> 2645S | G15: =トータル!C362 -> 11/10-10 | I15: =トータル!E362 -> 11/06 | K15: =トータル!G362 -> 11/05 | M15: =トータル!H362 -> 11/20 | O15: =トータル!J362 -> SITC | R15: 【留意点のご説明】－－－－－－－－－－－－－－－－－－－－－－－－－ ● 祝日の為、CUT日が変更（前倒し）されております。ご注意ください。 ● 該当本船は、NO SERVICEとなります。 ● 本船名、VOY №等が変更されております。ご注意ください。 ☆ 本船は上海トランシップに変更となります。
B16: =トータル!A363 -> IRENES RAINBOW | E16: =トータル!B363 -> 037S | G16: =トータル!C363 -> 11/11-11 | I16: =トータル!E363 -> 11/09 | K16: =トータル!G363 -> 11/06 | M16: =トータル!H363 -> 11/18 | O16: =トータル!J363 -> OOCL
B17: =トータル!A364 -> 0 | E17: =トータル!B364 -> 0 | G17: =トータル!C364 -> 0 | I17: =トータル!E364 -> 0 | K17: =トータル!G364 -> 0 | M17: =トータル!H364 -> 0 | O17: =トータル!J364 -> SITC
B18: =トータル!A365 -> 0 | E18: =トータル!B365 -> 0 | G18: =トータル!C365 -> 0 | I18: =トータル!E365 -> 0 | K18: =トータル!G365 -> 0 | M18: =トータル!H365 -> 0 | O18: =トータル!J365 -> OOCL
B19: =トータル!A366 -> 0 | E19: =トータル!B366 -> 0 | G19: =トータル!C366 -> 0 | I19: =トータル!E366 -> 0 | K19: =トータル!G366 -> 0 | M19: =トータル!H366 -> 0 | O19: =トータル!J366 -> SITC
B20: =トータル!A367 -> 0 | E20: =トータル!B367 -> 0 | G20: =トータル!C367 -> 0 | I20: =トータル!E367 -> 0 | K20: =トータル!G367 -> 0 | M20: =トータル!H367 -> 0 | O20: =トータル!J367 -> OOCL
B21: =トータル!A368 -> 0 | E21: =トータル!B368 -> 0 | G21: =トータル!C368 -> 0 | I21: =トータル!E368 -> 0 | K21: =トータル!G368 -> 0 | M21: =トータル!H368 -> 0 | O21: =トータル!J368 -> SITC
A23: - 大 阪 貨 物 搬 入 先 - | P23: - 神 戸 貨 物 搬 入 先 -
A24: 丸山物流株式会社 Q-2営業所 〒559-0033 大阪市住之江区南港中6-7-35 TEL 06-6115-8811/FAX 06-6614-1655 ※『気付 オーシャンリンクス』ご記載要 NACCS NO 4IDD2 担当 山下様 DOCK送付先 ①搬入倉庫送信先 osu-q2@yosun.co.jp ②B/L作成部署送付先 docs@oceanlinks.co.jp ACL 船会社コード：OCL1（オーシーエルイチ） ACL 通知先コード：4AOCL(ヨンエーオーシーエル） ACL 通知先コード：4CMAR（ヨンシーエムエーアール） | P24: 上組神戸多目的物流センター（KMDC） 〒650-0045 神戸市中央区港島8-14 TEL078-306-3904/FAX 078-306-3922 ※『気付 オーシャンリンクス』ご記載要 NACCS NO 3FW50 担当 奥田様 DOCK送付先 ①搬入倉庫送信 kmdc_cfs_exp@kamigumi.co.jp ②B/L作成部署送付先 docs@oceanlinks.co.jp ACL 船会社コード：OCL1（オーシーエルイチ） ACL 通知先コード：4AOCL(ヨンエーオーシーエル） ACL 通知先コード：3OKAM（サンオーケーエーエム）
A33: 大阪本社 TEL (06) 6263-5923 / FAX (06) 6263-6104
A34: 東京支店 TEL (03) 5543-2361 / FAX (03) 5543-2363
A35: 横浜営業所 TEL (045) 323-9875 / FAX (045) 323-9876

Sheet 17.HPH
A1: OCEAN LINKS SAILING-SCHEDULE >>> 関西積み
T2: =TODAY() -> 46304
A3: 17.ベトナム ハイフォン （ HAIPHONG ） LCL
A4: 留意点 | B4: VESSEL | F4: VOY.NO. | I4: KOBE ETD | K4: KOBE CUT | M4: OSAKA CUT | O4: HPH ETA | Q4: CARRIER | T4: 【重要】 BOOKINGご用命時､必ずご一読ください｡
A5: ●● | B5: =トータル!A371 -> SITC ANHE | F5: =トータル!B371 -> 2630S | I5: =トータル!C371 -> 10/15-15 | K5: =トータル!E371 -> 10/13 | M5: =トータル!G371 -> 10/09 | O5: =トータル!H371 -> 10/23 | Q5: SITC
A6: ● | B6: =トータル!A372 -> SWAN RIVER BRIDGE | F6: =トータル!B372 -> 134S | I6: =トータル!C372 -> 10/17-17 | K6: =トータル!E372 -> 10/15 | M6: =トータル!G372 -> 10/14 | O6: =トータル!H372 -> 11/01 | Q6: ONE
A7: ● | B7: =トータル!A373 -> SITC YUANHE | F7: =トータル!B373 -> 2630S | I7: =トータル!C373 -> 10/22-22 | K7: =トータル!E373 -> 10/20 | M7: =トータル!G373 -> 10/19 | O7: =トータル!H373 -> 10/30 | Q7: =トータル!J373 -> SITC
A8: ● | B8: =トータル!A374 -> ONE PEARL RIVER | F8: =トータル!B374 -> 238S | I8: =トータル!C374 -> 10/24-24 | K8: =トータル!E374 -> 10/22 | M8: =トータル!G374 -> 10/21 | O8: =トータル!H374 -> 11/08 | Q8: =トータル!J374 -> ONE
A9: ● | B9: =トータル!A375 -> SITC KWANGYANG | F9: =トータル!B375 -> 2632S | I9: =トータル!C375 -> 10/29-29 | K9: =トータル!E375 -> 10/27 | M9: =トータル!G375 -> 10/26 | O9: =トータル!H375 -> 11/06 | Q9: =トータル!J375 -> SITC | T9: 【推奨】 ONLINE BOOKINGをご活用ください。 ※BOOKING №を即時 発番可能です。
A10: ● | B10: =トータル!A376 -> NO SERVICE | F10: =トータル!B376 -> --- | I10: =トータル!C376 -> 10/31-31 | K10: =トータル!E376 -> 10/29 | M10: =トータル!G376 -> 10/28 | O10: =トータル!H376 -> 11/08 | Q10: =トータル!J376 -> ONE
A11: ●● | B11: =トータル!A377 -> SITC QINGDAO | F11: =トータル!B377 -> 2626S | I11: =トータル!C377 -> 11/05-05 | K11: =トータル!E377 -> 11/02 | M11: =トータル!G377 -> 10/30 | O11: =トータル!H377 -> 11/13 | Q11: =トータル!J377 -> SITC
A12: ● | B12: =トータル!A378 -> SMOOTH WIND | F12: =トータル!B378 -> 027S | I12: =トータル!C378 -> 11/07-07 | K12: =トータル!E378 -> 11/05 | M12: =トータル!G378 -> 11/04 | O12: =トータル!H378 -> 11/15 | Q12: =トータル!J378 -> ONE
A13: ● | B13: =トータル!A379 -> SITC ANHE | F13: =トータル!B379 -> 2632S | I13: =トータル!C379 -> 11/12-12 | K13: =トータル!E379 -> 11/10 | M13: =トータル!G379 -> 11/09 | O13: =トータル!H379 -> 11/20 | Q13: =トータル!J379 -> SITC
A14: ● | B14: =トータル!A380 -> SWAN RIVER BRIDGE | F14: =トータル!B380 -> 135S | I14: =トータル!C380 -> 11/14-14 | K14: =トータル!E380 -> 11/12 | M14: =トータル!G380 -> 11/11 | O14: =トータル!H380 -> 11/22 | Q14: =トータル!J380 -> ONE
B15: =トータル!A381 -> HF WEALTH | F15: =トータル!B381 -> 2630S | I15: =トータル!C381 -> 11/19-19 | K15: =トータル!E381 -> 11/17 | M15: =トータル!G381 -> 11/16 | O15: =トータル!H381 -> 11/27 | Q15: =トータル!J381 -> SITC
A16: ● | B16: =トータル!A382 -> ONE PEARL RIVER | F16: =トータル!B382 -> 239S | I16: =トータル!C382 -> 11/21-21 | K16: =トータル!E382 -> 11/19 | M16: =トータル!G382 -> 11/18 | O16: =トータル!H382 -> 11/29 | Q16: =トータル!J382 -> ONE
A17: ● | B17: =トータル!A383 -> SITC YANTAI | F17: =トータル!B383 -> 2630S | I17: =トータル!C383 -> 11/26-26 | K17: =トータル!E383 -> 11/24 | M17: =トータル!G383 -> 11/20 | O17: =トータル!H383 -> 12/04 | Q17: =トータル!J383 -> SITC | T17: 【留意点のご説明】－－－－－－－－－－－－－－－－－－－－－－－ ● 祝日の為、CUT日が変更（前倒し）されております。ご注意ください。 ● 該当本船は、NO SERVICEとなります。 ● 本船名、VOY №等が変更されております。ご注意ください。
A18: ● | B18: =トータル!A384 -> SMOOTH WIND | F18: =トータル!B384 -> 028S | I18: =トータル!C384 -> 11/28-28 | K18: =トータル!E384 -> 11/26 | M18: =トータル!G384 -> 11/25 | O18: =トータル!H384 -> 12/06 | Q18: =トータル!J384 -> ONE
B19: =トータル!A385 -> SITC ANHE | F19: =トータル!B385 -> 2634S | I19: =トータル!C385 -> 12/03-03 | K19: =トータル!E385 -> 12/01 | M19: =トータル!G385 -> 11/30 | O19: =トータル!H385 -> 12/11 | Q19: =トータル!J385 -> SITC
A20: ● | B20: =トータル!A386 -> SWAN RIVER BRIDGE | F20: =トータル!B386 -> 136S | I20: =トータル!C386 -> 12/05-05 | K20: =トータル!E386 -> 12/03 | M20: =トータル!G386 -> 12/02 | O20: =トータル!H386 -> 12/13 | Q20: =トータル!J386 -> ONE
B21: =トータル!A387 -> 0 | F21: =トータル!B387 -> 0 | I21: =トータル!C387 -> 12/10-10 | K21: =トータル!E387 -> 12/08 | M21: =トータル!G387 -> 12/07 | O21: =トータル!H387 -> 12/11 | Q21: =トータル!J387 -> SITC
B22: =トータル!A388 -> 0 | F22: =トータル!B388 -> 0 | I22: =トータル!C388 -> 12/12-12 | K22: =トータル!E388 -> 12/10 | M22: =トータル!G388 -> 12/09 | O22: =トータル!H388 -> 12/20 | Q22: =トータル!J388 -> ONE
B23: =トータル!A389 -> 0 | F23: =トータル!B389 -> 0 | I23: =トータル!C389 -> 12/17-17 | K23: =トータル!E389 -> 12/15 | M23: =トータル!G389 -> 12/14 | O23: =トータル!H389 -> 12/18 | Q23: =トータル!J389 -> SITC
A25: - 大 阪 貨 物 搬 入 先 - | Q25: - 神 戸 貨 物 搬 入 先 -
A26: 丸山物流株式会社 Q-2営業所 〒559-0033 大阪市住之江区南港中6-7-35 TEL 06-6115-8811/FAX 06-6614-1655 ※『気付 オーシャンリンクス』ご記載要 NACCS NO 4IDD2 担当 山下様 DOCK送付先 ①搬入倉庫送信先 osu-q2@yosun.co.jp ②B/L作成部署送付先 docs@oceanlinks.co.jp ACL 船会社コード：OCL1（オーシーエルイチ） ACL 通知先コード：4AOCL(ヨンエーオーシーエル） ACL 通知先コード：4CMAR（ヨンシーエムエーアール） | Q26: 上組神戸多目的物流センター（KMDC） 〒650-0045 神戸市中央区港島8-14 TEL078-306-3904/FAX 078-306-3922 ※『気付 オーシャンリンクス』ご記載要 NACCS NO 3FW50 担当 奥田様 DOCK送付先 ①搬入倉庫送信先 kmdc_cfs_exp@kamigumi.co.jp ②B/L作成部署送付先 docs@oceanlinks.co.jp ACL 船会社コード：OCL1（オーシーエルイチ） ACL 通知先コード：4AOCL(ヨンエーオーシーエル） ACL 通知先コード：3OKAM（サンオーケーエーエム）
A37: 大阪本社 TEL (06) 6263-5923 / FAX (06) 6263-6104
A38: 東京支店 TEL (03) 5543-2361 / FAX (03) 5543-2363
A39: 横浜営業所 TEL (045) 323-9875 / FAX (045) 323-9876

Sheet 18.BKK
A1: OCEAN LINKS SAILING-SCHEDULE >>> 関西積み
R2: =TODAY() -> 46304
A3: 18.タイ バンコク （ BANGKOK ） LCL
A4: 留意点 | B4: VESSEL | E4: VOY.NO. | G4: KOBE ETD | I4: KOBE CUT | K4: OSAKA CUT | M4: BKK ETA | O4: CARRIER | R4: 【重要】 BOOKINGご用命時､必ずご一読ください｡
B5: =トータル!A396 -> YM INCEPTION | E5: =トータル!B396 -> 251S | G5: =トータル!C396 -> 10/25-25 | I5: =トータル!E396 -> 10/22 | K5: =トータル!G396 -> 10/21 | M5: =トータル!H396 -> 11/04 | O5: YML
B6: =トータル!A397 -> YM IMMENSE | E6: =トータル!B397 -> 412S | G6: =トータル!C397 -> 11/01-01 | I6: =トータル!E397 -> 10/29 | K6: =トータル!G397 -> 10/28 | M6: =トータル!H397 -> 11/11 | O6: YML
B7: =トータル!A398 -> HORAI BRIDGE | E7: =トータル!B398 -> 230S | G7: =トータル!C398 -> 11/08-08 | I7: =トータル!E398 -> 11/05 | K7: =トータル!G398 -> 11/04 | M7: =トータル!H398 -> 11/18 | O7: YML | R7: 【推奨】 ONLINE BOOKINGをご活用ください。 ※BOOKING №を即時 発番可能です。
B8: =トータル!A399 -> YM IMPROVEMENT | E8: =トータル!B399 -> 280S | G8: =トータル!C399 -> 11/15-15 | I8: =トータル!E399 -> 11/12 | K8: =トータル!G399 -> 11/11 | M8: =トータル!H399 -> 11/25 | O8: YML
B9: =トータル!A400 -> YM INCEPTION | E9: =トータル!B400 -> 252S | G9: =トータル!C400 -> 11/22-22 | I9: =トータル!E400 -> 11/19 | K9: =トータル!G400 -> 11/18 | M9: =トータル!H400 -> 12/02 | O9: YML
B10: =トータル!A401 -> YM IMMENSE | E10: =トータル!B401 -> 413S | G10: =トータル!C401 -> 11/29-29 | I10: =トータル!E401 -> 11/26 | K10: =トータル!G401 -> 11/25 | M10: =トータル!H401 -> 12/09 | O10: YML | R10: 【留意点のご説明】－－－－－－－－－－－－－－－－－－－－－－－－－－－－－ ● 祝日の為、CUT日が変更（前倒し）されております。ご注意ください。 ● 該当本船は、NO SERVICEとなります。 ● 本船名、VOY №等が変更されておりま。ご注意ください。 ☆ LCB/BKK 抜港のためKHHトランシップとなります。
B11: =トータル!A402 -> HORAI BRIDGE | E11: =トータル!B402 -> 231S | G11: =トータル!C402 -> 12/06-06 | I11: =トータル!E402 -> 12/03 | K11: =トータル!G402 -> 12/02 | M11: =トータル!H402 -> 12/16 | O11: YML
B12: =トータル!A403 -> YM IMPROVEMENT | E12: =トータル!B403 -> 281S | G12: =トータル!C403 -> 12/13-13 | I12: =トータル!E403 -> 12/10 | K12: =トータル!G403 -> 12/09 | M12: =トータル!H403 -> 12/23 | O12: YML
B13: =トータル!A404 -> YM INCEPTION | E13: =トータル!B404 -> 253S | G13: =トータル!C404 -> 12/20-20 | I13: =トータル!E404 -> 12/17 | K13: =トータル!G404 -> 12/16 | M13: =トータル!H404 -> 12/30 | O13: YML
A15: - 大 阪 貨 物 搬 入 先 - | O15: - 神 戸 貨 物 搬 入 先 -
A16: 丸山物流株式会社 Q-2営業所 〒559-0033 大阪市住之江区南港中6-7-35 TEL 06-6115-8811/FAX 06-6614-1655 ※『気付 オーシャンリンクス』ご記載要 NACCS NO 4IDD2 担当 山下様 DOCK送付先 ①搬入倉庫送信先 osu-q2@yosun.co.jp ②B/L作成部署送付先 docs@oceanlinks.co.jp ACL 船会社コード：OCL1（オーシーエルイチ） ACL 通知先コード：4AOCL(ヨンエーオーシーエル） ACL 通知先コード：4CMAR（ヨンシーエムエーアール） | O16: 上組神戸多目的物流センター（KMDC） 〒650-0045 神戸市中央区港島8-14 TEL078-306-3904/FAX 078-306-3922 ※『気付 オーシャンリンクス』ご記載要 NACCS NO 3FW50 担当 奥田様 DOCK送付先 ①搬入倉庫送信先 kmdc_cfs_exp@kamigumi.co.jp ②B/L作成部署送付先 docs@oceanlinks.co.jp ACL 船会社コード：OCL1（オーシーエルイチ） ACL 通知先コード：4AOCL(ヨンエーオーシーエル） ACL 通知先コード：3OKAM（サンオーケーエーエム）
A26: 大阪本社 TEL (06) 6263-5923 / FAX (06) 6263-6104
A27: 東京支店 TEL (03) 5543-2361 / FAX (03) 5543-2363
A28: 横浜営業所 TEL (045) 323-9875 / FAX (045) 323-9876

Sheet 19.LCB
A1: OCEAN LINKS SAILING-SCHEDULE >>> 関西積み
S2: =TODAY() -> 46304
A3: 19.タイ レムチャバン （ LAEM CHABANG ） LCL
A4: 留意点 | B4: VESSEL | F4: VOY.NO. | H4: KOBE ETD | J4: KOBE CUT | L4: OSAKA CUT | N4: LCB ETA | P4: CARRIER | S4: 【重要】 BOOKINGご用命時､必ずご一読ください｡
B5: =トータル!A410 -> YM INCEPTION | F5: =トータル!B410 -> 251S | H5: =トータル!C410 -> 10/25-25 | J5: =トータル!E410 -> 10/22 | L5: =トータル!G410 -> 10/21 | N5: =トータル!H410 -> 11/03 | P5: YML
B6: =トータル!A411 -> YM IMMENSE | F6: =トータル!B411 -> 412S | H6: =トータル!C411 -> 11/01-01 | J6: =トータル!E411 -> 10/29 | L6: =トータル!G411 -> 10/28 | N6: =トータル!H411 -> 11/10 | P6: YML
B7: =トータル!A412 -> HORAI BRIDGE | F7: =トータル!B412 -> 230S | H7: =トータル!C412 -> 11/08-08 | J7: =トータル!E412 -> 11/05 | L7: =トータル!G412 -> 11/04 | N7: =トータル!H412 -> 11/17 | P7: YML | S7: 【推奨】 ONLINE BOOKINGをご活用ください。 ※BOOKING №を即時 発番可能です。
B8: =トータル!A413 -> YM IMPROVEMENT | F8: =トータル!B413 -> 280S | H8: =トータル!C413 -> 11/15-15 | J8: =トータル!E413 -> 11/12 | L8: =トータル!G413 -> 11/11 | N8: =トータル!H413 -> 11/24 | P8: YML
B9: =トータル!A414 -> YM INCEPTION | F9: =トータル!B414 -> 252S | H9: =トータル!C414 -> 11/22-22 | J9: =トータル!E414 -> 11/19 | L9: =トータル!G414 -> 11/18 | N9: =トータル!H414 -> 12/01 | P9: YML
B10: =トータル!A415 -> YM IMMENSE | F10: =トータル!B415 -> 413S | H10: =トータル!C415 -> 11/29-29 | J10: =トータル!E415 -> 11/26 | L10: =トータル!G415 -> 11/25 | N10: =トータル!H415 -> 12/08 | P10: YML | S10: 【留意点のご説明】－－－－－－－－－－－－－－－－－－－－－－－－－－－－－ ● 祝日の為、CUT日が変更（前倒し）されております。ご注意ください。 ● 該当本船は、NO SERVICEとなります。 ● 本船名、VOY №等が変更されております。ご注意ください。 ☆ LCB/BKK 抜港のためKHHトランシップとなります。
B11: =トータル!A416 -> HORAI BRIDGE | F11: =トータル!B416 -> 231S | H11: =トータル!C416 -> 12/06-06 | J11: =トータル!E416 -> 12/03 | L11: =トータル!G416 -> 12/02 | N11: =トータル!H416 -> 12/15 | P11: YML
B12: =トータル!A417 -> YM IMPROVEMENT | F12: =トータル!B417 -> 281S | H12: =トータル!C417 -> 12/13-13 | J12: =トータル!E417 -> 12/10 | L12: =トータル!G417 -> 12/09 | N12: =トータル!H417 -> 12/22 | P12: YML
B13: =トータル!A418 -> YM INCEPTION | F13: =トータル!B418 -> 253S | H13: =トータル!C418 -> 12/20-20 | J13: =トータル!E418 -> 12/17 | L13: =トータル!G418 -> 12/16 | N13: =トータル!H418 -> 12/29 | P13: YML
A15: - 大 阪 貨 物 搬 入 先 - | O15: - 神 戸 貨 物 搬 入 先 -
A16: 丸山物流株式会社 Q-2営業所 〒559-0033 大阪市住之江区南港中6-7-35 TEL 06-6115-8811/FAX 06-6614-1655 ※『気付 オーシャンリンクス』ご記載要 NACCS NO 4IDD2 担当 山下様 DOCK送付先 ①搬入倉庫送信先 osu-q2@yosun.co.jp ②B/L作成部署送付先 docs@oceanlinks.co.jp ACL 船会社コード：OCL1（オーシーエルイチ） ACL 通知先コード：4AOCL(ヨンエーオーシーエル） ACL 通知先コード：4CMAR（ヨンシーエムエーアール） | O16: 上組神戸多目的物流センター（KMDC） 〒650-0045 神戸市中央区港島8-14 TEL078-306-3904/FAX 078-306-3922 ※『気付 オーシャンリンクス』ご記載要 NACCS NO 3FW50 担当 奥田様 DOCK送付先 ①搬入倉庫送信先 kmdc_cfs_exp@kamigumi.co.jp ②B/L作成部署送付先 docs@oceanlinks.co.jp ACL 船会社コード：OCL1（オーシーエルイチ） ACL 通知先コード：4AOCL(ヨンエーオーシーエル） ACL 通知先コード：3OKAM（サンオーケーエーエム）
A26: 大阪本社 TEL (06) 6263-5923 / FAX (06) 6263-6104
A27: 東京支店 TEL (03) 5543-2361 / FAX (03) 5543-2363
A28: 横浜営業所 TEL (045) 323-9875 / FAX (045) 323-9876

Sheet 20.LAT
A1: OCEAN LINKS SAILING-SCHEDULE >>>関西積み
S2: =TODAY() -> 46304
A3: 20.タイ ラッカバン （ LAT KRABANG ） LCL
A4: 留意点 | B4: VESSEL | F4: VOY.NO. | H4: KOBE ETD | J4: KOBE CUT | L4: OSAKA CUT | N4: LAT ETA | P4: CARRIER | S4: 【重要】 BOOKINGご用命時､必ずご一読ください｡
B5: =トータル!A424 -> BAI CHAY BRIDGE | F5: =トータル!B424 -> 0154W | H5: =トータル!C424 -> 10/17-17 | J5: =トータル!E424 -> 10/15 | L5: =トータル!G424 -> 10/14 | N5: =トータル!H424 -> 10/31 | P5: ONE
A6: ● | B6: =トータル!A425 -> CHARLOTTE SCHULTE | F6: =トータル!B425 -> 0615W | H6: =トータル!C425 -> 10/24-24 | J6: =トータル!E425 -> 10/22 | L6: =トータル!G425 -> 10/21 | N6: =トータル!H425 -> 11/07 | P6: ONE
B7: =トータル!A426 -> NYK FUJI | F7: =トータル!B426 -> 0140W | H7: =トータル!C426 -> 10/31-31 | J7: =トータル!E426 -> 10/29 | L7: =トータル!G426 -> 10/28 | N7: =トータル!H426 -> 11/14 | P7: ONE | S7: 【推奨】 ONLINE BOOKINGをご活用ください。 ※BOOKING №を即時 発番可能です。
B8: =トータル!A427 -> MOL EARNEST | F8: =トータル!B427 -> 0118W | H8: =トータル!C427 -> 11/07-07 | J8: =トータル!E427 -> 11/05 | L8: =トータル!G427 -> 11/04 | N8: =トータル!H427 -> 11/21 | P8: ONE
B9: =トータル!A428 -> BANGKOK BRIDGE | F9: =トータル!B428 -> 0519W | H9: =トータル!C428 -> 11/14-14 | J9: =トータル!E428 -> 11/12 | L9: =トータル!G428 -> 11/11 | N9: =トータル!H428 -> 11/28 | P9: ONE
B10: =トータル!A429 -> NYK FUTAGO | F10: =トータル!B429 -> 0110W | H10: =トータル!C429 -> 11/21-21 | J10: =トータル!E429 -> 11/19 | L10: =トータル!G429 -> 11/18 | N10: =トータル!H429 -> 12/05 | P10: ONE
B11: =トータル!A430 -> NYK CONSTELLATION | F11: =トータル!B430 -> 0114W | H11: =トータル!C430 -> 11/28-28 | J11: =トータル!E430 -> 11/26 | L11: =トータル!G430 -> 11/25 | N11: =トータル!H430 -> 12/12 | P11: ONE | S11: 【留意点のご説明】－－－－－－－－－－－－－－－－－－－－－－－－－ ● 祝日の為、CUT日が変更（前倒し）されております。ご注意ください。 ● 該当本船は、NO SERVICEとなります。 ● 本船名、VOY №等が変更されております。ご注意ください。
B12: =トータル!A431 -> TBN A | F12: =トータル!B431 -> A | H12: =トータル!C431 -> 12/05-05 | J12: =トータル!E431 -> 12/03 | L12: =トータル!G431 -> 12/02 | N12: =トータル!H431 -> 12/19 | P12: ONE
B13: =トータル!A432 -> 0 | F13: =トータル!B432 -> 0 | H13: =トータル!C432 -> 12/12-12 | J13: =トータル!E432 -> 12/10 | L13: =トータル!G432 -> 12/09 | N13: =トータル!H432 -> 12/26 | P13: ONE
B14: =トータル!A433 -> 0 | F14: =トータル!B433 -> 0 | H14: =トータル!C433 -> 12/19-19 | J14: =トータル!E433 -> 12/17 | L14: =トータル!G433 -> 12/16 | N14: =トータル!H433 -> 01/01 | P14: ONE
B15: =トータル!A434 -> 0 | F15: =トータル!B434 -> 0 | H15: =トータル!C434 -> 0 | J15: =トータル!E434 -> 0 | L15: =トータル!G434 -> 0 | N15: =トータル!H434 -> 0 | P15: ONE
A17: - 大 阪 貨 物 搬 入 先 - | O17: - 神 戸 貨 物 搬 入 先 -
A18: 丸山物流株式会社 Q-2営業所 〒559-0033 大阪市住之江区南港中6-7-35 TEL 06-6115-8811/FAX 06-6614-1655 ※『気付 オーシャンリンクス』ご記載要 NACCS NO 4IDD2 担当 山下様 DOCK送付先 ①搬入倉庫送信先 osu-q2@yosun.co.jp ②B/L作成部署送付先 docs@oceanlinks.co.jp ACL 船会社コード：OCL1（オーシーエルイチ） ACL 通知先コード：4AOCL(ヨンエーオーシーエル） ACL 通知先コード：4CMAR（ヨンシーエムエーアール） | O18: 上組神戸多目的物流センター（KMDC） 〒650-0045 神戸市中央区港島8-14 TEL078-306-3904/FAX 078-306-3922 ※『気付 オーシャンリンクス』ご記載要 NACCS NO 3FW50 担当 奥田様 DOCK送付先 ①搬入倉庫送信先 kmdc_cfs_exp@kamigumi.co.jp ②B/L作成部署送付先 docs@oceanlinks.co.jp ACL 船会社コード：OCL1（オーシーエルイチ） ACL 通知先コード：4AOCL(ヨンエーオーシーエル） ACL 通知先コード：3OKAM（サンオーケーエーエム）
A28: 大阪本社 TEL (06) 6263-5923 / FAX (06) 6263-6104
A29: 東京支店 TEL (03) 5543-2361 / FAX (03) 5543-2363
A30: 横浜営業所 TEL (045) 323-9875 / FAX (045) 323-9876

Sheet 21.JKT
A1: OCEAN LINKS SAILING-SCHEDULE >>> 関西積み
S2: =TODAY() -> 46304
A3: 21.インドネシア ジャカルタ （ JAKARTA ） LCL
A4: 留意点 | B4: VESSEL | F4: VOY.NO. | H4: KOBE ETD | J4: KOBE CUT | L4: OSAKA CUT | N4: JKT ETA | P4: CARRIER | S4: 【重要】 BOOKINGご用命時､必ずご一読ください｡
A5: ● | B5: =トータル!A451 -> OOCL ZHOUSHAN | F5: =トータル!B451 -> 299S | H5: =トータル!C451 -> 10/08-08 | J5: =トータル!E451 -> 10/06 | L5: =トータル!G451 -> 10/05 | N5: =トータル!H451 -> 10/20 | P5: ONE
A6: ●● | B6: =トータル!A452 -> OOCL NEW ZEALAND | F6: =トータル!B452 -> 171S | H6: =トータル!C452 -> 10/15-15 | J6: =トータル!E452 -> 10/13 | L6: =トータル!G452 -> 10/09 | N6: =トータル!H452 -> 10/27 | P6: OOCL
A7: ● | B7: =トータル!A453 -> PHEN BASIN | F7: =トータル!B453 -> 134S | H7: =トータル!C453 -> 10/22-22 | J7: =トータル!E453 -> 10/20 | L7: =トータル!G453 -> 10/19 | N7: =トータル!H453 -> 11/03 | P7: OOCL | S7: 【推奨】 ONLINE BOOKINGをご活用ください。 ※BOOKING №を即時 発番可能です。
A8: ● | B8: =トータル!A454 -> VANCOUVER | F8: =トータル!B454 -> 060S | H8: =トータル!C454 -> 10/29-29 | J8: =トータル!E454 -> 10/27 | L8: =トータル!G454 -> 10/26 | N8: =トータル!H454 -> 11/10 | P8: OOCL
A9: ● | B9: =トータル!A455 -> OOCL ZHOUSHAN | F9: =トータル!B455 -> 300S | H9: =トータル!C455 -> 11/05-05 | J9: =トータル!E455 -> 11/02 | L9: =トータル!G455 -> 10/30 | N9: =トータル!H455 -> 11/17 | P9: OOCL
B10: =トータル!A456 -> OOCL NEW ZEALAND | F10: =トータル!B456 -> 172S | H10: =トータル!C456 -> 11/12-12 | J10: =トータル!E456 -> 11/10 | L10: =トータル!G456 -> 11/09 | N10: =トータル!H456 -> 11/24 | P10: OOCL | S10: 【留意点のご説明】－－－－－－－－－－－－－－－－－－－－－－－ ● 祝日の為、CUT日が変更（前倒し）されております。ご注意ください。 ● 該当本船は、NO SERVICEとなります。 ● 本船名、VOY №等が変更されております。ご注意ください。
B11: =トータル!A457 -> PHEN BASIN | F11: =トータル!B457 -> 135S | H11: =トータル!C457 -> 11/19-19 | J11: =トータル!E457 -> 11/17 | L11: =トータル!G457 -> 11/16 | N11: =トータル!H457 -> 12/01 | P11: OOCL
A12: ● | B12: =トータル!A458 -> VANCOUVER | F12: =トータル!B458 -> 061S | H12: =トータル!C458 -> 11/26-26 | J12: =トータル!E458 -> 11/24 | L12: =トータル!G458 -> 11/20 | N12: =トータル!H458 -> 12/08 | P12: OOCL
B13: =トータル!A459 -> OOCL ZHOUSHAN | F13: =トータル!B459 -> 301S | H13: =トータル!C459 -> 12/03-03 | J13: =トータル!E459 -> 12/01 | L13: =トータル!G459 -> 11/30 | N13: =トータル!H459 -> 12/15 | P13: OOCL
B14: =トータル!A460 -> OOCL NEW ZEALAND | F14: =トータル!B460 -> 173S | H14: =トータル!C460 -> 12/10-10 | J14: =トータル!E460 -> 12/08 | L14: =トータル!G460 -> 12/07 | N14: =トータル!H460 -> 12/22 | P14: OOCL
B15: =トータル!A461 -> PHEN BASIN | F15: =トータル!B461 -> 136S | H15: =トータル!C461 -> 12/17-17 | J15: =トータル!E461 -> 12/15 | L15: =トータル!G461 -> 12/14 | N15: =トータル!H461 -> 12/29 | P15: OOCL
A17: - 大 阪 貨 物 搬 入 先 - | P17: - 神 戸 貨 物 搬 入 先 -
A18: 丸山物流株式会社 Q-2営業所 〒559-0033 大阪市住之江区南港中6-7-35 TEL 06-6115-8811/FAX 06-6614-1655 ※『気付 オーシャンリンクス』ご記載要 NACCS NO 4IDD2 担当 黒川様/山下様 DOCK送付先 ①搬入倉庫送信先 osu-q2@yosun.co.jp ②B/L作成部署送付先 docs@oceanlinks.co.jp ACL 船会社コード：OCL1（オーシーエルイチ） ACL 通知先コード：4AOCL(ヨンエーオーシーエル） ACL 通知先コード：4CMAR（ヨンシーエムエーアール） | P18: 上組神戸多目的物流センター（KMDC） 〒650-0045 神戸市中央区港島8-14 TEL078-306-3904/FAX 078-306-3922 ※『気付 オーシャンリンクス』ご記載要 NACCS NO 3FW50 担当 奥田様 DOCK送付先 ①搬入倉庫送信先 kmdc_cfs_exp@kamigumi.co.jp ②B/L作成部署送付先 docs@oceanlinks.co.jp ACL 船会社コード：OCL1（オーシーエルイチ） ACL 通知先コード：4AOCL(ヨンエーオーシーエル） ACL 通知先コード：3OKAM（サンオーケーエーエム）
A29: 大阪本社 TEL (06) 6263-5923 / FAX (06) 6263-6104
A30: 東京支店 TEL (03) 5543-2361 / FAX (03) 5543-2363
A31: 横浜営業所 TEL (045) 323-9875 / FAX (045) 323-9876

Sheet 22.MNL
A1: OCEAN LINKS SAILING-SCHEDULE >>> 関西積み
S2: =TODAY() -> 46304
A3: 22.フィリピン マニラ （ MANILA NORTH ） LCL
A4: 留意点 | B4: VESSEL | F4: VOY.NO. | H4: KOBE ETD | J4: KOBE CUT | L4: OSAKA CUT | N4: MNL ETA | P4: CARRIER | S4: 【重要】 BOOKINGご用命時､必ずご一読ください｡
A5: ● | B5: =トータル!A463 -> ACX CRYSTAL | F5: =トータル!B463 -> 0333S | H5: =トータル!C463 -> 10/15-15 | J5: =トータル!E463 -> 10/13 | L5: =トータル!G463 -> 10/09 | N5: =トータル!H463 -> 10/21 | P5: ONE
A6: ● | B6: =トータル!A464 -> NO SERVICE | F6: =トータル!B464 -> --- | H6: =トータル!C464 -> 10/16-17 | J6: =トータル!E464 -> 10/14 | L6: =トータル!G464 -> 10/13 | N6: =トータル!H464 -> 10/22 | P6: ONE
A7: ● | B7: =トータル!A465 -> ONE DANIELLA | F7: =トータル!B465 -> 0013S | H7: =トータル!C465 -> 10/30-31 | J7: =トータル!E465 -> 10/28 | L7: =トータル!G465 -> 10/27 | N7: =トータル!H465 -> 11/05 | P7: ONE | S7: 【推奨】 ONLINE BOOKINGをご活用ください。 ※BOOKING №を即時 発番可能です。
A8: ●● | B8: =トータル!A466 -> ACX CRYSTAL | F8: =トータル!B466 -> 0334S | H8: =トータル!C466 -> 11/06-07 | J8: =トータル!E466 -> 11/04 | L8: =トータル!G466 -> 11/02 | N8: =トータル!H466 -> 11/12 | P8: ONE
A9: ● | B9: =トータル!A467 -> ERASMUS NINJA | F9: =トータル!B467 -> 0020S | H9: =トータル!C467 -> 11/13-14 | J9: =トータル!E467 -> 11/11 | L9: =トータル!G467 -> 11/10 | N9: =トータル!H467 -> 11/19 | P9: ONE
A10: ● | B10: =トータル!A468 -> ONE DANIELLA | F10: =トータル!B468 -> 0014S | H10: =トータル!C468 -> 11/20-21 | J10: =トータル!E468 -> 11/18 | L10: =トータル!G468 -> 11/17 | N10: =トータル!H468 -> 11/26 | P10: ONE
A11: ● | B11: =トータル!A469 -> ACX CRYSTAL | F11: =トータル!B469 -> 0335S | H11: =トータル!C469 -> 11/27-28 | J11: =トータル!E469 -> 11/25 | L11: =トータル!G469 -> 11/24 | N11: =トータル!H469 -> 12/03 | P11: ONE | S11: 【留意点のご説明】－－－－－－－－－－－－－－－－－－－－－－－ ● 祝日の為、CUT日が変更（前倒し）されております。ご注意ください。 ● 該当本船は、NO SERVICEとなります。 ● 本船名、VOY №等が変更されております。ご注意ください。
A12: ● | B12: =トータル!A470 -> ERASMUS NINJA | F12: =トータル!B470 -> 0021S | H12: =トータル!C470 -> 12/04-05 | J12: =トータル!E470 -> 12/02 | L12: =トータル!G470 -> 12/01 | N12: =トータル!H470 -> 12/10 | P12: ONE
B13: =トータル!A471 -> ONE DANIELLA | F13: =トータル!B471 -> 0015S | H13: =トータル!C471 -> 12/11-12 | J13: =トータル!E471 -> 12/09 | L13: =トータル!G471 -> 12/08 | N13: =トータル!H471 -> 12/17 | P13: ONE
B14: =トータル!A472 -> ACX CRYSTAL | F14: =トータル!B472 -> 0336S | H14: =トータル!C472 -> 12/18-19 | J14: =トータル!E472 -> 12/16 | L14: =トータル!G472 -> 12/15 | N14: =トータル!H472 -> 12/24 | P14: ONE
B15: =トータル!A473 -> ERASMUS NINJA | F15: =トータル!B473 -> 0022S | H15: =トータル!C473 -> 12/25-26 | J15: =トータル!E473 -> 12/23 | L15: =トータル!G473 -> 12/22 | N15: =トータル!H473 -> 12/31 | P15: ONE
B16: =トータル!A474 -> 0 | F16: =トータル!B474 -> 0 | H16: =トータル!C474 -> 0 | J16: =トータル!E474 -> 0 | L16: =トータル!G474 -> 0 | N16: =トータル!H474 -> 0 | P16: ONE
A20: - 大 阪 貨 物 搬 入 先 - | P20: - 神 戸 貨 物 搬 入 先 -
A21: 丸山物流株式会社 Q-2営業所 〒559-0033 大阪市住之江区南港中6-7-35 TEL 06-6115-8811/FAX 06-6614-1655 ※『気付 オーシャンリンクス』ご記載要 NACCS NO 4IDD2 担当 黒川様/山下様 DOCK送付先 ①搬入倉庫送信先 osu-q2@yosun.co.jp ②B/L作成部署送付先 docs@oceanlinks.co.jp ACL 船会社コード：OCL1（オーシーエルイチ） ACL 通知先コード：4AOCL(ヨンエーオーシーエル） ACL 通知先コード：4CMAR（ヨンシーエムエーアール） | P21: 上組神戸多目的物流センター（KMDC） 〒650-0045 神戸市中央区港島8-14 TEL078-306-3904/FAX 078-306-3922 ※『気付 オーシャンリンクス』ご記載要 NACCS NO 3FW50 担当 奥田様 DOCK送付先 ①搬入倉庫送信先 kmdc_cfs_exp@kamigumi.co.jp ②B/L作成部署送付先 docs@oceanlinks.co.jp ACL 船会社コード：OCL1（オーシーエルイチ） ACL 通知先コード：4AOCL(ヨンエーオーシーエル） ACL 通知先コード：3OKAM（サンオーケーエーエム）
A32: 大阪本社 TEL (06) 6263-5923 / FAX (06) 6263-6104
A33: 東京支店 TEL (03) 5543-2361 / FAX (03) 5543-2363
A34: 横浜営業所 TEL (045) 323-9875 / FAX (045) 323-9876
